BEGIN:VCALENDAR
VERSION:2.0
PRODID:-//yssl.org//NONSGML kigkonsult.se iCalcreator 2.41.92//
CALSCALE:GREGORIAN
METHOD:PUBLISH
UID:37353764-3933-4663-a162-613538343631
X-WR-CALNAME:YSSL Calendar
X-WR-CALDESC:YSSL Calendar
X-WR-TIMEZONE:America/Chicago
BEGIN:VEVENT
UID:65343433-6137-4666-b332-373036613665
DTSTAMP:20260426T001246Z
CLASS:PUBLIC
DESCRIPTION:YSSL 13U/4E Game
DTSTART;TZID=America/Chicago:20260412T180000
DTEND;TZID=America/Chicago:20260412T180000
LOCATION:ACKERMAN PARK - FIELD #2 (11V11)
SUMMARY:Game: 13U/4E LAKERS FC 13/14 PREMIER GREEN vs FC STARS 2013B SELECT
TRANSP:OPAQUE
END:VEVENT
BEGIN:VEVENT
UID:61386563-6635-4564-b364-353531336130
DTSTAMP:20260426T001246Z
CLASS:PUBLIC
DESCRIPTION:YSSL 13U/4E Game
DTSTART;TZID=America/Chicago:20260607T193000
DTEND;TZID=America/Chicago:20260607T193000
LOCATION:ACKERMAN PARK - TURF (11V11)
SUMMARY:Game: 13U/4E LAKERS FC 13/14 PREMIER GREEN vs OLYMPIACOS 2013/2014 
 ELITE
TRANSP:OPAQUE
END:VEVENT
BEGIN:VEVENT
UID:63343064-3733-4639-b465-613332333264
DTSTAMP:20260426T001246Z
CLASS:PUBLIC
DESCRIPTION:YSSL 13U/4E Game
DTSTART;TZID=America/Chicago:20260614T153000
DTEND;TZID=America/Chicago:20260614T153000
LOCATION:WOODLAND PARK - SW
SUMMARY:Game: 13U/4E PRSC 2013 SILVER I vs LAKERS FC 13/14 PREMIER GREEN
TRANSP:OPAQUE
END:VEVENT
BEGIN:VEVENT
UID:64343563-6563-4434-b063-616539666632
DTSTAMP:20260426T001246Z
CLASS:PUBLIC
DESCRIPTION:YSSL 13U/4E Game
DTSTART;TZID=America/Chicago:20260613T153000
DTEND;TZID=America/Chicago:20260613T153000
LOCATION:ACKERMAN PARK - TURF
SUMMARY:Game: 13U/4E LAKERS FC 13/14 PREMIER GREEN vs NORRIDGE UNITED 2013 
 PREMIER
TRANSP:OPAQUE
END:VEVENT
BEGIN:VEVENT
UID:38393938-3335-4933-a235-666633633062
DTSTAMP:20260426T001246Z
CLASS:PUBLIC
DESCRIPTION:YSSL 13U/4E Game
DTSTART;TZID=America/Chicago:20260510T080000
DTEND;TZID=America/Chicago:20260510T080000
LOCATION:GOLF MIDDLE SCHOOL
SUMMARY:Game: 13U/4E IP-SKOMOR 2013 SELECT vs LAKERS FC 13/14 PREMIER GREEN
TRANSP:OPAQUE
END:VEVENT
BEGIN:VEVENT
UID:64323533-3333-4861-a235-643638353233
DTSTAMP:20260426T001246Z
CLASS:PUBLIC
DESCRIPTION:YSSL 13U/4E Game
DTSTART;TZID=America/Chicago:20260531T103000
DTEND;TZID=America/Chicago:20260531T103000
LOCATION:REDMOND PARK
SUMMARY:Game: 13U/4E CHICAGO CELTIC SC 2013 WHITE vs LAKERS FC 13/14 PREMIE
 R GREEN
TRANSP:OPAQUE
END:VEVENT
BEGIN:VEVENT
UID:34663435-6430-4139-b839-323936313038
DTSTAMP:20260426T001246Z
CLASS:PUBLIC
DESCRIPTION:YSSL 13U/4E Game
DTSTART;TZID=America/Chicago:20260606T183000
DTEND;TZID=America/Chicago:20260606T183000
LOCATION:ACKERMAN PARK - FIELD #2 (11V11)
SUMMARY:Game: 13U/4E LAKERS FC 13/14 PREMIER GREEN vs FC MIRAGE 2013 BLACK
TRANSP:OPAQUE
END:VEVENT
BEGIN:VEVENT
UID:62396138-3463-4435-b062-366566353632
DTSTAMP:20260426T001246Z
CLASS:PUBLIC
DESCRIPTION:YSSL 13U/4E Game
DTSTART;TZID=America/Chicago:20260426T133000
DTEND;TZID=America/Chicago:20260426T133000
LOCATION:ACKERMAN PARK - TURF (11V11)
SUMMARY:Game: 13U/4E LAKERS FC 13/14 PREMIER GREEN vs CFA- JAHBAT FC B2014 
 GREEN
TRANSP:OPAQUE
END:VEVENT
END:VCALENDAR
