BEGIN:VCALENDAR
VERSION:2.0
PRODID:-//yssl.org//NONSGML kigkonsult.se iCalcreator 2.41.92//
CALSCALE:GREGORIAN
METHOD:PUBLISH
UID:62623539-3038-4938-a261-313230336631
X-WR-CALNAME:YSSL Calendar
X-WR-CALDESC:YSSL Calendar
X-WR-TIMEZONE:America/Chicago
BEGIN:VEVENT
UID:37656262-6537-4766-a135-653130353131
DTSTAMP:20260426T001316Z
CLASS:PUBLIC
DESCRIPTION:YSSL 12U/4W Game
DTSTART;TZID=America/Chicago:20260412T150000
DTEND;TZID=America/Chicago:20260412T150000
LOCATION:ELGIN SPORTS COMPLEX - 8
SUMMARY:Game: 12U/4W CHICAGO CITY PUMAS 2014 vs DPSAL 2014
TRANSP:OPAQUE
END:VEVENT
BEGIN:VEVENT
UID:34363763-3733-4435-a531-313735313733
DTSTAMP:20260426T001316Z
CLASS:PUBLIC
DESCRIPTION:YSSL 12U/4W Game
DTSTART;TZID=America/Chicago:20260419T150000
DTEND;TZID=America/Chicago:20260419T150000
LOCATION:JAMES O BREEN COMMUNITY PARK - 6
SUMMARY:Game: 12U/4W TCSA 2014 ENERGY CITY vs CHICAGO CITY PUMAS 2014
TRANSP:OPAQUE
END:VEVENT
BEGIN:VEVENT
UID:32313830-3864-4166-b333-313864633036
DTSTAMP:20260426T001316Z
CLASS:PUBLIC
DESCRIPTION:YSSL 12U/4W Game
DTSTART;TZID=America/Chicago:20260426T160000
DTEND;TZID=America/Chicago:20260426T160000
LOCATION:ELGIN SPORTS COMPLEX - 8
SUMMARY:Game: 12U/4W CHICAGO CITY PUMAS 2014 vs TCSA 2014 ENERGY CITY
TRANSP:OPAQUE
END:VEVENT
BEGIN:VEVENT
UID:34326530-6566-4631-b434-393838356234
DTSTAMP:20260426T001316Z
CLASS:PUBLIC
DESCRIPTION:YSSL 12U/4W Game
DTSTART;TZID=America/Chicago:20260502T150000
DTEND;TZID=America/Chicago:20260502T150000
LOCATION:ELGIN SPORTS COMPLEX
SUMMARY:Game: 12U/4W CHICAGO CITY PUMAS 2014 vs ECLIPSE 2014 SOLAR DARIEN B
 OYS
TRANSP:OPAQUE
END:VEVENT
BEGIN:VEVENT
UID:65643864-6430-4262-a136-653265303730
DTSTAMP:20260426T001316Z
CLASS:PUBLIC
DESCRIPTION:YSSL 12U/4W Game
DTSTART;TZID=America/Chicago:20260510T150000
DTEND;TZID=America/Chicago:20260510T150000
LOCATION:ELGIN SPORTS COMPLEX - 9V9
SUMMARY:Game: 12U/4W CHICAGO CITY PUMAS 2014 vs CHICAGO INTER SYNERGY 2014 
 GREEN
TRANSP:OPAQUE
END:VEVENT
BEGIN:VEVENT
UID:33626564-3461-4166-a133-353563396361
DTSTAMP:20260426T001316Z
CLASS:PUBLIC
DESCRIPTION:YSSL 12U/4W Game
DTSTART;TZID=America/Chicago:20260517T150000
DTEND;TZID=America/Chicago:20260517T150000
LOCATION:ELGIN SPORTS COMPLEX - 9V9
SUMMARY:Game: 12U/4W CHICAGO CITY PUMAS 2014 vs GALAXY 2014 WEST BLUE
TRANSP:OPAQUE
END:VEVENT
BEGIN:VEVENT
UID:61343431-3566-4361-a366-366264663535
DTSTAMP:20260426T001316Z
CLASS:PUBLIC
DESCRIPTION:YSSL 12U/4W Game
DTSTART;TZID=America/Chicago:20260530T100000
DTEND;TZID=America/Chicago:20260530T100000
LOCATION:COMMUNITY PARK (ADDISON)
SUMMARY:Game: 12U/4W DPSAL 2014 vs CHICAGO CITY PUMAS 2014
TRANSP:OPAQUE
END:VEVENT
BEGIN:VEVENT
UID:36313635-6233-4535-b361-353134623464
DTSTAMP:20260426T001316Z
CLASS:PUBLIC
DESCRIPTION:YSSL 12U/4W Game
DTSTART;TZID=America/Chicago:20260607T120000
DTEND;TZID=America/Chicago:20260607T120000
LOCATION:SPORT STUART COMPLEX - 52
SUMMARY:Game: 12U/4W GALAXY 2014 WEST BLUE vs CHICAGO CITY PUMAS 2014
TRANSP:OPAQUE
END:VEVENT
END:VCALENDAR
