BEGIN:VCALENDAR
VERSION:2.0
PRODID:-//yssl.org//NONSGML kigkonsult.se iCalcreator 2.41.92//
CALSCALE:GREGORIAN
METHOD:PUBLISH
UID:31303965-3464-4665-a363-613137326666
X-WR-CALNAME:YSSL Calendar
X-WR-CALDESC:YSSL Calendar
X-WR-TIMEZONE:America/Chicago
BEGIN:VEVENT
UID:63356164-6236-4361-b761-363762356238
DTSTAMP:20260425T141526Z
CLASS:PUBLIC
DESCRIPTION:YSSL 19U/3S Game
DTSTART;TZID=America/Chicago:20260411T143000
DTEND;TZID=America/Chicago:20260411T143000
LOCATION:KCSA SOCCER FIELDS - 1
SUMMARY:Game: 19U/3S CHICAGO CITY KANKAKEE vs CHICAGO EDGE B2007/08
TRANSP:OPAQUE
END:VEVENT
BEGIN:VEVENT
UID:30343932-3566-4334-a639-396464366665
DTSTAMP:20260425T141526Z
CLASS:PUBLIC
DESCRIPTION:YSSL 19U/3S Game
DTSTART;TZID=America/Chicago:20260515T190000
DTEND;TZID=America/Chicago:20260515T190000
LOCATION:COAL CITY HIGH SCHOOL - TURF
SUMMARY:Game: 19U/3S MORRIS UNITED 2007 PREMIER vs CHICAGO CITY KANKAKEE
TRANSP:OPAQUE
END:VEVENT
BEGIN:VEVENT
UID:39633331-3566-4132-b064-373033313133
DTSTAMP:20260425T141526Z
CLASS:PUBLIC
DESCRIPTION:YSSL 19U/3S Game
DTSTART;TZID=America/Chicago:20260424T193000
DTEND;TZID=America/Chicago:20260424T193000
LOCATION:JP SPORTS COMPLEX
SUMMARY:Game: 19U/3S CHICAGO CITY KANKAKEE vs MORRIS UNITED 2007 PREMIER
TRANSP:OPAQUE
END:VEVENT
BEGIN:VEVENT
UID:62616138-3462-4563-b166-613437366562
DTSTAMP:20260425T141526Z
CLASS:PUBLIC
DESCRIPTION:YSSL 19U/3S Game
DTSTART;TZID=America/Chicago:20260509T090000
DTEND;TZID=America/Chicago:20260509T090000
LOCATION:CAESAR PARK - 11V11
SUMMARY:Game: 19U/3S CHICAGO EMPIRE FC SOUTH HSB II vs CHICAGO CITY KANKAKE
 E
TRANSP:OPAQUE
END:VEVENT
BEGIN:VEVENT
UID:65666165-6466-4534-b961-396164633864
DTSTAMP:20260425T141526Z
CLASS:PUBLIC
DESCRIPTION:YSSL 19U/3S Game
DTSTART;TZID=America/Chicago:20260510T140000
DTEND;TZID=America/Chicago:20260510T140000
LOCATION:KCSA SOCCER FIELDS - 1
SUMMARY:Game: 19U/3S CHICAGO CITY KANKAKEE vs RUSH WEST 2007/2008 PREMIER
TRANSP:OPAQUE
END:VEVENT
BEGIN:VEVENT
UID:32363634-6563-4135-b530-653662363466
DTSTAMP:20260425T141526Z
CLASS:PUBLIC
DESCRIPTION:YSSL 19U/3S Game
DTSTART;TZID=America/Chicago:20260517T080000
DTEND;TZID=America/Chicago:20260517T080000
LOCATION:KCSA SOCCER FIELDS - 1
SUMMARY:Game: 19U/3S CHICAGO CITY KANKAKEE vs JAKE'S STARS FC 2007 BOYS BLA
 CK
TRANSP:OPAQUE
END:VEVENT
BEGIN:VEVENT
UID:35336231-3865-4465-a465-666264666232
DTSTAMP:20260425T141526Z
CLASS:PUBLIC
DESCRIPTION:YSSL 19U/3S Game
DTSTART;TZID=America/Chicago:20260502T133000
DTEND;TZID=America/Chicago:20260502T133000
LOCATION:CONCORDIA UNIVERSITY CHICAGO
SUMMARY:Game: 19U/3S CHICAGO EDGE B2007/08 vs CHICAGO CITY KANKAKEE
TRANSP:OPAQUE
END:VEVENT
BEGIN:VEVENT
UID:36643137-6236-4634-b561-626364666431
DTSTAMP:20260425T141526Z
CLASS:PUBLIC
DESCRIPTION:YSSL 19U/3S Game
DTSTART;TZID=America/Chicago:20260607T130000
DTEND;TZID=America/Chicago:20260607T130000
LOCATION:KENNEDY MIDDLE SCHOOL
SUMMARY:Game: 19U/3S JAKE'S STARS FC 2007 BOYS BLACK vs CHICAGO CITY KANKAK
 EE
TRANSP:OPAQUE
END:VEVENT
END:VCALENDAR
