BEGIN:VCALENDAR
VERSION:2.0
PRODID:-//yssl.org//NONSGML kigkonsult.se iCalcreator 2.41.92//
CALSCALE:GREGORIAN
METHOD:PUBLISH
UID:30653165-6531-4039-b035-626566633035
X-WR-CALNAME:YSSL Calendar
X-WR-CALDESC:YSSL Calendar
X-WR-TIMEZONE:America/Chicago
BEGIN:VEVENT
UID:32623238-3236-4639-b438-653663333664
DTSTAMP:20260425T141556Z
CLASS:PUBLIC
DESCRIPTION:YSSL 16U/2S Game
DTSTART;TZID=America/Chicago:20260502T110000
DTEND;TZID=America/Chicago:20260502T110000
LOCATION:CENTENNIAL PARK (ORLAND PARK)
SUMMARY:Game: 16U/2S CHICAGO CITY 2010/2011 SOUTH vs JAKE'S STARS FC 2010 B
 OYS BLACK
TRANSP:OPAQUE
END:VEVENT
BEGIN:VEVENT
UID:32633433-3665-4536-a331-636338336335
DTSTAMP:20260425T141556Z
CLASS:PUBLIC
DESCRIPTION:YSSL 16U/2S Game
DTSTART;TZID=America/Chicago:20260613T100000
DTEND;TZID=America/Chicago:20260613T100000
LOCATION:JAMES O BREEN COMMUNITY PARK - 18
SUMMARY:Game: 16U/2S CAMPTON UNITED 2010 RED vs CHICAGO CITY 2010/2011 SOUT
 H
TRANSP:OPAQUE
END:VEVENT
BEGIN:VEVENT
UID:33316461-6333-4162-a166-663463626537
DTSTAMP:20260425T141556Z
CLASS:PUBLIC
DESCRIPTION:YSSL 16U/2S Game
DTSTART;TZID=America/Chicago:20260426T130000
DTEND;TZID=America/Chicago:20260426T130000
LOCATION:CENTENNIAL PARK (ORLAND PARK) - #4
SUMMARY:Game: 16U/2S CHICAGO CITY 2010/2011 SOUTH vs NWI LIONS UNITED 2010 
 YELLOW
TRANSP:OPAQUE
END:VEVENT
BEGIN:VEVENT
UID:39323964-3438-4533-a364-313463393334
DTSTAMP:20260425T141556Z
CLASS:PUBLIC
DESCRIPTION:YSSL 16U/2S Game
DTSTART;TZID=America/Chicago:20260503T110000
DTEND;TZID=America/Chicago:20260503T110000
LOCATION:SCHUSSLER PARK
SUMMARY:Game: 16U/2S CHICAGO CITY 2010/2011 SOUTH vs AYSO 300 UNITED 2011/1
 0 BLUE
TRANSP:OPAQUE
END:VEVENT
BEGIN:VEVENT
UID:63303162-3338-4361-b463-306266376233
DTSTAMP:20260425T141556Z
CLASS:PUBLIC
DESCRIPTION:YSSL 16U/2S Game
DTSTART;TZID=America/Chicago:20260510T190000
DTEND;TZID=America/Chicago:20260510T190000
LOCATION:SCHUSSLER PARK
SUMMARY:Game: 16U/2S CHICAGO CITY 2010/2011 SOUTH vs UESC - BSC RAIDERS 201
 0 BLACK
TRANSP:OPAQUE
END:VEVENT
BEGIN:VEVENT
UID:30363263-3933-4632-b633-306362303736
DTSTAMP:20260425T141556Z
CLASS:PUBLIC
DESCRIPTION:YSSL 16U/2S Game
DTSTART;TZID=America/Chicago:20260517T110000
DTEND;TZID=America/Chicago:20260517T110000
LOCATION:BOTT PARK - FIELD 1
SUMMARY:Game: 16U/2S UESC - PLAINFIELD UTD 2010 PREMIER II vs CHICAGO CITY 
 2010/2011 SOUTH
TRANSP:OPAQUE
END:VEVENT
BEGIN:VEVENT
UID:65376137-3965-4266-a363-386264326237
DTSTAMP:20260425T141556Z
CLASS:PUBLIC
DESCRIPTION:YSSL 16U/2S Game
DTSTART;TZID=America/Chicago:20260531T160000
DTEND;TZID=America/Chicago:20260531T160000
LOCATION:LYONS TOWNSHIP HS NORTH CAMPUS - 11V11
SUMMARY:Game: 16U/2S LTSC 2010 HS SHOWCASE vs CHICAGO CITY 2010/2011 SOUTH
TRANSP:OPAQUE
END:VEVENT
BEGIN:VEVENT
UID:64303933-6539-4365-a138-313835636165
DTSTAMP:20260425T141556Z
CLASS:PUBLIC
DESCRIPTION:YSSL 16U/2S Game
DTSTART;TZID=America/Chicago:20260607T080000
DTEND;TZID=America/Chicago:20260607T080000
LOCATION:NWI CHESTERTON SOCCER FIELDS - 11V11 - FIELD #1
SUMMARY:Game: 16U/2S NWI LIONS UNITED 2010 YELLOW vs CHICAGO CITY 2010/2011
  SOUTH
TRANSP:OPAQUE
END:VEVENT
END:VCALENDAR
