BEGIN:VCALENDAR
VERSION:2.0
PRODID:-//yssl.org//NONSGML kigkonsult.se iCalcreator 2.41.92//
CALSCALE:GREGORIAN
METHOD:PUBLISH
UID:35656132-6535-4238-b937-336536313239
X-WR-CALNAME:YSSL Calendar
X-WR-CALDESC:YSSL Calendar
X-WR-TIMEZONE:America/Chicago
BEGIN:VEVENT
UID:33656333-3961-4139-b963-363037666135
DTSTAMP:20260425T155151Z
CLASS:PUBLIC
DESCRIPTION:YSSL 9U/5E Game
DTSTART;TZID=America/Chicago:20260426T153000
DTEND;TZID=America/Chicago:20260426T153000
LOCATION:NORRIDGE PARK
SUMMARY:Game: 9U/5E NORRIDGE UNITED 2017 SELECT vs CHICAGO CITY 2017/18 - C
 ROATIA SC
TRANSP:OPAQUE
END:VEVENT
BEGIN:VEVENT
UID:31613331-6234-4931-a566-306265376533
DTSTAMP:20260425T155151Z
CLASS:PUBLIC
DESCRIPTION:YSSL 9U/5E Game
DTSTART;TZID=America/Chicago:20260517T153000
DTEND;TZID=America/Chicago:20260517T153000
LOCATION:JAMES PARK - FIELD 8
SUMMARY:Game: 9U/5E PSG 2017 EVANSTON & NORTHSHORE vs CHICAGO CITY 2017/18 
 - CROATIA SC
TRANSP:OPAQUE
END:VEVENT
BEGIN:VEVENT
UID:32376539-3564-4138-a566-386161633263
DTSTAMP:20260425T155151Z
CLASS:PUBLIC
DESCRIPTION:YSSL 9U/5E Game
DTSTART;TZID=America/Chicago:20260425T090000
DTEND;TZID=America/Chicago:20260425T090000
LOCATION:FOX MEADOW - 7V7- EAST FIELD
SUMMARY:Game: 9U/5E TREVIAN 2017 GRAY PREDATOR vs CHICAGO CITY 2017/18 - CR
 OATIA SC
TRANSP:OPAQUE
END:VEVENT
BEGIN:VEVENT
UID:62623864-3361-4134-a433-366466643332
DTSTAMP:20260425T155151Z
CLASS:PUBLIC
DESCRIPTION:YSSL 9U/5E Game
DTSTART;TZID=America/Chicago:20260502T083000
DTEND;TZID=America/Chicago:20260502T083000
LOCATION:CHANNELSIDE
SUMMARY:Game: 9U/5E CHICAGO CITY 2017/18 - CROATIA SC vs IP-SKOMOR 2017 PRE
 MIER
TRANSP:OPAQUE
END:VEVENT
BEGIN:VEVENT
UID:64386530-3162-4632-b238-356634636265
DTSTAMP:20260425T155151Z
CLASS:PUBLIC
DESCRIPTION:YSSL 9U/5E Game
DTSTART;TZID=America/Chicago:20260531T120000
DTEND;TZID=America/Chicago:20260531T120000
LOCATION:EVANSTON TOWNSHIP HIGH SCHOOL  - 7V7 GRASS FIELD
SUMMARY:Game: 9U/5E CFA-JAHBAT B2017 YELLOW vs CHICAGO CITY 2017/18 - CROAT
 IA SC
TRANSP:OPAQUE
END:VEVENT
BEGIN:VEVENT
UID:65653361-3333-4661-a335-646161396365
DTSTAMP:20260425T155151Z
CLASS:PUBLIC
DESCRIPTION:YSSL 9U/5E Game
DTSTART;TZID=America/Chicago:20260419T080000
DTEND;TZID=America/Chicago:20260419T080000
LOCATION:EMERSON MIDDLE SCHOOL  - NC
SUMMARY:Game: 9U/5E PRSC 2017 BLUE vs CHICAGO CITY 2017/18 - CROATIA SC
TRANSP:OPAQUE
END:VEVENT
BEGIN:VEVENT
UID:63636631-3334-4831-a532-663363656536
DTSTAMP:20260425T155151Z
CLASS:PUBLIC
DESCRIPTION:YSSL 9U/5E Game
DTSTART;TZID=America/Chicago:20260606T120000
DTEND;TZID=America/Chicago:20260606T120000
LOCATION:ROGERS PARK  - 2
SUMMARY:Game: 9U/5E CHICAGO CITY 2017/18 - CROATIA SC vs IPROSKILLS 2017 BL
 ACK
TRANSP:OPAQUE
END:VEVENT
BEGIN:VEVENT
UID:64633731-3431-4335-a465-383330663036
DTSTAMP:20260425T155151Z
CLASS:PUBLIC
DESCRIPTION:YSSL 9U/5E Game
DTSTART;TZID=America/Chicago:20260613T080000
DTEND;TZID=America/Chicago:20260613T080000
LOCATION:CHANNELSIDE  - FIELD 2
SUMMARY:Game: 9U/5E LAMASSU SC 2017 vs CHICAGO CITY 2017/18 - CROATIA SC
TRANSP:OPAQUE
END:VEVENT
END:VCALENDAR
