BEGIN:VCALENDAR
VERSION:2.0
PRODID:-//yssl.org//NONSGML kigkonsult.se iCalcreator 2.41.92//
CALSCALE:GREGORIAN
METHOD:PUBLISH
UID:33323862-3861-4131-b535-323636666139
X-WR-CALNAME:YSSL Calendar
X-WR-CALDESC:YSSL Calendar
X-WR-TIMEZONE:America/Chicago
BEGIN:VEVENT
UID:34653630-3338-4631-a336-633230633365
DTSTAMP:20260425T171135Z
CLASS:PUBLIC
DESCRIPTION:YSSL 15U-SPRING/5NW Game
DTSTART;TZID=America/Chicago:20260418T150000
DTEND;TZID=America/Chicago:20260418T150000
LOCATION:SUNSET MEADOWS
SUMMARY:Game: 15U-SPRING/5NW IP-ARLINGTON ACES 2011 BLUE vs ROSCOE LIONS 20
 11
TRANSP:OPAQUE
END:VEVENT
BEGIN:VEVENT
UID:39363434-3636-4266-a133-623437386461
DTSTAMP:20260425T171135Z
CLASS:PUBLIC
DESCRIPTION:YSSL 15U-SPRING/5NW Game
DTSTART;TZID=America/Chicago:20260426T180000
DTEND;TZID=America/Chicago:20260426T180000
LOCATION:SPORTSCORE 2 &amp\; SPORTSCORE 1 (WTNG ON PD) - 231
SUMMARY:Game: 15U-SPRING/5NW ROCKFORD RAPTORS B2011 NAVY vs IP-ARLINGTON AC
 ES 2011 BLUE
TRANSP:OPAQUE
END:VEVENT
BEGIN:VEVENT
UID:38623764-3164-4239-a331-366538353730
DTSTAMP:20260425T171135Z
CLASS:PUBLIC
DESCRIPTION:YSSL 15U-SPRING/5NW Game
DTSTART;TZID=America/Chicago:20260502T153000
DTEND;TZID=America/Chicago:20260502T153000
LOCATION:ROUND LAKE AREA PARK DISTRICT (SPORTS CENTER)
SUMMARY:Game: 15U-SPRING/5NW REAL MADRID ROUND LAKE FC 2011 ELITE vs IP-ARL
 INGTON ACES 2011 BLUE
TRANSP:OPAQUE
END:VEVENT
BEGIN:VEVENT
UID:65323332-3661-4339-a361-393565383030
DTSTAMP:20260425T171135Z
CLASS:PUBLIC
DESCRIPTION:YSSL 15U-SPRING/5NW Game
DTSTART;TZID=America/Chicago:20260529T190000
DTEND;TZID=America/Chicago:20260529T190000
LOCATION:SUNSET MEADOWS
SUMMARY:Game: 15U-SPRING/5NW IP-ARLINGTON ACES 2011 BLUE vs HUSC TYPHOONS 2
 011/12
TRANSP:OPAQUE
END:VEVENT
BEGIN:VEVENT
UID:61613435-3363-4966-b761-623432653865
DTSTAMP:20260425T171135Z
CLASS:PUBLIC
DESCRIPTION:YSSL 15U-SPRING/5NW Game
DTSTART;TZID=America/Chicago:20260607T084500
DTEND;TZID=America/Chicago:20260607T084500
LOCATION:SOUTH BARRINGTON COMMUNITY PARK - SB 1 11V11
SUMMARY:Game: 15U-SPRING/5NW FCB 2011 BLACK vs IP-ARLINGTON ACES 2011 BLUE
TRANSP:OPAQUE
END:VEVENT
BEGIN:VEVENT
UID:32653634-6665-4464-b163-376338656336
DTSTAMP:20260425T171135Z
CLASS:PUBLIC
DESCRIPTION:YSSL 15U-SPRING/5NW Game
DTSTART;TZID=America/Chicago:20260530T150000
DTEND;TZID=America/Chicago:20260530T150000
LOCATION:SUNSET MEADOWS
SUMMARY:Game: 15U-SPRING/5NW IP-ARLINGTON ACES 2011 BLUE vs FORCE 2011B PRE
 MIER
TRANSP:OPAQUE
END:VEVENT
BEGIN:VEVENT
UID:31643131-3630-4739-b662-323735643061
DTSTAMP:20260425T171135Z
CLASS:PUBLIC
DESCRIPTION:YSSL 15U-SPRING/5NW Game
DTSTART;TZID=America/Chicago:20260606T180000
DTEND;TZID=America/Chicago:20260606T180000
LOCATION:SUNSET MEADOWS
SUMMARY:Game: 15U-SPRING/5NW IP-ARLINGTON ACES 2011 BLUE vs SHADOW PREMIER 
 FC 2011/12 GREEN
TRANSP:OPAQUE
END:VEVENT
BEGIN:VEVENT
UID:30323237-3466-4461-a436-323134333261
DTSTAMP:20260425T171135Z
CLASS:PUBLIC
DESCRIPTION:YSSL 15U-SPRING/5NW Game
DTSTART;TZID=America/Chicago:20260503T090000
DTEND;TZID=America/Chicago:20260503T090000
LOCATION:LAKE VILLA TOWNSHIP SOCCER COMPLEX  - FIELD E - 11V11
SUMMARY:Game: 15U-SPRING/5NW LASC 2010/11 SELECT vs IP-ARLINGTON ACES 2011 
 BLUE
TRANSP:OPAQUE
END:VEVENT
END:VCALENDAR
