BEGIN:VCALENDAR
VERSION:2.0
PRODID:-//yssl.org//NONSGML kigkonsult.se iCalcreator 2.41.92//
CALSCALE:GREGORIAN
METHOD:PUBLISH
UID:61646162-3937-4162-b536-316534316665
X-WR-CALNAME:YSSL Calendar
X-WR-CALDESC:YSSL Calendar
X-WR-TIMEZONE:America/Chicago
BEGIN:VEVENT
UID:30366263-3663-4730-b034-363663623665
DTSTAMP:20260426T001347Z
CLASS:PUBLIC
DESCRIPTION:YSSL 14U/3N Game
DTSTART;TZID=America/Chicago:20260419T160000
DTEND;TZID=America/Chicago:20260419T160000
LOCATION:PRAIRIE LAKES PK FLDS
SUMMARY:Game: 14U/3N HUSSARS UNITED 2012 vs IP-NUFC 2012 BLACK
TRANSP:OPAQUE
END:VEVENT
BEGIN:VEVENT
UID:62653636-3034-4831-b031-663731663239
DTSTAMP:20260426T001347Z
CLASS:PUBLIC
DESCRIPTION:YSSL 14U/3N Game
DTSTART;TZID=America/Chicago:20260425T150000
DTEND;TZID=America/Chicago:20260425T150000
LOCATION:HILLER PARK FIELD - FIELD #7 U13-U18
SUMMARY:Game: 14U/3N IP-NUFC 2012 BLACK vs LIBERTYVILLE FC 1974-2012A-SELEC
 T
TRANSP:OPAQUE
END:VEVENT
BEGIN:VEVENT
UID:32343061-6537-4238-b936-313665383337
DTSTAMP:20260426T001347Z
CLASS:PUBLIC
DESCRIPTION:YSSL 14U/3N Game
DTSTART;TZID=America/Chicago:20260502T103000
DTEND;TZID=America/Chicago:20260502T103000
LOCATION:COMMUNITY PARK WEST (GLENVIEW) - 1 - (11 V 11)
SUMMARY:Game: 14U/3N FC-1 ACADEMY 2012 SELECT BLUE vs IP-NUFC 2012 BLACK
TRANSP:OPAQUE
END:VEVENT
BEGIN:VEVENT
UID:36333831-3633-4163-a161-656335663836
DTSTAMP:20260426T001347Z
CLASS:PUBLIC
DESCRIPTION:YSSL 14U/3N Game
DTSTART;TZID=America/Chicago:20260613T100000
DTEND;TZID=America/Chicago:20260613T100000
LOCATION:HUNT CLUB PARK - HC 1
SUMMARY:Game: 14U/3N FC LAKE COUNTY 2012 SELECT vs IP-NUFC 2012 BLACK
TRANSP:OPAQUE
END:VEVENT
BEGIN:VEVENT
UID:38323533-6137-4362-a334-613465613565
DTSTAMP:20260426T001347Z
CLASS:PUBLIC
DESCRIPTION:YSSL 14U/3N Game
DTSTART;TZID=America/Chicago:20260418T090000
DTEND;TZID=America/Chicago:20260418T090000
LOCATION:SUNSET MEADOWS
SUMMARY:Game: 14U/3N IP-ARLINGTON ACES 2012 BLUE vs IP-NUFC 2012 BLACK
TRANSP:OPAQUE
END:VEVENT
BEGIN:VEVENT
UID:39323838-6461-4330-b231-376232313633
DTSTAMP:20260426T001347Z
CLASS:PUBLIC
DESCRIPTION:YSSL 14U/3N Game
DTSTART;TZID=America/Chicago:20260530T150000
DTEND;TZID=America/Chicago:20260530T150000
LOCATION:MCHENRY TOWNSHIP
SUMMARY:Game: 14U/3N IP-NUFC 2012 BLACK vs RUSH NORTH 2012 PREMIER
TRANSP:OPAQUE
END:VEVENT
BEGIN:VEVENT
UID:38663430-3635-4432-b531-313561373836
DTSTAMP:20260426T001347Z
CLASS:PUBLIC
DESCRIPTION:YSSL 14U/3N Game
DTSTART;TZID=America/Chicago:20260411T113000
DTEND;TZID=America/Chicago:20260411T113000
LOCATION:HILLER PARK FIELD
SUMMARY:Game: 14U/3N IP-NUFC 2012 BLACK vs TREBOL F.C.
TRANSP:OPAQUE
END:VEVENT
BEGIN:VEVENT
UID:34323862-6632-4364-a432-346139336262
DTSTAMP:20260426T001347Z
CLASS:PUBLIC
DESCRIPTION:YSSL 14U/3N Game
DTSTART;TZID=America/Chicago:20260515T180000
DTEND;TZID=America/Chicago:20260515T180000
LOCATION:MCHENRY TOWNSHIP
SUMMARY:Game: 14U/3N IP-NUFC 2012 BLACK vs CHICAGO MAGIC 2012 CUP
TRANSP:OPAQUE
END:VEVENT
END:VCALENDAR
