BEGIN:VCALENDAR
VERSION:2.0
PRODID:-//yssl.org//NONSGML kigkonsult.se iCalcreator 2.41.92//
CALSCALE:GREGORIAN
METHOD:PUBLISH
UID:66656333-6539-4330-a435-356565653338
X-WR-CALNAME:YSSL Calendar
X-WR-CALDESC:YSSL Calendar
X-WR-TIMEZONE:America/Chicago
BEGIN:VEVENT
UID:35396338-3636-4636-b139-383737333539
DTSTAMP:20260426T001416Z
CLASS:PUBLIC
DESCRIPTION:YSSL 13U/4E Game
DTSTART;TZID=America/Chicago:20260412T173000
DTEND;TZID=America/Chicago:20260412T173000
LOCATION:GOLF MIDDLE SCHOOL
SUMMARY:Game: 13U/4E IP-SKOMOR 2013 SELECT vs OLYMPIACOS 2013/2014 ELITE
TRANSP:OPAQUE
END:VEVENT
BEGIN:VEVENT
UID:63646165-3735-4665-b533-366135643165
DTSTAMP:20260426T001416Z
CLASS:PUBLIC
DESCRIPTION:YSSL 13U/4E Game
DTSTART;TZID=America/Chicago:20260419T113000
DTEND;TZID=America/Chicago:20260419T113000
LOCATION:RESURRECTION HIGH SCHOOL
SUMMARY:Game: 13U/4E CHICAGO CELTIC SC 2013 WHITE vs IP-SKOMOR 2013 SELECT
TRANSP:OPAQUE
END:VEVENT
BEGIN:VEVENT
UID:65363462-6432-4265-b034-396439393665
DTSTAMP:20260426T001416Z
CLASS:PUBLIC
DESCRIPTION:YSSL 13U/4E Game
DTSTART;TZID=America/Chicago:20260509T090000
DTEND;TZID=America/Chicago:20260509T090000
LOCATION:REDMOND PARK
SUMMARY:Game: 13U/4E NORRIDGE UNITED 2013 PREMIER vs IP-SKOMOR 2013 SELECT
TRANSP:OPAQUE
END:VEVENT
BEGIN:VEVENT
UID:37643135-3731-4135-b430-636266306636
DTSTAMP:20260426T001416Z
CLASS:PUBLIC
DESCRIPTION:YSSL 13U/4E Game
DTSTART;TZID=America/Chicago:20260510T080000
DTEND;TZID=America/Chicago:20260510T080000
LOCATION:GOLF MIDDLE SCHOOL
SUMMARY:Game: 13U/4E IP-SKOMOR 2013 SELECT vs LAKERS FC 13/14 PREMIER GREEN
TRANSP:OPAQUE
END:VEVENT
BEGIN:VEVENT
UID:61333938-3034-4963-a336-646636653733
DTSTAMP:20260426T001416Z
CLASS:PUBLIC
DESCRIPTION:YSSL 13U/4E Game
DTSTART;TZID=America/Chicago:20260613T120000
DTEND;TZID=America/Chicago:20260613T120000
LOCATION:WOODLAND PARK - SW
SUMMARY:Game: 13U/4E PRSC 2013 SILVER I vs IP-SKOMOR 2013 SELECT
TRANSP:OPAQUE
END:VEVENT
BEGIN:VEVENT
UID:38376132-3863-4462-b739-313564393434
DTSTAMP:20260426T001416Z
CLASS:PUBLIC
DESCRIPTION:YSSL 13U/4E Game
DTSTART;TZID=America/Chicago:20260607T170000
DTEND;TZID=America/Chicago:20260607T170000
LOCATION:GOLF MIDDLE SCHOOL
SUMMARY:Game: 13U/4E IP-SKOMOR 2013 SELECT vs CFA- JAHBAT FC B2014 GREEN
TRANSP:OPAQUE
END:VEVENT
BEGIN:VEVENT
UID:38323035-3639-4835-b131-616463633033
DTSTAMP:20260426T001416Z
CLASS:PUBLIC
DESCRIPTION:YSSL 13U/4E Game
DTSTART;TZID=America/Chicago:20260527T170000
DTEND;TZID=America/Chicago:20260527T170000
LOCATION:OLD ORCHARD SCHOOL - 1
SUMMARY:Game: 13U/4E IP-SKOMOR 2013 SELECT vs FC STARS 2013B SELECT
TRANSP:OPAQUE
END:VEVENT
BEGIN:VEVENT
UID:62376531-6266-4934-b539-313362633733
DTSTAMP:20260426T001416Z
CLASS:PUBLIC
DESCRIPTION:YSSL 13U/4E Game
DTSTART;TZID=America/Chicago:20260506T180000
DTEND;TZID=America/Chicago:20260506T180000
LOCATION:OLD ORCHARD SCHOOL
SUMMARY:Game: 13U/4E IP-SKOMOR 2013 SELECT vs FC MIRAGE 2013 BLACK
TRANSP:OPAQUE
END:VEVENT
END:VCALENDAR
