BEGIN:VCALENDAR
VERSION:2.0
PRODID:-//yssl.org//NONSGML kigkonsult.se iCalcreator 2.41.92//
CALSCALE:GREGORIAN
METHOD:PUBLISH
UID:31396631-3236-4334-b662-653563363737
X-WR-CALNAME:YSSL Calendar
X-WR-CALDESC:YSSL Calendar
X-WR-TIMEZONE:America/Chicago
BEGIN:VEVENT
UID:39373832-3035-4432-a433-343733613464
DTSTAMP:20260426T002533Z
CLASS:PUBLIC
DESCRIPTION:YSSL 11U/5CITY Game
DTSTART;TZID=America/Chicago:20260425T170000
DTEND;TZID=America/Chicago:20260425T170000
LOCATION:CRANE HIGH SCHOOL - USE FOR 9V9 GAMES ONLY
SUMMARY:Game: 11U/5CITY PSG ACADEMY CHICAGO 2015 WHITE vs FC STARS POWERSTR
 IKERS 2015B
TRANSP:OPAQUE
END:VEVENT
BEGIN:VEVENT
UID:34643436-3634-4135-b639-323961316236
DTSTAMP:20260426T002533Z
CLASS:PUBLIC
DESCRIPTION:YSSL 11U/5CITY Game
DTSTART;TZID=America/Chicago:20260418T150000
DTEND;TZID=America/Chicago:20260418T150000
LOCATION:UIC TURF FIELD EAST
SUMMARY:Game: 11U/5CITY NW 2015B PREMIER III vs FC STARS POWERSTRIKERS 2015
 B
TRANSP:OPAQUE
END:VEVENT
BEGIN:VEVENT
UID:38623764-6533-4561-b331-306534323036
DTSTAMP:20260426T002533Z
CLASS:PUBLIC
DESCRIPTION:YSSL 11U/5CITY Game
DTSTART;TZID=America/Chicago:20260426T143000
DTEND;TZID=America/Chicago:20260426T143000
LOCATION:NORTHEASTERN IL UNIVERSITY
SUMMARY:Game: 11U/5CITY FC STARS POWERSTRIKERS 2015B vs IPROSKILLS 2015 BLA
 CK
TRANSP:OPAQUE
END:VEVENT
BEGIN:VEVENT
UID:61373464-3533-4564-b235-383261373430
DTSTAMP:20260426T002533Z
CLASS:PUBLIC
DESCRIPTION:YSSL 11U/5CITY Game
DTSTART;TZID=America/Chicago:20260510T143000
DTEND;TZID=America/Chicago:20260510T143000
LOCATION:NORTHEASTERN IL UNIVERSITY
SUMMARY:Game: 11U/5CITY FC STARS POWERSTRIKERS 2015B vs CHICAGO CITY 2015 L
 OOP I
TRANSP:OPAQUE
END:VEVENT
BEGIN:VEVENT
UID:66333664-3534-4638-b762-643365376535
DTSTAMP:20260426T002533Z
CLASS:PUBLIC
DESCRIPTION:YSSL 11U/5CITY Game
DTSTART;TZID=America/Chicago:20260517T143000
DTEND;TZID=America/Chicago:20260517T143000
LOCATION:NORTHEASTERN IL UNIVERSITY
SUMMARY:Game: 11U/5CITY FC STARS POWERSTRIKERS 2015B vs CHICAGO KICS 2015 R
 ED (CITY)
TRANSP:OPAQUE
END:VEVENT
BEGIN:VEVENT
UID:62613539-6331-4838-b466-333636393631
DTSTAMP:20260426T002533Z
CLASS:PUBLIC
DESCRIPTION:YSSL 11U/5CITY Game
DTSTART;TZID=America/Chicago:20260531T143000
DTEND;TZID=America/Chicago:20260531T143000
LOCATION:NORTHEASTERN IL UNIVERSITY
SUMMARY:Game: 11U/5CITY FC STARS POWERSTRIKERS 2015B vs CHICAGO CITY 2015 I
 V
TRANSP:OPAQUE
END:VEVENT
BEGIN:VEVENT
UID:34316163-6237-4531-b632-623832663264
DTSTAMP:20260426T002533Z
CLASS:PUBLIC
DESCRIPTION:YSSL 11U/5CITY Game
DTSTART;TZID=America/Chicago:20260606T103000
DTEND;TZID=America/Chicago:20260606T103000
LOCATION:LERNER PARK
SUMMARY:Game: 11U/5CITY IPROSKILLS 2015 BLACK vs FC STARS POWERSTRIKERS 201
 5B
TRANSP:OPAQUE
END:VEVENT
BEGIN:VEVENT
UID:37316461-3836-4733-b838-323265666338
DTSTAMP:20260426T002533Z
CLASS:PUBLIC
DESCRIPTION:YSSL 11U/5CITY Game
DTSTART;TZID=America/Chicago:20260613T090000
DTEND;TZID=America/Chicago:20260613T090000
LOCATION:DUNBAR GRASS  - 9 V 9
SUMMARY:Game: 11U/5CITY CHICAGO KICS 2015 WHITE (CITY) vs FC STARS POWERSTR
 IKERS 2015B
TRANSP:OPAQUE
END:VEVENT
END:VCALENDAR
