BEGIN:VCALENDAR
VERSION:2.0
PRODID:-//yssl.org//NONSGML kigkonsult.se iCalcreator 2.41.92//
CALSCALE:GREGORIAN
METHOD:PUBLISH
UID:64303434-3238-4534-b163-356438356430
X-WR-CALNAME:YSSL Calendar
X-WR-CALDESC:YSSL Calendar
X-WR-TIMEZONE:America/Chicago
BEGIN:VEVENT
UID:37323464-3238-4932-b934-323661363363
DTSTAMP:20260425T235801Z
CLASS:PUBLIC
DESCRIPTION:YSSL 11U/5E1 Game
DTSTART;TZID=America/Chicago:20260517T160000
DTEND;TZID=America/Chicago:20260517T160000
LOCATION:WOOD OAKS JR HIGH
SUMMARY:Game: 11U/5E1 SPARTAN FC 2015  SELECT vs FCS LAKESHORE 2015 BOYS PR
 EMIER RED I
TRANSP:OPAQUE
END:VEVENT
BEGIN:VEVENT
UID:34383664-3037-4061-b864-653065646561
DTSTAMP:20260425T235801Z
CLASS:PUBLIC
DESCRIPTION:YSSL 11U/5E1 Game
DTSTART;TZID=America/Chicago:20260418T090000
DTEND;TZID=America/Chicago:20260418T090000
LOCATION:JAMES PARK - 2
SUMMARY:Game: 11U/5E1 FCS LAKESHORE 2015 BOYS PREMIER RED I vs PRSC 2015 BL
 UE
TRANSP:OPAQUE
END:VEVENT
BEGIN:VEVENT
UID:32616464-6533-4037-b062-386262373631
DTSTAMP:20260425T235801Z
CLASS:PUBLIC
DESCRIPTION:YSSL 11U/5E1 Game
DTSTART;TZID=America/Chicago:20260411T103000
DTEND;TZID=America/Chicago:20260411T103000
LOCATION:WILLOW HILL PARK - 9V9B
SUMMARY:Game: 11U/5E1 FC MIRAGE 2016 BLACK vs FCS LAKESHORE 2015 BOYS PREMI
 ER RED I
TRANSP:OPAQUE
END:VEVENT
BEGIN:VEVENT
UID:66616439-3866-4163-a230-343566383561
DTSTAMP:20260425T235801Z
CLASS:PUBLIC
DESCRIPTION:YSSL 11U/5E1 Game
DTSTART;TZID=America/Chicago:20260502T120000
DTEND;TZID=America/Chicago:20260502T120000
LOCATION:JAMES PARK - 2
SUMMARY:Game: 11U/5E1 FCS LAKESHORE 2015 BOYS PREMIER RED I vs SCOTTISH SOC
 CER ACADEMY 2015
TRANSP:OPAQUE
END:VEVENT
BEGIN:VEVENT
UID:61353763-6562-4364-b236-366131326134
DTSTAMP:20260425T235801Z
CLASS:PUBLIC
DESCRIPTION:YSSL 11U/5E1 Game
DTSTART;TZID=America/Chicago:20260509T100000
DTEND;TZID=America/Chicago:20260509T100000
LOCATION:METRO MAJEWSKI PARK - FIELD #2
SUMMARY:Game: 11U/5E1 GREEN WHITE 2015 WEISS vs FCS LAKESHORE 2015 BOYS PRE
 MIER RED I
TRANSP:OPAQUE
END:VEVENT
BEGIN:VEVENT
UID:64656162-6464-4937-b536-356666303739
DTSTAMP:20260425T235801Z
CLASS:PUBLIC
DESCRIPTION:YSSL 11U/5E1 Game
DTSTART;TZID=America/Chicago:20260516T150000
DTEND;TZID=America/Chicago:20260516T150000
LOCATION:LYCEE DE FRANCAIS SCHOOL - A
SUMMARY:Game: 11U/5E1 CHICAGO CITY 2015 III vs FCS LAKESHORE 2015 BOYS PREM
 IER RED I
TRANSP:OPAQUE
END:VEVENT
BEGIN:VEVENT
UID:65376437-3138-4736-b732-326337356263
DTSTAMP:20260425T235801Z
CLASS:PUBLIC
DESCRIPTION:YSSL 11U/5E1 Game
DTSTART;TZID=America/Chicago:20260530T170000
DTEND;TZID=America/Chicago:20260530T170000
LOCATION:SCIENCE &amp\; ARTS ACADEMY
SUMMARY:Game: 11U/5E1 NORRIDGE UNITED 2015 SELECT vs FCS LAKESHORE 2015 BOY
 S PREMIER RED I
TRANSP:OPAQUE
END:VEVENT
BEGIN:VEVENT
UID:31333538-3137-4433-b337-356162343136
DTSTAMP:20260425T235801Z
CLASS:PUBLIC
DESCRIPTION:YSSL 11U/5E1 Game
DTSTART;TZID=America/Chicago:20260419T100000
DTEND;TZID=America/Chicago:20260419T100000
LOCATION:JAMES PARK - 2
SUMMARY:Game: 11U/5E1 FCS LAKESHORE 2015 BOYS PREMIER RED I vs CHICAGO CITY
  2015 III
TRANSP:OPAQUE
END:VEVENT
END:VCALENDAR
