BEGIN:VCALENDAR
VERSION:2.0
PRODID:-//yssl.org//NONSGML kigkonsult.se iCalcreator 2.41.92//
CALSCALE:GREGORIAN
METHOD:PUBLISH
UID:32396663-3064-4434-b635-663762363837
X-WR-CALNAME:YSSL Calendar
X-WR-CALDESC:YSSL Calendar
X-WR-TIMEZONE:America/Chicago
BEGIN:VEVENT
UID:30353434-6236-4431-a636-326537383835
DTSTAMP:20260426T002503Z
CLASS:PUBLIC
DESCRIPTION:YSSL 10U/4S Game
DTSTART;TZID=America/Chicago:20260510T120000
DTEND;TZID=America/Chicago:20260510T120000
LOCATION:CACHEY PARK - 2
SUMMARY:Game: 10U/4S KORA FC 2016 ELITE vs CHICAGO KICS 2016 BLUE (SOUTH)
TRANSP:OPAQUE
END:VEVENT
BEGIN:VEVENT
UID:30333232-3466-4066-b834-343538353739
DTSTAMP:20260426T002503Z
CLASS:PUBLIC
DESCRIPTION:YSSL 10U/4S Game
DTSTART;TZID=America/Chicago:20260426T140000
DTEND;TZID=America/Chicago:20260426T140000
LOCATION:EVERGREEN PARK HIGH SCHOOL - 7V7
SUMMARY:Game: 10U/4S CHICAGO KICS 2016 BLUE (SOUTH) vs UESC - CHICAGOLAND 2
 016 SEL WHITE BB
TRANSP:OPAQUE
END:VEVENT
BEGIN:VEVENT
UID:31333161-3936-4362-b235-653264396430
DTSTAMP:20260426T002503Z
CLASS:PUBLIC
DESCRIPTION:YSSL 10U/4S Game
DTSTART;TZID=America/Chicago:20260503T141500
DTEND;TZID=America/Chicago:20260503T141500
LOCATION:EVERGREEN PARK HIGH SCHOOL - 7V7
SUMMARY:Game: 10U/4S CHICAGO KICS 2016 BLUE (SOUTH) vs CHICAGO UNITED 2016 
 FALCONS
TRANSP:OPAQUE
END:VEVENT
BEGIN:VEVENT
UID:39303962-6635-4933-a632-333534363633
DTSTAMP:20260426T002503Z
CLASS:PUBLIC
DESCRIPTION:YSSL 10U/4S Game
DTSTART;TZID=America/Chicago:20260517T140000
DTEND;TZID=America/Chicago:20260517T140000
LOCATION:EVERGREEN PARK HIGH SCHOOL - 7V7
SUMMARY:Game: 10U/4S CHICAGO KICS 2016 BLUE (SOUTH) vs CHICAGO CITY 2016 SO
 UTH II
TRANSP:OPAQUE
END:VEVENT
BEGIN:VEVENT
UID:35623834-6634-4266-b934-346264376230
DTSTAMP:20260426T002503Z
CLASS:PUBLIC
DESCRIPTION:YSSL 10U/4S Game
DTSTART;TZID=America/Chicago:20260530T123000
DTEND;TZID=America/Chicago:20260530T123000
LOCATION:BICENTENNIAL PARK - CUMBERLAND FIELD
SUMMARY:Game: 10U/4S UESC - HF VIKINGS 2016 vs CHICAGO KICS 2016 BLUE (SOUT
 H)
TRANSP:OPAQUE
END:VEVENT
BEGIN:VEVENT
UID:64313764-3439-4564-b033-316136363835
DTSTAMP:20260426T002503Z
CLASS:PUBLIC
DESCRIPTION:YSSL 10U/4S Game
DTSTART;TZID=America/Chicago:20260607T120000
DTEND;TZID=America/Chicago:20260607T120000
LOCATION:DYNAMO FIELD - 7V7
SUMMARY:Game: 10U/4S UESC - CHICAGOLAND 2016 SEL WHITE BB vs CHICAGO KICS 2
 016 BLUE (SOUTH)
TRANSP:OPAQUE
END:VEVENT
BEGIN:VEVENT
UID:66643866-3532-4231-b536-323337633037
DTSTAMP:20260426T002503Z
CLASS:PUBLIC
DESCRIPTION:YSSL 10U/4S Game
DTSTART;TZID=America/Chicago:20260502T090000
DTEND;TZID=America/Chicago:20260502T090000
LOCATION:EAGLE RIDGE II PARK
SUMMARY:Game: 10U/4S CHICAGO CITY 2016 SOUTH II vs CHICAGO KICS 2016 BLUE (
 SOUTH)
TRANSP:OPAQUE
END:VEVENT
BEGIN:VEVENT
UID:30623330-3063-4530-b936-613438303534
DTSTAMP:20260426T002503Z
CLASS:PUBLIC
DESCRIPTION:YSSL 10U/4S Game
DTSTART;TZID=America/Chicago:20260419T090000
DTEND;TZID=America/Chicago:20260419T090000
LOCATION:EVERGREEN PARK HIGH SCHOOL - 7V7
SUMMARY:Game: 10U/4S CHICAGO KICS 2016 BLUE (SOUTH) vs MT GREENWOOD KNIGHTS
  SC 2017
TRANSP:OPAQUE
END:VEVENT
END:VCALENDAR
