BEGIN:VCALENDAR
VERSION:2.0
PRODID:-//yssl.org//NONSGML kigkonsult.se iCalcreator 2.41.92//
CALSCALE:GREGORIAN
METHOD:PUBLISH
UID:35373333-6136-4630-b533-366332316332
X-WR-CALNAME:YSSL Calendar
X-WR-CALDESC:YSSL Calendar
X-WR-TIMEZONE:America/Chicago
BEGIN:VEVENT
UID:30353765-6164-4930-b338-373864356133
DTSTAMP:20260426T023429Z
CLASS:PUBLIC
DESCRIPTION:YSSL 11U/5E1 Game
DTSTART;TZID=America/Chicago:20260412T120000
DTEND;TZID=America/Chicago:20260412T120000
LOCATION:LYCEE DE FRANCAIS SCHOOL - A
SUMMARY:Game: 11U/5E1 CHICAGO CITY 2015 III vs FC MIRAGE 2016 BLACK
TRANSP:OPAQUE
END:VEVENT
BEGIN:VEVENT
UID:38613161-6336-4630-b565-376434633465
DTSTAMP:20260426T023429Z
CLASS:PUBLIC
DESCRIPTION:YSSL 11U/5E1 Game
DTSTART;TZID=America/Chicago:20260418T110000
DTEND;TZID=America/Chicago:20260418T110000
LOCATION:METRO MAJEWSKI PARK - FIELD #3
SUMMARY:Game: 11U/5E1 GREEN WHITE 2015 WEISS vs CHICAGO CITY 2015 III
TRANSP:OPAQUE
END:VEVENT
BEGIN:VEVENT
UID:34373031-3335-4136-a261-393939333337
DTSTAMP:20260426T023429Z
CLASS:PUBLIC
DESCRIPTION:YSSL 11U/5E1 Game
DTSTART;TZID=America/Chicago:20260425T103000
DTEND;TZID=America/Chicago:20260425T103000
LOCATION:LYCEE DE FRANCAIS SCHOOL - A
SUMMARY:Game: 11U/5E1 CHICAGO CITY 2015 III vs PRSC 2015 BLUE
TRANSP:OPAQUE
END:VEVENT
BEGIN:VEVENT
UID:64613639-6132-4336-b632-643061653461
DTSTAMP:20260426T023429Z
CLASS:PUBLIC
DESCRIPTION:YSSL 11U/5E1 Game
DTSTART;TZID=America/Chicago:20260503T143000
DTEND;TZID=America/Chicago:20260503T143000
LOCATION:WOOD OAKS JR HIGH
SUMMARY:Game: 11U/5E1 SPARTAN FC 2015  SELECT vs CHICAGO CITY 2015 III
TRANSP:OPAQUE
END:VEVENT
BEGIN:VEVENT
UID:36633662-3363-4637-b530-333238306630
DTSTAMP:20260426T023429Z
CLASS:PUBLIC
DESCRIPTION:YSSL 11U/5E1 Game
DTSTART;TZID=America/Chicago:20260509T150000
DTEND;TZID=America/Chicago:20260509T150000
LOCATION:LYCEE DE FRANCAIS SCHOOL - A
SUMMARY:Game: 11U/5E1 CHICAGO CITY 2015 III vs NORRIDGE UNITED 2015 SELECT
TRANSP:OPAQUE
END:VEVENT
BEGIN:VEVENT
UID:30616333-3161-4530-a261-346335643639
DTSTAMP:20260426T023429Z
CLASS:PUBLIC
DESCRIPTION:YSSL 11U/5E1 Game
DTSTART;TZID=America/Chicago:20260516T150000
DTEND;TZID=America/Chicago:20260516T150000
LOCATION:LYCEE DE FRANCAIS SCHOOL - A
SUMMARY:Game: 11U/5E1 CHICAGO CITY 2015 III vs FCS LAKESHORE 2015 BOYS PREM
 IER RED I
TRANSP:OPAQUE
END:VEVENT
BEGIN:VEVENT
UID:34303534-6432-4437-b136-663834323462
DTSTAMP:20260426T023429Z
CLASS:PUBLIC
DESCRIPTION:YSSL 11U/5E1 Game
DTSTART;TZID=America/Chicago:20260530T113000
DTEND;TZID=America/Chicago:20260530T113000
LOCATION:SKOKIE WASHBURNE
SUMMARY:Game: 11U/5E1 SCOTTISH SOCCER ACADEMY 2015 vs CHICAGO CITY 2015 III
TRANSP:OPAQUE
END:VEVENT
BEGIN:VEVENT
UID:39373130-3333-4864-b663-623364373465
DTSTAMP:20260426T023429Z
CLASS:PUBLIC
DESCRIPTION:YSSL 11U/5E1 Game
DTSTART;TZID=America/Chicago:20260419T100000
DTEND;TZID=America/Chicago:20260419T100000
LOCATION:JAMES PARK - 2
SUMMARY:Game: 11U/5E1 FCS LAKESHORE 2015 BOYS PREMIER RED I vs CHICAGO CITY
  2015 III
TRANSP:OPAQUE
END:VEVENT
END:VCALENDAR
