BEGIN:VCALENDAR
VERSION:2.0
PRODID:-//yssl.org//NONSGML kigkonsult.se iCalcreator 2.41.92//
CALSCALE:GREGORIAN
METHOD:PUBLISH
UID:62396234-3731-4435-b839-646136333830
X-WR-CALNAME:YSSL Calendar
X-WR-CALDESC:YSSL Calendar
X-WR-TIMEZONE:America/Chicago
BEGIN:VEVENT
UID:30396663-6437-4038-a630-626530386434
DTSTAMP:20260425T114431Z
CLASS:PUBLIC
DESCRIPTION:YSSL 10U/1 Game
DTSTART;TZID=America/Chicago:20260425T140000
DTEND;TZID=America/Chicago:20260425T140000
LOCATION:ELGIN SPORTS COMPLEX - 21
SUMMARY:Game: 10U/1 CHICAGO CITY PUMAS 2016 GOLD vs CHICAGO RAIDERS 2016/17
TRANSP:OPAQUE
END:VEVENT
BEGIN:VEVENT
UID:37646638-6634-4533-a235-646236633637
DTSTAMP:20260425T114431Z
CLASS:PUBLIC
DESCRIPTION:YSSL 10U/1 Game
DTSTART;TZID=America/Chicago:20260418T173000
DTEND;TZID=America/Chicago:20260418T173000
LOCATION:OLYMPIC PARK FIELD - FIELD 5
SUMMARY:Game: 10U/1 BARCA ACADEMY CHICAGO 2016 BLAU vs CHICAGO CITY PUMAS 2
 016 GOLD
TRANSP:OPAQUE
END:VEVENT
BEGIN:VEVENT
UID:65393536-6132-4664-b363-613231313564
DTSTAMP:20260425T114431Z
CLASS:PUBLIC
DESCRIPTION:YSSL 10U/1 Game
DTSTART;TZID=America/Chicago:20260426T120000
DTEND;TZID=America/Chicago:20260426T120000
LOCATION:ELGIN SPORTS COMPLEX - 4
SUMMARY:Game: 10U/1 CHICAGO CITY PUMAS 2016 GOLD vs CFA - COSMOS FC 2016
TRANSP:OPAQUE
END:VEVENT
BEGIN:VEVENT
UID:35633762-3163-4538-b339-616536613464
DTSTAMP:20260425T114431Z
CLASS:PUBLIC
DESCRIPTION:YSSL 10U/1 Game
DTSTART;TZID=America/Chicago:20260503T120000
DTEND;TZID=America/Chicago:20260503T120000
LOCATION:ELGIN SPORTS COMPLEX - 7V7
SUMMARY:Game: 10U/1 CHICAGO CITY PUMAS 2016 GOLD vs CHICAGO INTER SOCCER CL
 UB 2016-RED
TRANSP:OPAQUE
END:VEVENT
BEGIN:VEVENT
UID:35353066-3635-4564-a133-633934303166
DTSTAMP:20260425T114431Z
CLASS:PUBLIC
DESCRIPTION:YSSL 10U/1 Game
DTSTART;TZID=America/Chicago:20260419T110000
DTEND;TZID=America/Chicago:20260419T110000
LOCATION:ELGIN SPORTS COMPLEX - 7V7
SUMMARY:Game: 10U/1 CHICAGO CITY PUMAS 2016 GOLD vs PSG ACADEMY CHICAGO 201
 6 PRE-ACADEMY
TRANSP:OPAQUE
END:VEVENT
BEGIN:VEVENT
UID:39326166-6330-4262-a161-396532343236
DTSTAMP:20260425T114431Z
CLASS:PUBLIC
DESCRIPTION:YSSL 10U/1 Game
DTSTART;TZID=America/Chicago:20260531T110000
DTEND;TZID=America/Chicago:20260531T110000
LOCATION:CENTENNIAL PARK (ORLAND PARK) - FIELD #7 (7V7)
SUMMARY:Game: 10U/1 ORLAND PARK STING FC 2016 PREMIER vs CHICAGO CITY PUMAS
  2016 GOLD
TRANSP:OPAQUE
END:VEVENT
BEGIN:VEVENT
UID:30663533-3161-4666-b737-366338323563
DTSTAMP:20260425T114431Z
CLASS:PUBLIC
DESCRIPTION:YSSL 10U/1 Game
DTSTART;TZID=America/Chicago:20260529T191500
DTEND;TZID=America/Chicago:20260529T191500
LOCATION:SPORTSCORE 2 &amp\; SPORTSCORE 1 (WTNG ON PD)
SUMMARY:Game: 10U/1 ROCKFORD RAPTORS 2016 vs CHICAGO CITY PUMAS 2016 GOLD
TRANSP:OPAQUE
END:VEVENT
BEGIN:VEVENT
UID:62313836-6466-4234-a564-646262666533
DTSTAMP:20260425T114431Z
CLASS:PUBLIC
DESCRIPTION:YSSL 10U/1 Game
DTSTART;TZID=America/Chicago:20260607T130000
DTEND;TZID=America/Chicago:20260607T130000
LOCATION:CENTRAL PARK FIELDS - FOREST GATE RD. ENTRANCE - FIELD 8
SUMMARY:Game: 10U/1 WCOB FC 2016/17 SELECT vs CHICAGO CITY PUMAS 2016 GOLD
TRANSP:OPAQUE
END:VEVENT
END:VCALENDAR
