BEGIN:VCALENDAR
VERSION:2.0
PRODID:-//yssl.org//NONSGML kigkonsult.se iCalcreator 2.41.92//
CALSCALE:GREGORIAN
METHOD:PUBLISH
UID:38326162-3363-4362-b932-633566383265
X-WR-CALNAME:YSSL Calendar
X-WR-CALDESC:YSSL Calendar
X-WR-TIMEZONE:America/Chicago
BEGIN:VEVENT
UID:62613639-3832-4863-b430-373930636635
DTSTAMP:20260426T023625Z
CLASS:PUBLIC
DESCRIPTION:YSSL 15U-SPRING/2S Game
DTSTART;TZID=America/Chicago:20260412T170000
DTEND;TZID=America/Chicago:20260412T170000
LOCATION:ACKERMAN PARK - TURF (11V11)
SUMMARY:Game: 15U-SPRING/2S GLEN ELLYN LAKERS 2011 ELITE 2 vs GALAXY 2011 N
 L
TRANSP:OPAQUE
END:VEVENT
BEGIN:VEVENT
UID:32373830-3561-4066-b733-393762323730
DTSTAMP:20260426T023625Z
CLASS:PUBLIC
DESCRIPTION:YSSL 15U-SPRING/2S Game
DTSTART;TZID=America/Chicago:20260605T180000
DTEND;TZID=America/Chicago:20260605T180000
LOCATION:ACKERMAN PARK - TURF (11V11)
SUMMARY:Game: 15U-SPRING/2S GLEN ELLYN LAKERS 2011 ELITE 2 vs TEAM CHICAGO 
 2011 PERFORMANCE
TRANSP:OPAQUE
END:VEVENT
BEGIN:VEVENT
UID:34646130-3762-4364-b465-303435633231
DTSTAMP:20260426T023625Z
CLASS:PUBLIC
DESCRIPTION:YSSL 15U-SPRING/2S Game
DTSTART;TZID=America/Chicago:20260425T170000
DTEND;TZID=America/Chicago:20260425T170000
LOCATION:COMMUNITY PARK (ADDISON)
SUMMARY:Game: 15U-SPRING/2S TIGRES DC 2011 vs GLEN ELLYN LAKERS 2011 ELITE 
 2
TRANSP:OPAQUE
END:VEVENT
BEGIN:VEVENT
UID:61303966-3865-4633-a138-313432643036
DTSTAMP:20260426T023625Z
CLASS:PUBLIC
DESCRIPTION:YSSL 15U-SPRING/2S Game
DTSTART;TZID=America/Chicago:20260510T180000
DTEND;TZID=America/Chicago:20260510T180000
LOCATION:COMMISSIONERS PARK (NAPERVILLE) - A
SUMMARY:Game: 15U-SPRING/2S AJAX FC NAPERVILLE 2011 RED 1 vs GLEN ELLYN LAK
 ERS 2011 ELITE 2
TRANSP:OPAQUE
END:VEVENT
BEGIN:VEVENT
UID:37313462-3839-4632-b837-346165346331
DTSTAMP:20260426T023625Z
CLASS:PUBLIC
DESCRIPTION:YSSL 15U-SPRING/2S Game
DTSTART;TZID=America/Chicago:20260517T130000
DTEND;TZID=America/Chicago:20260517T130000
LOCATION:KENNEDY MIDDLE SCHOOL
SUMMARY:Game: 15U-SPRING/2S JAKE'S STARS FC 2011 BOYS BLACK vs GLEN ELLYN L
 AKERS 2011 ELITE 2
TRANSP:OPAQUE
END:VEVENT
BEGIN:VEVENT
UID:64636131-3033-4831-b037-623337663961
DTSTAMP:20260426T023625Z
CLASS:PUBLIC
DESCRIPTION:YSSL 15U-SPRING/2S Game
DTSTART;TZID=America/Chicago:20260531T173000
DTEND;TZID=America/Chicago:20260531T173000
LOCATION:RIDGELAND COMMON
SUMMARY:Game: 15U-SPRING/2S CHICAGO EDGE B2011 PREMIER XI vs GLEN ELLYN LAK
 ERS 2011 ELITE 2
TRANSP:OPAQUE
END:VEVENT
BEGIN:VEVENT
UID:63383630-3366-4734-b233-633630623235
DTSTAMP:20260426T023625Z
CLASS:PUBLIC
DESCRIPTION:YSSL 15U-SPRING/2S Game
DTSTART;TZID=America/Chicago:20260606T190000
DTEND;TZID=America/Chicago:20260606T190000
LOCATION:ACKERMAN PARK - TURF (11V11)
SUMMARY:Game: 15U-SPRING/2S GLEN ELLYN LAKERS 2011 ELITE 2 vs BLACK LIONS 2
 011/12
TRANSP:OPAQUE
END:VEVENT
BEGIN:VEVENT
UID:61316536-6565-4462-a364-616465326334
DTSTAMP:20260426T023625Z
CLASS:PUBLIC
DESCRIPTION:YSSL 15U-SPRING/2S Game
DTSTART;TZID=America/Chicago:20260503T163000
DTEND;TZID=America/Chicago:20260503T163000
LOCATION:ACKERMAN PARK - FIELD #2 (11V11)
SUMMARY:Game: 15U-SPRING/2S GLEN ELLYN LAKERS 2011 ELITE 2 vs AJFC 2011
TRANSP:OPAQUE
END:VEVENT
END:VCALENDAR
