BEGIN:VCALENDAR
VERSION:2.0
PRODID:-//yssl.org//NONSGML kigkonsult.se iCalcreator 2.41.92//
CALSCALE:GREGORIAN
METHOD:PUBLISH
UID:63323038-6163-4132-b834-393433616366
X-WR-CALNAME:YSSL Calendar
X-WR-CALDESC:YSSL Calendar
X-WR-TIMEZONE:America/Chicago
BEGIN:VEVENT
UID:66323333-6338-4364-b039-326364633630
DTSTAMP:20260424T171609Z
CLASS:PUBLIC
DESCRIPTION:YSSL 17U/3N Game
DTSTART;TZID=America/Chicago:20260531T200000
DTEND;TZID=America/Chicago:20260531T200000
LOCATION:LTSC FLD - FIELD 19
SUMMARY:Game: 17U/3N LIBERTYVILLE FC 1974-2009A-SELECT vs PALATINE CELTIC 2
 009 GREEN
TRANSP:OPAQUE
END:VEVENT
BEGIN:VEVENT
UID:31663831-6139-4835-a238-343065316463
DTSTAMP:20260424T171609Z
CLASS:PUBLIC
DESCRIPTION:YSSL 17U/3N Game
DTSTART;TZID=America/Chicago:20260425T170000
DTEND;TZID=America/Chicago:20260425T170000
LOCATION:LIPPOLD PARK SOCCER COMPLEX - FIELD 5
SUMMARY:Game: 17U/3N FORCE 2009B PREMIER vs LIBERTYVILLE FC 1974-2009A-SELE
 CT
TRANSP:OPAQUE
END:VEVENT
BEGIN:VEVENT
UID:63306266-3038-4939-b462-343432303832
DTSTAMP:20260424T171609Z
CLASS:PUBLIC
DESCRIPTION:YSSL 17U/3N Game
DTSTART;TZID=America/Chicago:20260501T200000
DTEND;TZID=America/Chicago:20260501T200000
LOCATION:LTSC FLD - FIELD 1
SUMMARY:Game: 17U/3N LIBERTYVILLE FC 1974-2009A-SELECT vs GOLEADORES 2009/2
 010
TRANSP:OPAQUE
END:VEVENT
BEGIN:VEVENT
UID:37353734-6263-4937-a565-663732623531
DTSTAMP:20260424T171609Z
CLASS:PUBLIC
DESCRIPTION:YSSL 17U/3N Game
DTSTART;TZID=America/Chicago:20260430T200000
DTEND;TZID=America/Chicago:20260430T200000
LOCATION:DANNY CUNNIFF  - SOUTH LARGE
SUMMARY:Game: 17U/3N CHICAGO MAGIC 2009 ELITE vs LIBERTYVILLE FC 1974-2009A
 -SELECT
TRANSP:OPAQUE
END:VEVENT
BEGIN:VEVENT
UID:35373232-3439-4265-b938-636463626432
DTSTAMP:20260424T171609Z
CLASS:PUBLIC
DESCRIPTION:YSSL 17U/3N Game
DTSTART;TZID=America/Chicago:20260425T090000
DTEND;TZID=America/Chicago:20260425T090000
LOCATION:KNIGGE FIELD - 11V11
SUMMARY:Game: 17U/3N ELA ELITE 2009 vs LIBERTYVILLE FC 1974-2009A-SELECT
TRANSP:OPAQUE
END:VEVENT
BEGIN:VEVENT
UID:33663266-6138-4338-b766-376632363730
DTSTAMP:20260424T171609Z
CLASS:PUBLIC
DESCRIPTION:YSSL 17U/3N Game
DTSTART;TZID=America/Chicago:20260514T200000
DTEND;TZID=America/Chicago:20260514T200000
LOCATION:DEERPATH COMMUNITY PARK (LAKE FOREST) - 11V11
SUMMARY:Game: 17U/3N 60 UNITED - LFSA 2009 BLUE vs LIBERTYVILLE FC 1974-200
 9A-SELECT
TRANSP:OPAQUE
END:VEVENT
BEGIN:VEVENT
UID:64373030-6231-4566-b461-396461326433
DTSTAMP:20260424T171609Z
CLASS:PUBLIC
DESCRIPTION:YSSL 17U/3N Game
DTSTART;TZID=America/Chicago:20260528T180000
DTEND;TZID=America/Chicago:20260528T180000
LOCATION:LTSC FLD - FIELD 9
SUMMARY:Game: 17U/3N LIBERTYVILLE FC 1974-2009A-SELECT vs HOTC SELECT 2009
TRANSP:OPAQUE
END:VEVENT
BEGIN:VEVENT
UID:31303635-3439-4532-a266-363363383336
DTSTAMP:20260424T171609Z
CLASS:PUBLIC
DESCRIPTION:YSSL 17U/3N Game
DTSTART;TZID=America/Chicago:20260404T160000
DTEND;TZID=America/Chicago:20260404T160000
LOCATION:LTSC FLD - FIELD 1
SUMMARY:Game: 17U/3N LIBERTYVILLE FC 1974-2009A-SELECT vs LASC 2009/2010 PR
 EMIER
TRANSP:OPAQUE
END:VEVENT
END:VCALENDAR
