BEGIN:VCALENDAR
VERSION:2.0
PRODID:-//yssl.org//NONSGML kigkonsult.se iCalcreator 2.41.92//
CALSCALE:GREGORIAN
METHOD:PUBLISH
UID:34316634-6661-4338-a663-646461323636
X-WR-CALNAME:YSSL Calendar
X-WR-CALDESC:YSSL Calendar
X-WR-TIMEZONE:America/Chicago
BEGIN:VEVENT
UID:65343033-3534-4361-a434-636632336231
DTSTAMP:20260425T041001Z
CLASS:PUBLIC
DESCRIPTION:YSSL 17U/3N Game
DTSTART;TZID=America/Chicago:20260411T170000
DTEND;TZID=America/Chicago:20260411T170000
LOCATION:CANTON MIDDLE SCHOOL
SUMMARY:Game: 17U/3N GOLEADORES 2009/2010 vs FORCE 2009B PREMIER
TRANSP:OPAQUE
END:VEVENT
BEGIN:VEVENT
UID:66663564-6238-4464-b263-356436366137
DTSTAMP:20260425T041001Z
CLASS:PUBLIC
DESCRIPTION:YSSL 17U/3N Game
DTSTART;TZID=America/Chicago:20260425T170000
DTEND;TZID=America/Chicago:20260425T170000
LOCATION:LIPPOLD PARK SOCCER COMPLEX - FIELD 5
SUMMARY:Game: 17U/3N FORCE 2009B PREMIER vs LIBERTYVILLE FC 1974-2009A-SELE
 CT
TRANSP:OPAQUE
END:VEVENT
BEGIN:VEVENT
UID:65393038-3437-4935-b532-643737323563
DTSTAMP:20260425T041001Z
CLASS:PUBLIC
DESCRIPTION:YSSL 17U/3N Game
DTSTART;TZID=America/Chicago:20260426T160000
DTEND;TZID=America/Chicago:20260426T160000
LOCATION:LAKE VILLA TOWNSHIP SOCCER COMPLEX  - FIELD E - 11V11
SUMMARY:Game: 17U/3N LASC 2009/2010 PREMIER vs FORCE 2009B PREMIER
TRANSP:OPAQUE
END:VEVENT
BEGIN:VEVENT
UID:64353761-6639-4436-b062-393737306563
DTSTAMP:20260425T041001Z
CLASS:PUBLIC
DESCRIPTION:YSSL 17U/3N Game
DTSTART;TZID=America/Chicago:20260509T100000
DTEND;TZID=America/Chicago:20260509T100000
LOCATION:WAUKEGAN SPORTS PARK - 11V11
SUMMARY:Game: 17U/3N HOTC SELECT 2009 vs FORCE 2009B PREMIER
TRANSP:OPAQUE
END:VEVENT
BEGIN:VEVENT
UID:62346433-3032-4162-a130-316331633632
DTSTAMP:20260425T041001Z
CLASS:PUBLIC
DESCRIPTION:YSSL 17U/3N Game
DTSTART;TZID=America/Chicago:20260510T140000
DTEND;TZID=America/Chicago:20260510T140000
LOCATION:LIPPOLD PARK SOCCER COMPLEX - FIELD 4
SUMMARY:Game: 17U/3N FORCE 2009B PREMIER vs FC STARS POWERSRIKERS 2009 WHIT
 E
TRANSP:OPAQUE
END:VEVENT
BEGIN:VEVENT
UID:35616464-6230-4266-b361-616261343064
DTSTAMP:20260425T041001Z
CLASS:PUBLIC
DESCRIPTION:YSSL 17U/3N Game
DTSTART;TZID=America/Chicago:20260517T093000
DTEND;TZID=America/Chicago:20260517T093000
LOCATION:DANNY CUNNIFF  - NORTH LARGE
SUMMARY:Game: 17U/3N CHICAGO MAGIC 2009 ELITE vs FORCE 2009B PREMIER
TRANSP:OPAQUE
END:VEVENT
BEGIN:VEVENT
UID:61313565-3063-4338-b262-373962386335
DTSTAMP:20260425T041001Z
CLASS:PUBLIC
DESCRIPTION:YSSL 17U/3N Game
DTSTART;TZID=America/Chicago:20260531T140000
DTEND;TZID=America/Chicago:20260531T140000
LOCATION:LIPPOLD PARK SOCCER COMPLEX - FIELD 4
SUMMARY:Game: 17U/3N FORCE 2009B PREMIER vs ELA ELITE 2009
TRANSP:OPAQUE
END:VEVENT
BEGIN:VEVENT
UID:33636233-6330-4537-b037-376138373532
DTSTAMP:20260425T041001Z
CLASS:PUBLIC
DESCRIPTION:YSSL 17U/3N Game
DTSTART;TZID=America/Chicago:20260607T180000
DTEND;TZID=America/Chicago:20260607T180000
LOCATION:LIPPOLD PARK SOCCER COMPLEX - FIELD 5
SUMMARY:Game: 17U/3N FORCE 2009B PREMIER vs PALATINE CELTIC 2009 GREEN
TRANSP:OPAQUE
END:VEVENT
END:VCALENDAR
