BEGIN:VCALENDAR
VERSION:2.0
PRODID:-//yssl.org//NONSGML kigkonsult.se iCalcreator 2.41.92//
CALSCALE:GREGORIAN
METHOD:PUBLISH
UID:30343466-3665-4336-b764-623432623663
X-WR-CALNAME:YSSL Calendar
X-WR-CALDESC:YSSL Calendar
X-WR-TIMEZONE:America/Chicago
BEGIN:VEVENT
UID:36383966-3630-4334-b263-383339663762
DTSTAMP:20260424T144948Z
CLASS:PUBLIC
DESCRIPTION:YSSL 11U/2N Game
DTSTART;TZID=America/Chicago:20260426T090000
DTEND;TZID=America/Chicago:20260426T090000
LOCATION:COUNTRYSIDE WEST - 9V9
SUMMARY:Game: 11U/2N ELA ELITE 2015 vs CHICAGO FC UNITED 2015 PRE-ACADEMY I
TRANSP:OPAQUE
END:VEVENT
BEGIN:VEVENT
UID:66303131-6437-4337-a634-323634643863
DTSTAMP:20260424T144948Z
CLASS:PUBLIC
DESCRIPTION:YSSL 11U/2N Game
DTSTART;TZID=America/Chicago:20260510T103000
DTEND;TZID=America/Chicago:20260510T103000
LOCATION:VERNON HILLS ATHLETIC COMPLEX - 7
SUMMARY:Game: 11U/2N CHICAGO FC UNITED 2015 PRE-ACADEMY I vs FC LAKE COUNTY
  2015 ELITE
TRANSP:OPAQUE
END:VEVENT
BEGIN:VEVENT
UID:31653561-3430-4533-b137-336530623334
DTSTAMP:20260424T144948Z
CLASS:PUBLIC
DESCRIPTION:YSSL 11U/2N Game
DTSTART;TZID=America/Chicago:20260514T190000
DTEND;TZID=America/Chicago:20260514T190000
LOCATION:WILLOW PARK - 1
SUMMARY:Game: 11U/2N CHICAGO FC UNITED 2015 PRE-ACADEMY I vs LASC 2015 ELIT
 E
TRANSP:OPAQUE
END:VEVENT
BEGIN:VEVENT
UID:38613734-3664-4331-a163-636465346566
DTSTAMP:20260424T144948Z
CLASS:PUBLIC
DESCRIPTION:YSSL 11U/2N Game
DTSTART;TZID=America/Chicago:20260502T103000
DTEND;TZID=America/Chicago:20260502T103000
LOCATION:PRAIRIE WALK PARK
SUMMARY:Game: 11U/2N REAL MADRID ROUND LAKE FC  2015  PRE-ACADEMY vs CHICAG
 O FC UNITED 2015 PRE-ACADEMY I
TRANSP:OPAQUE
END:VEVENT
BEGIN:VEVENT
UID:36636235-6666-4636-b135-323439336237
DTSTAMP:20260424T144948Z
CLASS:PUBLIC
DESCRIPTION:YSSL 11U/2N Game
DTSTART;TZID=America/Chicago:20260509T120000
DTEND;TZID=America/Chicago:20260509T120000
LOCATION:WILLOW PARK - 9V9
SUMMARY:Game: 11U/2N CHICAGO FC UNITED 2015 PRE-ACADEMY I vs NSFC 2015 ELIT
 E
TRANSP:OPAQUE
END:VEVENT
BEGIN:VEVENT
UID:31646234-6339-4432-b636-343332623136
DTSTAMP:20260424T144948Z
CLASS:PUBLIC
DESCRIPTION:YSSL 11U/2N Game
DTSTART;TZID=America/Chicago:20260530T090000
DTEND;TZID=America/Chicago:20260530T090000
LOCATION:NORTH PARK FIELDS  - 9V9
SUMMARY:Game: 11U/2N RUSH NORTH 2015 PREMIER vs CHICAGO FC UNITED 2015 PRE-
 ACADEMY I
TRANSP:OPAQUE
END:VEVENT
BEGIN:VEVENT
UID:65343332-3661-4365-b062-326264396634
DTSTAMP:20260424T144948Z
CLASS:PUBLIC
DESCRIPTION:YSSL 11U/2N Game
DTSTART;TZID=America/Chicago:20260521T184500
DTEND;TZID=America/Chicago:20260521T184500
LOCATION:DEERPATH COMMUNITY PARK (LAKE FOREST)
SUMMARY:Game: 11U/2N NSFC 2015 ELITE vs CHICAGO FC UNITED 2015 PRE-ACADEMY 
 I
TRANSP:OPAQUE
END:VEVENT
BEGIN:VEVENT
UID:34333631-6439-4332-b764-633562633635
DTSTAMP:20260424T144948Z
CLASS:PUBLIC
DESCRIPTION:YSSL 11U/2N Game
DTSTART;TZID=America/Chicago:20260503T150000
DTEND;TZID=America/Chicago:20260503T150000
LOCATION:WILLOW PARK - 9V9
SUMMARY:Game: 11U/2N CHICAGO FC UNITED 2015 PRE-ACADEMY I vs ELA ELITE 2015
TRANSP:OPAQUE
END:VEVENT
END:VCALENDAR
