BEGIN:VCALENDAR
VERSION:2.0
PRODID:-//yssl.org//NONSGML kigkonsult.se iCalcreator 2.41.92//
CALSCALE:GREGORIAN
METHOD:PUBLISH
UID:38346332-6263-4266-b964-306365383732
X-WR-CALNAME:YSSL Calendar
X-WR-CALDESC:YSSL Calendar
X-WR-TIMEZONE:America/Chicago
BEGIN:VEVENT
UID:37343763-3761-4663-b433-323538343463
DTSTAMP:20260424T205413Z
CLASS:PUBLIC
DESCRIPTION:YSSL 14U/1 Game
DTSTART;TZID=America/Chicago:20260412T100000
DTEND;TZID=America/Chicago:20260412T100000
LOCATION:HUMBRACHT FIELD
SUMMARY:Game: 14U/1 RUSH WEST 2012 PREMIER vs TIGRES DC 2012
TRANSP:OPAQUE
END:VEVENT
BEGIN:VEVENT
UID:65303739-3364-4633-b565-313138626534
DTSTAMP:20260424T205413Z
CLASS:PUBLIC
DESCRIPTION:YSSL 14U/1 Game
DTSTART;TZID=America/Chicago:20260419T143000
DTEND;TZID=America/Chicago:20260419T143000
LOCATION:COMMUNITY PARK (ADDISON)
SUMMARY:Game: 14U/1 TIGRES DC 2012 vs CHICAGO CELTIC SC 2012 GREEN
TRANSP:OPAQUE
END:VEVENT
BEGIN:VEVENT
UID:32313733-3163-4430-a330-396562616533
DTSTAMP:20260424T205413Z
CLASS:PUBLIC
DESCRIPTION:YSSL 14U/1 Game
DTSTART;TZID=America/Chicago:20260503T170000
DTEND;TZID=America/Chicago:20260503T170000
LOCATION:KNIGGE FIELD
SUMMARY:Game: 14U/1 ELA ELITE 2012 vs TIGRES DC 2012
TRANSP:OPAQUE
END:VEVENT
BEGIN:VEVENT
UID:63613866-6434-4039-b737-626535343330
DTSTAMP:20260424T205413Z
CLASS:PUBLIC
DESCRIPTION:YSSL 14U/1 Game
DTSTART;TZID=America/Chicago:20260517T153000
DTEND;TZID=America/Chicago:20260517T153000
LOCATION:FOXDALE PARK
SUMMARY:Game: 14U/1 TIGRES DC 2012 vs AJAX FC NAPERVILLE 2012 RED A
TRANSP:OPAQUE
END:VEVENT
BEGIN:VEVENT
UID:32663161-3934-4130-b762-363235666333
DTSTAMP:20260424T205413Z
CLASS:PUBLIC
DESCRIPTION:YSSL 14U/1 Game
DTSTART;TZID=America/Chicago:20260510T090000
DTEND;TZID=America/Chicago:20260510T090000
LOCATION:CONCORDIA UNIVERSITY CHICAGO
SUMMARY:Game: 14U/1 CHICAGO EDGE B2012 PREMIER XI vs TIGRES DC 2012
TRANSP:OPAQUE
END:VEVENT
BEGIN:VEVENT
UID:66353936-3933-4436-a638-333237643361
DTSTAMP:20260424T205413Z
CLASS:PUBLIC
DESCRIPTION:YSSL 14U/1 Game
DTSTART;TZID=America/Chicago:20260516T130000
DTEND;TZID=America/Chicago:20260516T130000
LOCATION:COMMUNITY PARK (ADDISON)
SUMMARY:Game: 14U/1 TIGRES DC 2012 vs RUSH WEST 2012 PREMIER
TRANSP:OPAQUE
END:VEVENT
BEGIN:VEVENT
UID:39306135-6366-4531-a431-306165666134
DTSTAMP:20260424T205413Z
CLASS:PUBLIC
DESCRIPTION:YSSL 14U/1 Game
DTSTART;TZID=America/Chicago:20260531T150000
DTEND;TZID=America/Chicago:20260531T150000
LOCATION:REDMOND PARK
SUMMARY:Game: 14U/1 CHICAGO CELTIC SC 2012 GREEN vs TIGRES DC 2012
TRANSP:OPAQUE
END:VEVENT
BEGIN:VEVENT
UID:66363733-3830-4163-b936-336438663432
DTSTAMP:20260424T205413Z
CLASS:PUBLIC
DESCRIPTION:YSSL 14U/1 Game
DTSTART;TZID=America/Chicago:20260607T170000
DTEND;TZID=America/Chicago:20260607T170000
LOCATION:FOXDALE PARK
SUMMARY:Game: 14U/1 TIGRES DC 2012 vs ELA ELITE 2012
TRANSP:OPAQUE
END:VEVENT
END:VCALENDAR
