BEGIN:VCALENDAR
VERSION:2.0
PRODID:-//yssl.org//NONSGML kigkonsult.se iCalcreator 2.41.92//
CALSCALE:GREGORIAN
METHOD:PUBLISH
UID:62303161-6537-4963-b564-366130666663
X-WR-CALNAME:YSSL Calendar
X-WR-CALDESC:YSSL Calendar
X-WR-TIMEZONE:America/Chicago
BEGIN:VEVENT
UID:31376365-6466-4736-b664-363439663864
DTSTAMP:20260425T190335Z
CLASS:PUBLIC
DESCRIPTION:YSSL 9U/4NW2 Game
DTSTART;TZID=America/Chicago:20260503T160000
DTEND;TZID=America/Chicago:20260503T160000
LOCATION:LAKEWOOD GROVE PARK
SUMMARY:Game: 9U/4NW2 SCOUTS FC 2017 vs FVB 2017 SELECT
TRANSP:OPAQUE
END:VEVENT
BEGIN:VEVENT
UID:36303333-3437-4530-a262-616138376666
DTSTAMP:20260425T190335Z
CLASS:PUBLIC
DESCRIPTION:YSSL 9U/4NW2 Game
DTSTART;TZID=America/Chicago:20260426T093000
DTEND;TZID=America/Chicago:20260426T093000
LOCATION:LAKEWOOD GROVE PARK
SUMMARY:Game: 9U/4NW2 SCOUTS FC 2017 vs ELA ELITE 2017 COMPETITIVE
TRANSP:OPAQUE
END:VEVENT
BEGIN:VEVENT
UID:38633433-3634-4133-b738-306663363138
DTSTAMP:20260425T190335Z
CLASS:PUBLIC
DESCRIPTION:YSSL 9U/4NW2 Game
DTSTART;TZID=America/Chicago:20260425T170000
DTEND;TZID=America/Chicago:20260425T170000
LOCATION:DEER PARK TOWN CENTER - 7V7
SUMMARY:Game: 9U/4NW2 ELA ELITE 2017 COMPETITIVE vs SCOUTS FC 2017
TRANSP:OPAQUE
END:VEVENT
BEGIN:VEVENT
UID:39666366-3262-4263-a166-333063656636
DTSTAMP:20260425T190335Z
CLASS:PUBLIC
DESCRIPTION:YSSL 9U/4NW2 Game
DTSTART;TZID=America/Chicago:20260502T103000
DTEND;TZID=America/Chicago:20260502T103000
LOCATION:HERITAGE OAKS
SUMMARY:Game: 9U/4NW2 HAWTHORN WOODS ELITE 2017 GREEN vs SCOUTS FC 2017
TRANSP:OPAQUE
END:VEVENT
BEGIN:VEVENT
UID:32353865-3337-4430-a338-393732363032
DTSTAMP:20260425T190335Z
CLASS:PUBLIC
DESCRIPTION:YSSL 9U/4NW2 Game
DTSTART;TZID=America/Chicago:20260509T100000
DTEND;TZID=America/Chicago:20260509T100000
LOCATION:MCHENRY ATHLETIC COMPLEX  - GRASS FIELD #8 (7V7)
SUMMARY:Game: 9U/4NW2 CHICAGO INFERNO 2017 PREMIER vs SCOUTS FC 2017
TRANSP:OPAQUE
END:VEVENT
BEGIN:VEVENT
UID:31363262-3130-4361-b933-393337626161
DTSTAMP:20260425T190335Z
CLASS:PUBLIC
DESCRIPTION:YSSL 9U/4NW2 Game
DTSTART;TZID=America/Chicago:20260517T150500
DTEND;TZID=America/Chicago:20260517T150500
LOCATION:HUFFMAN PARK - 7V7 FIELD
SUMMARY:Game: 9U/4NW2 FVB 2017 SELECT vs SCOUTS FC 2017
TRANSP:OPAQUE
END:VEVENT
BEGIN:VEVENT
UID:30326537-6161-4362-a434-343435333264
DTSTAMP:20260425T190335Z
CLASS:PUBLIC
DESCRIPTION:YSSL 9U/4NW2 Game
DTSTART;TZID=America/Chicago:20260613T130000
DTEND;TZID=America/Chicago:20260613T130000
LOCATION:LAKEWOOD GROVE PARK
SUMMARY:Game: 9U/4NW2 SCOUTS FC 2017 vs FORCE 2017B PREMIER BLUE
TRANSP:OPAQUE
END:VEVENT
BEGIN:VEVENT
UID:36636136-6431-4361-b134-316266346363
DTSTAMP:20260425T190335Z
CLASS:PUBLIC
DESCRIPTION:YSSL 9U/4NW2 Game
DTSTART;TZID=America/Chicago:20260606T090000
DTEND;TZID=America/Chicago:20260606T090000
LOCATION:LAKEWOOD GROVE PARK
SUMMARY:Game: 9U/4NW2 SCOUTS FC 2017 vs CHICAGO INFERNO 2017 PREMIER
TRANSP:OPAQUE
END:VEVENT
END:VCALENDAR
