BEGIN:VCALENDAR
VERSION:2.0
PRODID:-//yssl.org//NONSGML kigkonsult.se iCalcreator 2.41.92//
CALSCALE:GREGORIAN
METHOD:PUBLISH
UID:66663836-3232-4366-a265-393161316362
X-WR-CALNAME:YSSL Calendar
X-WR-CALDESC:YSSL Calendar
X-WR-TIMEZONE:America/Chicago
BEGIN:VEVENT
UID:30666537-6161-4437-b664-376335303839
DTSTAMP:20260424T203948Z
CLASS:PUBLIC
DESCRIPTION:YSSL 8U-7V7/5N Game
DTSTART;TZID=America/Chicago:20260411T140000
DTEND;TZID=America/Chicago:20260411T140000
LOCATION:OLYMPIC PARK FIELD - #7A
SUMMARY:Game: 8U-7V7/5N SAA UNITED SC 2018 RED vs REAL MADRID ROUND LAKE FC
  2018
TRANSP:OPAQUE
END:VEVENT
BEGIN:VEVENT
UID:36363937-3465-4438-b036-346334393237
DTSTAMP:20260424T203948Z
CLASS:PUBLIC
DESCRIPTION:YSSL 8U-7V7/5N Game
DTSTART;TZID=America/Chicago:20260418T093000
DTEND;TZID=America/Chicago:20260418T093000
LOCATION:CELTIC PARK FIELD  - TURF 2A
SUMMARY:Game: 8U-7V7/5N PALATINE CELTIC 2018 BLACK vs SAA UNITED SC 2018 RE
 D
TRANSP:OPAQUE
END:VEVENT
BEGIN:VEVENT
UID:38333635-3631-4532-a435-303765353038
DTSTAMP:20260424T203948Z
CLASS:PUBLIC
DESCRIPTION:YSSL 8U-7V7/5N Game
DTSTART;TZID=America/Chicago:20260613T160000
DTEND;TZID=America/Chicago:20260613T160000
LOCATION:FREMONT SCHOOL (NO PETS) - 2
SUMMARY:Game: 8U-7V7/5N MUNDELEIN LIONS 2018 BLUE vs SAA UNITED SC 2018 RED
TRANSP:OPAQUE
END:VEVENT
BEGIN:VEVENT
UID:30386230-3837-4038-b438-393733333931
DTSTAMP:20260424T203948Z
CLASS:PUBLIC
DESCRIPTION:YSSL 8U-7V7/5N Game
DTSTART;TZID=America/Chicago:20260502T110000
DTEND;TZID=America/Chicago:20260502T110000
LOCATION:LTSC FLD - FIELD 17B
SUMMARY:Game: 8U-7V7/5N LIBERTYVILLE FC 1974-2018A-ORANGE 1 vs SAA UNITED S
 C 2018 RED
TRANSP:OPAQUE
END:VEVENT
BEGIN:VEVENT
UID:65643265-6337-4261-a662-646464356630
DTSTAMP:20260424T203948Z
CLASS:PUBLIC
DESCRIPTION:YSSL 8U-7V7/5N Game
DTSTART;TZID=America/Chicago:20260509T120000
DTEND;TZID=America/Chicago:20260509T120000
LOCATION:OLYMPIC PARK FIELD - 7A (ONE HALF OF FIEL
SUMMARY:Game: 8U-7V7/5N SAA UNITED SC 2018 RED vs ELA ELITE 2018 SELECT
TRANSP:OPAQUE
END:VEVENT
BEGIN:VEVENT
UID:38383733-3464-4166-b237-306165333935
DTSTAMP:20260424T203948Z
CLASS:PUBLIC
DESCRIPTION:YSSL 8U-7V7/5N Game
DTSTART;TZID=America/Chicago:20260510T090000
DTEND;TZID=America/Chicago:20260510T090000
LOCATION:OLYMPIC PARK FIELD - #5B
SUMMARY:Game: 8U-7V7/5N SAA UNITED SC 2018 RED vs LASC 2018 BLACK
TRANSP:OPAQUE
END:VEVENT
BEGIN:VEVENT
UID:30373630-3266-4161-b161-336333623562
DTSTAMP:20260424T203948Z
CLASS:PUBLIC
DESCRIPTION:YSSL 8U-7V7/5N Game
DTSTART;TZID=America/Chicago:20260509T141500
DTEND;TZID=America/Chicago:20260509T141500
LOCATION:OLYMPIC PARK FIELD - 7A (ONE HALF OF FIEL
SUMMARY:Game: 8U-7V7/5N SAA UNITED SC 2018 RED vs HAWTHORN WOODS ELITE 2018
 /19
TRANSP:OPAQUE
END:VEVENT
BEGIN:VEVENT
UID:37343062-3861-4639-b630-313830303635
DTSTAMP:20260424T203948Z
CLASS:PUBLIC
DESCRIPTION:YSSL 8U-7V7/5N Game
DTSTART;TZID=America/Chicago:20260607T090000
DTEND;TZID=America/Chicago:20260607T090000
LOCATION:FREMONT SCHOOL (NO PETS) - 4
SUMMARY:Game: 8U-7V7/5N MUNDELEIN LIONS 2018 BLUE vs SAA UNITED SC 2018 RED
TRANSP:OPAQUE
END:VEVENT
END:VCALENDAR
