BEGIN:VCALENDAR
VERSION:2.0
PRODID:-//yssl.org//NONSGML kigkonsult.se iCalcreator 2.41.92//
CALSCALE:GREGORIAN
METHOD:PUBLISH
UID:35613361-3364-4361-b066-623532646362
X-WR-CALNAME:YSSL Calendar
X-WR-CALDESC:YSSL Calendar
X-WR-TIMEZONE:America/Chicago
BEGIN:VEVENT
UID:66626334-6434-4731-a431-633764386466
DTSTAMP:20260424T192139Z
CLASS:PUBLIC
DESCRIPTION:YSSL 8U-7V7/4NW Game
DTSTART;TZID=America/Chicago:20260411T120000
DTEND;TZID=America/Chicago:20260411T120000
LOCATION:OLYMPIC PARK FIELD - 8B
SUMMARY:Game: 8U-7V7/4NW SAA UNITED SC 2018 BLACK vs ELA ELITE 2018 PREMIER
TRANSP:OPAQUE
END:VEVENT
BEGIN:VEVENT
UID:35646433-6330-4662-b438-303066393566
DTSTAMP:20260424T192139Z
CLASS:PUBLIC
DESCRIPTION:YSSL 8U-7V7/4NW Game
DTSTART;TZID=America/Chicago:20260426T140000
DTEND;TZID=America/Chicago:20260426T140000
LOCATION:CONNELLY PARK - CONNELLY PARK 7V7
SUMMARY:Game: 8U-7V7/4NW SAA UNITED SC 2018 BLACK vs ELITE S.C. 2018/19 BLA
 CK
TRANSP:OPAQUE
END:VEVENT
BEGIN:VEVENT
UID:31623134-3633-4364-b061-393764373566
DTSTAMP:20260424T192139Z
CLASS:PUBLIC
DESCRIPTION:YSSL 8U-7V7/4NW Game
DTSTART;TZID=America/Chicago:20260425T133000
DTEND;TZID=America/Chicago:20260425T133000
LOCATION:MELAS PARK - #3  7V7
SUMMARY:Game: 8U-7V7/4NW ELITE S.C. 2018/19 BLACK vs SAA UNITED SC 2018 BLA
 CK
TRANSP:OPAQUE
END:VEVENT
BEGIN:VEVENT
UID:34643963-6239-4634-a566-373065326533
DTSTAMP:20260424T192139Z
CLASS:PUBLIC
DESCRIPTION:YSSL 8U-7V7/4NW Game
DTSTART;TZID=America/Chicago:20260502T120000
DTEND;TZID=America/Chicago:20260502T120000
LOCATION:EMERSON MIDDLE SCHOOL  - NE
SUMMARY:Game: 8U-7V7/4NW PRSC 2018 WHITE vs SAA UNITED SC 2018 BLACK
TRANSP:OPAQUE
END:VEVENT
BEGIN:VEVENT
UID:37666362-3162-4065-a439-336530316434
DTSTAMP:20260424T192139Z
CLASS:PUBLIC
DESCRIPTION:YSSL 8U-7V7/4NW Game
DTSTART;TZID=America/Chicago:20260509T130000
DTEND;TZID=America/Chicago:20260509T130000
LOCATION:COMMUNITY PARK WEST (GLENVIEW) - 5 - (7 V 7)
SUMMARY:Game: 8U-7V7/4NW FC-1 ACADEMY 2018 ELITE GREY vs SAA UNITED SC 2018
  BLACK
TRANSP:OPAQUE
END:VEVENT
BEGIN:VEVENT
UID:33313831-3439-4538-b461-396665383432
DTSTAMP:20260424T192139Z
CLASS:PUBLIC
DESCRIPTION:YSSL 8U-7V7/4NW Game
DTSTART;TZID=America/Chicago:20260516T133000
DTEND;TZID=America/Chicago:20260516T133000
LOCATION:ORCHARD FIELD - 7V7
SUMMARY:Game: 8U-7V7/4NW ELA ELITE 2018 PREMIER vs SAA UNITED SC 2018 BLACK
TRANSP:OPAQUE
END:VEVENT
BEGIN:VEVENT
UID:30306465-6133-4834-b738-633431323430
DTSTAMP:20260424T192139Z
CLASS:PUBLIC
DESCRIPTION:YSSL 8U-7V7/4NW Game
DTSTART;TZID=America/Chicago:20260530T100000
DTEND;TZID=America/Chicago:20260530T100000
LOCATION:OLYMPIC PARK FIELD - 8B
SUMMARY:Game: 8U-7V7/4NW SAA UNITED SC 2018 BLACK vs FORCE 2018B PREMIER BL
 UE
TRANSP:OPAQUE
END:VEVENT
BEGIN:VEVENT
UID:62363132-3735-4938-a434-653861376432
DTSTAMP:20260424T192139Z
CLASS:PUBLIC
DESCRIPTION:YSSL 8U-7V7/4NW Game
DTSTART;TZID=America/Chicago:20260418T080000
DTEND;TZID=America/Chicago:20260418T080000
LOCATION:OLYMPIC PARK FIELD - 7B (ONE HALF OF FIEL
SUMMARY:Game: 8U-7V7/4NW SAA UNITED SC 2018 BLACK vs FC-1 ACADEMY 2018 ELIT
 E GREY
TRANSP:OPAQUE
END:VEVENT
END:VCALENDAR
