BEGIN:VCALENDAR
VERSION:2.0
PRODID:-//yssl.org//NONSGML kigkonsult.se iCalcreator 2.41.92//
CALSCALE:GREGORIAN
METHOD:PUBLISH
UID:36303739-3666-4439-b631-346332356563
X-WR-CALNAME:YSSL Calendar
X-WR-CALDESC:YSSL Calendar
X-WR-TIMEZONE:America/Chicago
BEGIN:VEVENT
UID:65643165-3033-4335-b234-623461663232
DTSTAMP:20260424T214311Z
CLASS:PUBLIC
DESCRIPTION:YSSL 13U/4N Game
DTSTART;TZID=America/Chicago:20260419T110000
DTEND;TZID=America/Chicago:20260419T110000
LOCATION:CELTIC PARK FIELD  - TURF 1
SUMMARY:Game: 13U/4N PALATINE CELTIC 2013 GREEN vs RUSH NORTH 2013 BLUE 1
TRANSP:OPAQUE
END:VEVENT
BEGIN:VEVENT
UID:37303738-3764-4234-b337-646239396434
DTSTAMP:20260424T214311Z
CLASS:PUBLIC
DESCRIPTION:YSSL 13U/4N Game
DTSTART;TZID=America/Chicago:20260418T130000
DTEND;TZID=America/Chicago:20260418T130000
LOCATION:DANNY CUNNIFF  - NORTH LARGE
SUMMARY:Game: 13U/4N CHICAGO MAGIC 2013 CUP vs PALATINE CELTIC 2013 GREEN
TRANSP:OPAQUE
END:VEVENT
BEGIN:VEVENT
UID:35366562-3032-4161-a636-663431323132
DTSTAMP:20260424T214311Z
CLASS:PUBLIC
DESCRIPTION:YSSL 13U/4N Game
DTSTART;TZID=America/Chicago:20260426T170000
DTEND;TZID=America/Chicago:20260426T170000
LOCATION:KNIGGE FIELD - 11V11
SUMMARY:Game: 13U/4N ELA ELITE 2013 PREMIER vs PALATINE CELTIC 2013 GREEN
TRANSP:OPAQUE
END:VEVENT
BEGIN:VEVENT
UID:65386234-3761-4163-b964-313232313239
DTSTAMP:20260424T214311Z
CLASS:PUBLIC
DESCRIPTION:YSSL 13U/4N Game
DTSTART;TZID=America/Chicago:20260509T120000
DTEND;TZID=America/Chicago:20260509T120000
LOCATION:HUNT CLUB PARK - HC 2
SUMMARY:Game: 13U/4N FC LAKE COUNTY 2013 SELECT 1 vs PALATINE CELTIC 2013 G
 REEN
TRANSP:OPAQUE
END:VEVENT
BEGIN:VEVENT
UID:63313066-3362-4833-b336-316231646433
DTSTAMP:20260424T214311Z
CLASS:PUBLIC
DESCRIPTION:YSSL 13U/4N Game
DTSTART;TZID=America/Chicago:20260516T150000
DTEND;TZID=America/Chicago:20260516T150000
LOCATION:CELTIC PARK FIELD  - TURF 1
SUMMARY:Game: 13U/4N PALATINE CELTIC 2013 GREEN vs NSFC 2013 VOLT
TRANSP:OPAQUE
END:VEVENT
BEGIN:VEVENT
UID:38643737-3932-4563-b264-383732336139
DTSTAMP:20260424T214311Z
CLASS:PUBLIC
DESCRIPTION:YSSL 13U/4N Game
DTSTART;TZID=America/Chicago:20260530T153000
DTEND;TZID=America/Chicago:20260530T153000
LOCATION:DEERPATH COMMUNITY PARK (LAKE FOREST) - 9V9
SUMMARY:Game: 13U/4N 60 UNITED - LFSA 2013 BLUE vs PALATINE CELTIC 2013 GRE
 EN
TRANSP:OPAQUE
END:VEVENT
BEGIN:VEVENT
UID:35313437-3539-4637-a533-346139343161
DTSTAMP:20260424T214311Z
CLASS:PUBLIC
DESCRIPTION:YSSL 13U/4N Game
DTSTART;TZID=America/Chicago:20260531T140000
DTEND;TZID=America/Chicago:20260531T140000
LOCATION:CELTIC PARK FIELD  - TURF 1
SUMMARY:Game: 13U/4N PALATINE CELTIC 2013 GREEN vs 60 UNITED - LFSA 2013 BL
 UE
TRANSP:OPAQUE
END:VEVENT
BEGIN:VEVENT
UID:35636463-3230-4061-b532-643734643865
DTSTAMP:20260424T214311Z
CLASS:PUBLIC
DESCRIPTION:YSSL 13U/4N Game
DTSTART;TZID=America/Chicago:20260607T130000
DTEND;TZID=America/Chicago:20260607T130000
LOCATION:CELTIC PARK FIELD  - TURF 1
SUMMARY:Game: 13U/4N PALATINE CELTIC 2013 GREEN vs HOTC ELITE 2013
TRANSP:OPAQUE
END:VEVENT
END:VCALENDAR
