BEGIN:VCALENDAR
VERSION:2.0
PRODID:-//yssl.org//NONSGML kigkonsult.se iCalcreator 2.41.92//
CALSCALE:GREGORIAN
METHOD:PUBLISH
UID:35656533-6561-4265-b264-333739303634
X-WR-CALNAME:YSSL Calendar
X-WR-CALDESC:YSSL Calendar
X-WR-TIMEZONE:America/Chicago
BEGIN:VEVENT
UID:35323837-6166-4635-a266-383963323163
DTSTAMP:20260425T232040Z
CLASS:PUBLIC
DESCRIPTION:YSSL 12U/2NW Game
DTSTART;TZID=America/Chicago:20260419T100000
DTEND;TZID=America/Chicago:20260419T100000
LOCATION:LTSC FLD - FIELD 2
SUMMARY:Game: 12U/2NW LIBERTYVILLE FC 1974-2014B-SELECT 1 vs PALATINE CELTI
 C 2014 BLACK
TRANSP:OPAQUE
END:VEVENT
BEGIN:VEVENT
UID:37303433-3534-4264-b033-313634353062
DTSTAMP:20260425T232040Z
CLASS:PUBLIC
DESCRIPTION:YSSL 12U/2NW Game
DTSTART;TZID=America/Chicago:20260418T090000
DTEND;TZID=America/Chicago:20260418T090000
LOCATION:CELTIC PARK FIELD  - TURF 2B
SUMMARY:Game: 12U/2NW PALATINE CELTIC 2014 BLACK vs LEO SOCCER SCHOOL 2014
TRANSP:OPAQUE
END:VEVENT
BEGIN:VEVENT
UID:38616139-6437-4638-a636-306633663963
DTSTAMP:20260425T232040Z
CLASS:PUBLIC
DESCRIPTION:YSSL 12U/2NW Game
DTSTART;TZID=America/Chicago:20260520T183000
DTEND;TZID=America/Chicago:20260520T183000
LOCATION:PRAIRIE MEADOWS
SUMMARY:Game: 12U/2NW FVB 2014 NATIONALS vs PALATINE CELTIC 2014 BLACK
TRANSP:OPAQUE
END:VEVENT
BEGIN:VEVENT
UID:35356535-3439-4061-b837-663961323766
DTSTAMP:20260425T232040Z
CLASS:PUBLIC
DESCRIPTION:YSSL 12U/2NW Game
DTSTART;TZID=America/Chicago:20260502T090000
DTEND;TZID=America/Chicago:20260502T090000
LOCATION:CELTIC PARK FIELD  - TURF 2B
SUMMARY:Game: 12U/2NW PALATINE CELTIC 2014 BLACK vs FCB 2014 BLACK
TRANSP:OPAQUE
END:VEVENT
BEGIN:VEVENT
UID:66633263-3263-4862-a234-626235383065
DTSTAMP:20260425T232040Z
CLASS:PUBLIC
DESCRIPTION:YSSL 12U/2NW Game
DTSTART;TZID=America/Chicago:20260509T103000
DTEND;TZID=America/Chicago:20260509T103000
LOCATION:COUNTRYSIDE WEST - 9V9
SUMMARY:Game: 12U/2NW ELA ELITE 2014 vs PALATINE CELTIC 2014 BLACK
TRANSP:OPAQUE
END:VEVENT
BEGIN:VEVENT
UID:31343463-6233-4630-b539-306237363231
DTSTAMP:20260425T232040Z
CLASS:PUBLIC
DESCRIPTION:YSSL 12U/2NW Game
DTSTART;TZID=America/Chicago:20260516T110000
DTEND;TZID=America/Chicago:20260516T110000
LOCATION:CELTIC PARK FIELD  - FIELD 5 GRASS
SUMMARY:Game: 12U/2NW PALATINE CELTIC 2014 BLACK vs LIBERTYVILLE FC 1974-20
 14B-SELECT 1
TRANSP:OPAQUE
END:VEVENT
BEGIN:VEVENT
UID:38666538-6164-4134-b364-343363616630
DTSTAMP:20260425T232040Z
CLASS:PUBLIC
DESCRIPTION:YSSL 12U/2NW Game
DTSTART;TZID=America/Chicago:20260426T100000
DTEND;TZID=America/Chicago:20260426T100000
LOCATION:HERITAGE PARK (WHEELING) - #8
SUMMARY:Game: 12U/2NW LEO SOCCER SCHOOL 2014 vs PALATINE CELTIC 2014 BLACK
TRANSP:OPAQUE
END:VEVENT
BEGIN:VEVENT
UID:37306632-6565-4533-b231-363065313965
DTSTAMP:20260425T232040Z
CLASS:PUBLIC
DESCRIPTION:YSSL 12U/2NW Game
DTSTART;TZID=America/Chicago:20260607T103000
DTEND;TZID=America/Chicago:20260607T103000
LOCATION:CELTIC PARK FIELD  - TURF 2B
SUMMARY:Game: 12U/2NW PALATINE CELTIC 2014 BLACK vs FVB 2014 NATIONALS
TRANSP:OPAQUE
END:VEVENT
END:VCALENDAR
