BEGIN:VCALENDAR
VERSION:2.0
PRODID:-//yssl.org//NONSGML kigkonsult.se iCalcreator 2.41.92//
CALSCALE:GREGORIAN
METHOD:PUBLISH
UID:33363139-3938-4761-b234-616239373636
X-WR-CALNAME:YSSL Calendar
X-WR-CALDESC:YSSL Calendar
X-WR-TIMEZONE:America/Chicago
BEGIN:VEVENT
UID:31316238-6534-4265-b231-323365323531
DTSTAMP:20260425T231910Z
CLASS:PUBLIC
DESCRIPTION:YSSL 12U/3E Game
DTSTART;TZID=America/Chicago:20260412T103000
DTEND;TZID=America/Chicago:20260412T103000
LOCATION:UIC TURF FIELD EAST
SUMMARY:Game: 12U/3E NW 2014B PREMIER I vs OLYMPIACOS 2014 ELITE
TRANSP:OPAQUE
END:VEVENT
BEGIN:VEVENT
UID:38633137-6535-4166-b164-396635363135
DTSTAMP:20260425T231910Z
CLASS:PUBLIC
DESCRIPTION:YSSL 12U/3E Game
DTSTART;TZID=America/Chicago:20260418T103000
DTEND;TZID=America/Chicago:20260418T103000
LOCATION:LYCEE DE FRANCAIS SCHOOL - A
SUMMARY:Game: 12U/3E CHICAGO CITY 2014 I vs NW 2014B PREMIER I
TRANSP:OPAQUE
END:VEVENT
BEGIN:VEVENT
UID:35613761-3435-4838-a334-393231653763
DTSTAMP:20260425T231910Z
CLASS:PUBLIC
DESCRIPTION:YSSL 12U/3E Game
DTSTART;TZID=America/Chicago:20260425T101500
DTEND;TZID=America/Chicago:20260425T101500
LOCATION:FIRE PITCH - 9V9 PITCH 1-B
SUMMARY:Game: 12U/3E CFYSC 2014B SELECT WHITE vs NW 2014B PREMIER I
TRANSP:OPAQUE
END:VEVENT
BEGIN:VEVENT
UID:32636261-3965-4161-a465-346661643138
DTSTAMP:20260425T231910Z
CLASS:PUBLIC
DESCRIPTION:YSSL 12U/3E Game
DTSTART;TZID=America/Chicago:20260517T090000
DTEND;TZID=America/Chicago:20260517T090000
LOCATION:UIC TURF FIELD EAST
SUMMARY:Game: 12U/3E NW 2014B PREMIER I vs FC STARS 2014B BLACK
TRANSP:OPAQUE
END:VEVENT
BEGIN:VEVENT
UID:66306365-6463-4531-b234-363131646137
DTSTAMP:20260425T231910Z
CLASS:PUBLIC
DESCRIPTION:YSSL 12U/3E Game
DTSTART;TZID=America/Chicago:20260614T110000
DTEND;TZID=America/Chicago:20260614T110000
LOCATION:LERNER PARK
SUMMARY:Game: 12U/3E NW 2014B PREMIER I vs IPROSKILLS 2014 SELECT ACADEMY
TRANSP:OPAQUE
END:VEVENT
BEGIN:VEVENT
UID:65653735-3966-4436-b032-346337366133
DTSTAMP:20260425T231910Z
CLASS:PUBLIC
DESCRIPTION:YSSL 12U/3E Game
DTSTART;TZID=America/Chicago:20260530T100000
DTEND;TZID=America/Chicago:20260530T100000
LOCATION:WOODLAND PARK - NE
SUMMARY:Game: 12U/3E PRSC 2014 WHITE vs NW 2014B PREMIER I
TRANSP:OPAQUE
END:VEVENT
BEGIN:VEVENT
UID:36376565-3332-4437-b263-613130303731
DTSTAMP:20260425T231910Z
CLASS:PUBLIC
DESCRIPTION:YSSL 12U/3E Game
DTSTART;TZID=America/Chicago:20260607T103000
DTEND;TZID=America/Chicago:20260607T103000
LOCATION:UIC TURF FIELD EAST
SUMMARY:Game: 12U/3E NW 2014B PREMIER I vs CHICAGO CELTIC SC 2014 GREEN
TRANSP:OPAQUE
END:VEVENT
BEGIN:VEVENT
UID:32343337-6130-4231-b731-396563333461
DTSTAMP:20260425T231910Z
CLASS:PUBLIC
DESCRIPTION:YSSL 12U/3E Game
DTSTART;TZID=America/Chicago:20260606T083000
DTEND;TZID=America/Chicago:20260606T083000
LOCATION:PERCY JULIAN MIDDLE SCHOOL
SUMMARY:Game: 12U/3E OPRF ALLIANCE 2014 vs NW 2014B PREMIER I
TRANSP:OPAQUE
END:VEVENT
END:VCALENDAR
