BEGIN:VCALENDAR
VERSION:2.0
PRODID:-//yssl.org//NONSGML kigkonsult.se iCalcreator 2.41.92//
CALSCALE:GREGORIAN
METHOD:PUBLISH
UID:36643538-3738-4366-b564-363932386633
X-WR-CALNAME:YSSL Calendar
X-WR-CALDESC:YSSL Calendar
X-WR-TIMEZONE:America/Chicago
BEGIN:VEVENT
UID:33666234-3266-4265-b531-653639373062
DTSTAMP:20260425T155504Z
CLASS:PUBLIC
DESCRIPTION:YSSL 12U/2N Game
DTSTART;TZID=America/Chicago:20260411T160000
DTEND;TZID=America/Chicago:20260411T160000
LOCATION:WAUKEGAN SPORTS PARK
SUMMARY:Game: 12U/2N NA - BARCA JRS 2014 vs NA - ROUND LAKE JUNIORS  2014
TRANSP:OPAQUE
END:VEVENT
BEGIN:VEVENT
UID:30613062-3262-4162-b636-303266323461
DTSTAMP:20260425T155504Z
CLASS:PUBLIC
DESCRIPTION:YSSL 12U/2N Game
DTSTART;TZID=America/Chicago:20260501T180000
DTEND;TZID=America/Chicago:20260501T180000
LOCATION:HERITAGE OAKS
SUMMARY:Game: 12U/2N NA - BARCA JRS 2014 vs HAWTHORN WOODS ELITE 2014 BLACK
TRANSP:OPAQUE
END:VEVENT
BEGIN:VEVENT
UID:63656164-6638-4734-b864-663366336436
DTSTAMP:20260425T155504Z
CLASS:PUBLIC
DESCRIPTION:YSSL 12U/2N Game
DTSTART;TZID=America/Chicago:20260425T164500
DTEND;TZID=America/Chicago:20260425T164500
LOCATION:HERITAGE OAKS - BIG FIELD
SUMMARY:Game: 12U/2N HAWTHORN WOODS ELITE 2014 BLACK vs NA - BARCA JRS 2014
TRANSP:OPAQUE
END:VEVENT
BEGIN:VEVENT
UID:63393130-6136-4638-b130-306332376362
DTSTAMP:20260425T155504Z
CLASS:PUBLIC
DESCRIPTION:YSSL 12U/2N Game
DTSTART;TZID=America/Chicago:20260502T140000
DTEND;TZID=America/Chicago:20260502T140000
LOCATION:LTSC FLD - FIELD 2
SUMMARY:Game: 12U/2N LIBERTYVILLE FC 1974-2014A-ELITE 2 vs NA - BARCA JRS 2
 014
TRANSP:OPAQUE
END:VEVENT
BEGIN:VEVENT
UID:65313930-3939-4637-b764-336631396665
DTSTAMP:20260425T155504Z
CLASS:PUBLIC
DESCRIPTION:YSSL 12U/2N Game
DTSTART;TZID=America/Chicago:20260509T080000
DTEND;TZID=America/Chicago:20260509T080000
LOCATION:WAUKEGAN SPORTS PARK - 9V9
SUMMARY:Game: 12U/2N HOTC ELITE 2014 vs NA - BARCA JRS 2014
TRANSP:OPAQUE
END:VEVENT
BEGIN:VEVENT
UID:30353032-3336-4130-a632-646462613665
DTSTAMP:20260425T155504Z
CLASS:PUBLIC
DESCRIPTION:YSSL 12U/2N Game
DTSTART;TZID=America/Chicago:20260516T083000
DTEND;TZID=America/Chicago:20260516T083000
LOCATION:PRAIRIE WALK PARK
SUMMARY:Game: 12U/2N NA - ROUND LAKE JUNIORS  2014 vs NA - BARCA JRS 2014
TRANSP:OPAQUE
END:VEVENT
BEGIN:VEVENT
UID:35386331-3638-4638-b434-343361326633
DTSTAMP:20260425T155504Z
CLASS:PUBLIC
DESCRIPTION:YSSL 12U/2N Game
DTSTART;TZID=America/Chicago:20260530T100000
DTEND;TZID=America/Chicago:20260530T100000
LOCATION:WAUKEGAN SPORTS PARK
SUMMARY:Game: 12U/2N NA - BARCA JRS 2014 vs LASC 2014 ELITE
TRANSP:OPAQUE
END:VEVENT
BEGIN:VEVENT
UID:63636630-3231-4030-b839-376164326630
DTSTAMP:20260425T155504Z
CLASS:PUBLIC
DESCRIPTION:YSSL 12U/2N Game
DTSTART;TZID=America/Chicago:20260528T180000
DTEND;TZID=America/Chicago:20260528T180000
LOCATION:WAUKEGAN SPORTS PARK
SUMMARY:Game: 12U/2N NA - BARCA JRS 2014 vs HOTC ELITE 2014
TRANSP:OPAQUE
END:VEVENT
END:VCALENDAR
