BEGIN:VCALENDAR
VERSION:2.0
PRODID:-//yssl.org//NONSGML kigkonsult.se iCalcreator 2.41.92//
CALSCALE:GREGORIAN
METHOD:PUBLISH
UID:30353961-3831-4261-a333-646333383734
X-WR-CALNAME:YSSL Calendar
X-WR-CALDESC:YSSL Calendar
X-WR-TIMEZONE:America/Chicago
BEGIN:VEVENT
UID:37653138-3361-4439-b461-623232633462
DTSTAMP:20260425T141947Z
CLASS:PUBLIC
DESCRIPTION:YSSL 11U/5N1 Game
DTSTART;TZID=America/Chicago:20260411T170000
DTEND;TZID=America/Chicago:20260411T170000
LOCATION:LTSC FLD - FIELD 2
SUMMARY:Game: 11U/5N1 LIBERTYVILLE FC 1974-2015C-SELECT 2 vs NA - ROUND LAK
 E JUNIORS 2015
TRANSP:OPAQUE
END:VEVENT
BEGIN:VEVENT
UID:39663330-3834-4639-b965-326561316464
DTSTAMP:20260425T141947Z
CLASS:PUBLIC
DESCRIPTION:YSSL 11U/5N1 Game
DTSTART;TZID=America/Chicago:20260503T163000
DTEND;TZID=America/Chicago:20260503T163000
LOCATION:PRAIRIE WALK PARK
SUMMARY:Game: 11U/5N1 NA - ROUND LAKE JUNIORS 2015 vs HAWTHORN WOODS ELITE 
 2015 GREEN
TRANSP:OPAQUE
END:VEVENT
BEGIN:VEVENT
UID:65353561-3635-4462-b332-346636663239
DTSTAMP:20260425T141947Z
CLASS:PUBLIC
DESCRIPTION:YSSL 11U/5N1 Game
DTSTART;TZID=America/Chicago:20260502T120000
DTEND;TZID=America/Chicago:20260502T120000
LOCATION:VEHE PK - 9V9
SUMMARY:Game: 11U/5N1 ELA ELITE 2015 COMPETITIVE vs NA - ROUND LAKE JUNIORS
  2015
TRANSP:OPAQUE
END:VEVENT
BEGIN:VEVENT
UID:62346362-3938-4965-b636-643637643938
DTSTAMP:20260425T141947Z
CLASS:PUBLIC
DESCRIPTION:YSSL 11U/5N1 Game
DTSTART;TZID=America/Chicago:20260509T103000
DTEND;TZID=America/Chicago:20260509T103000
LOCATION:PRAIRIE WALK PARK
SUMMARY:Game: 11U/5N1 NA - ROUND LAKE JUNIORS 2015 vs FC-1 ACADEMY 2015 SEL
 ECT GREY
TRANSP:OPAQUE
END:VEVENT
BEGIN:VEVENT
UID:34313361-6261-4632-a437-316335373839
DTSTAMP:20260425T141947Z
CLASS:PUBLIC
DESCRIPTION:YSSL 11U/5N1 Game
DTSTART;TZID=America/Chicago:20260516T103000
DTEND;TZID=America/Chicago:20260516T103000
LOCATION:PRAIRIE WALK PARK
SUMMARY:Game: 11U/5N1 NA - ROUND LAKE JUNIORS 2015 vs FORCE 2015B H PREMIER
  WHITE II
TRANSP:OPAQUE
END:VEVENT
BEGIN:VEVENT
UID:31653432-3138-4765-a537-623361626433
DTSTAMP:20260425T141947Z
CLASS:PUBLIC
DESCRIPTION:YSSL 11U/5N1 Game
DTSTART;TZID=America/Chicago:20260530T103000
DTEND;TZID=America/Chicago:20260530T103000
LOCATION:PRAIRIE WALK PARK
SUMMARY:Game: 11U/5N1 NA - ROUND LAKE JUNIORS 2015 vs ELITE S.C. 2015 RED
TRANSP:OPAQUE
END:VEVENT
BEGIN:VEVENT
UID:35313630-6266-4531-a439-613239373037
DTSTAMP:20260425T141947Z
CLASS:PUBLIC
DESCRIPTION:YSSL 11U/5N1 Game
DTSTART;TZID=America/Chicago:20260419T110000
DTEND;TZID=America/Chicago:20260419T110000
LOCATION:CLAVEY PARK - MED
SUMMARY:Game: 11U/5N1 PEGASUS FC/1974 2015 WHITE vs NA - ROUND LAKE JUNIORS
  2015
TRANSP:OPAQUE
END:VEVENT
BEGIN:VEVENT
UID:35303230-3666-4136-a630-646635333065
DTSTAMP:20260425T141947Z
CLASS:PUBLIC
DESCRIPTION:YSSL 11U/5N1 Game
DTSTART;TZID=America/Chicago:20260426T090000
DTEND;TZID=America/Chicago:20260426T090000
LOCATION:LAKE VILLA TOWNSHIP SOCCER COMPLEX  - FIELD C - 9V9
SUMMARY:Game: 11U/5N1 LASC 2016 PREMIER vs NA - ROUND LAKE JUNIORS 2015
TRANSP:OPAQUE
END:VEVENT
END:VCALENDAR
