BEGIN:VCALENDAR
VERSION:2.0
PRODID:-//yssl.org//NONSGML kigkonsult.se iCalcreator 2.41.92//
CALSCALE:GREGORIAN
METHOD:PUBLISH
UID:39346461-6531-4832-b564-616431626163
X-WR-CALNAME:YSSL Calendar
X-WR-CALDESC:YSSL Calendar
X-WR-TIMEZONE:America/Chicago
BEGIN:VEVENT
UID:35633961-6234-4261-a232-323562656164
DTSTAMP:20260425T003719Z
CLASS:PUBLIC
DESCRIPTION:YSSL 10U/5NE1 Game
DTSTART;TZID=America/Chicago:20260411T140000
DTEND;TZID=America/Chicago:20260411T140000
LOCATION:CELTIC PARK FIELD  - TURF 2A
SUMMARY:Game: 10U/5NE1 PALATINE CELTIC 2016 WHITE vs NORRIDGE UNITED 2016 S
 ELECT
TRANSP:OPAQUE
END:VEVENT
BEGIN:VEVENT
UID:61633463-3932-4730-b939-343832663663
DTSTAMP:20260425T003719Z
CLASS:PUBLIC
DESCRIPTION:YSSL 10U/5NE1 Game
DTSTART;TZID=America/Chicago:20260509T153000
DTEND;TZID=America/Chicago:20260509T153000
LOCATION:EMERSON MIDDLE SCHOOL  - NW
SUMMARY:Game: 10U/5NE1 PRSC 2016 BLUE vs NORRIDGE UNITED 2016 SELECT
TRANSP:OPAQUE
END:VEVENT
BEGIN:VEVENT
UID:37643639-6432-4635-b238-363036663962
DTSTAMP:20260425T003719Z
CLASS:PUBLIC
DESCRIPTION:YSSL 10U/5NE1 Game
DTSTART;TZID=America/Chicago:20260425T163000
DTEND;TZID=America/Chicago:20260425T163000
LOCATION:HERITAGE OAKS
SUMMARY:Game: 10U/5NE1 HAWTHORN WOODS ELITE 2016 GREEN vs NORRIDGE UNITED 2
 016 SELECT
TRANSP:OPAQUE
END:VEVENT
BEGIN:VEVENT
UID:64613862-3762-4234-b161-366463376666
DTSTAMP:20260425T003719Z
CLASS:PUBLIC
DESCRIPTION:YSSL 10U/5NE1 Game
DTSTART;TZID=America/Chicago:20260419T150000
DTEND;TZID=America/Chicago:20260419T150000
LOCATION:SCIENCE &amp\; ARTS ACADEMY
SUMMARY:Game: 10U/5NE1 NORRIDGE UNITED 2016 SELECT vs ELA ELITE 2016 SELECT
TRANSP:OPAQUE
END:VEVENT
BEGIN:VEVENT
UID:35633132-3732-4634-b835-386234303931
DTSTAMP:20260425T003719Z
CLASS:PUBLIC
DESCRIPTION:YSSL 10U/5NE1 Game
DTSTART;TZID=America/Chicago:20260510T163000
DTEND;TZID=America/Chicago:20260510T163000
LOCATION:NORRIDGE PARK
SUMMARY:Game: 10U/5NE1 NORRIDGE UNITED 2016 SELECT vs PALATINE CELTIC 2016 
 WHITE
TRANSP:OPAQUE
END:VEVENT
BEGIN:VEVENT
UID:37323764-6662-4136-b963-323939366361
DTSTAMP:20260425T003719Z
CLASS:PUBLIC
DESCRIPTION:YSSL 10U/5NE1 Game
DTSTART;TZID=America/Chicago:20260516T150000
DTEND;TZID=America/Chicago:20260516T150000
LOCATION:CAROUSEL PARK
SUMMARY:Game: 10U/5NE1 IP-ARLINGTON ACES 2016 GREEN vs NORRIDGE UNITED 2016
  SELECT
TRANSP:OPAQUE
END:VEVENT
BEGIN:VEVENT
UID:39323962-3162-4434-b661-656636653065
DTSTAMP:20260425T003719Z
CLASS:PUBLIC
DESCRIPTION:YSSL 10U/5NE1 Game
DTSTART;TZID=America/Chicago:20260531T160000
DTEND;TZID=America/Chicago:20260531T160000
LOCATION:SCIENCE &amp\; ARTS ACADEMY
SUMMARY:Game: 10U/5NE1 NORRIDGE UNITED 2016 SELECT vs PRSC 2016 BLUE
TRANSP:OPAQUE
END:VEVENT
BEGIN:VEVENT
UID:37306332-3766-4764-b533-343233316137
DTSTAMP:20260425T003719Z
CLASS:PUBLIC
DESCRIPTION:YSSL 10U/5NE1 Game
DTSTART;TZID=America/Chicago:20260517T090000
DTEND;TZID=America/Chicago:20260517T090000
LOCATION:NORRIDGE PARK
SUMMARY:Game: 10U/5NE1 NORRIDGE UNITED 2016 SELECT vs IP-ARLINGTON ACES 201
 6 GREEN
TRANSP:OPAQUE
END:VEVENT
END:VCALENDAR
