BEGIN:VCALENDAR
VERSION:2.0
PRODID:-//yssl.org//NONSGML kigkonsult.se iCalcreator 2.41.92//
CALSCALE:GREGORIAN
METHOD:PUBLISH
UID:34313165-3165-4061-a135-313462323766
X-WR-CALNAME:YSSL Calendar
X-WR-CALDESC:YSSL Calendar
X-WR-TIMEZONE:America/Chicago
BEGIN:VEVENT
UID:30383939-6539-4663-a137-646438316363
DTSTAMP:20260424T112101Z
CLASS:PUBLIC
DESCRIPTION:YSSL 9U/4N2 Game
DTSTART;TZID=America/Chicago:20260411T170000
DTEND;TZID=America/Chicago:20260411T170000
LOCATION:LTSC FLD - FIELD 5A
SUMMARY:Game: 9U/4N2 LIBERTYVILLE FC 1974-2017C-BLACK 1 vs MUNDELEIN LIONS 
 2017 BLUE
TRANSP:OPAQUE
END:VEVENT
BEGIN:VEVENT
UID:34623935-3531-4030-b134-343031616438
DTSTAMP:20260424T112101Z
CLASS:PUBLIC
DESCRIPTION:YSSL 9U/4N2 Game
DTSTART;TZID=America/Chicago:20260419T080000
DTEND;TZID=America/Chicago:20260419T080000
LOCATION:WOODLAND PARK (DEERFIELD) - 7V7
SUMMARY:Game: 9U/4N2 PEGASUS FC/1974 2017 WHITE vs MUNDELEIN LIONS 2017 BLU
 E
TRANSP:OPAQUE
END:VEVENT
BEGIN:VEVENT
UID:35663930-6262-4964-a264-336433656139
DTSTAMP:20260424T112101Z
CLASS:PUBLIC
DESCRIPTION:YSSL 9U/4N2 Game
DTSTART;TZID=America/Chicago:20260425T143000
DTEND;TZID=America/Chicago:20260425T143000
LOCATION:ORCHARD FIELD - 7V7
SUMMARY:Game: 9U/4N2 ELA ELITE 2017 SELECT vs MUNDELEIN LIONS 2017 BLUE
TRANSP:OPAQUE
END:VEVENT
BEGIN:VEVENT
UID:62623134-3066-4339-b139-356232336630
DTSTAMP:20260424T112101Z
CLASS:PUBLIC
DESCRIPTION:YSSL 9U/4N2 Game
DTSTART;TZID=America/Chicago:20260531T120000
DTEND;TZID=America/Chicago:20260531T120000
LOCATION:FREMONT SCHOOL (NO PETS) - 4
SUMMARY:Game: 9U/4N2 MUNDELEIN LIONS 2017 BLUE vs PALATINE CELTIC 2017 BLAC
 K
TRANSP:OPAQUE
END:VEVENT
BEGIN:VEVENT
UID:38623139-6265-4338-b332-653063396137
DTSTAMP:20260424T112101Z
CLASS:PUBLIC
DESCRIPTION:YSSL 9U/4N2 Game
DTSTART;TZID=America/Chicago:20260509T110000
DTEND;TZID=America/Chicago:20260509T110000
LOCATION:FREMONT SCHOOL (NO PETS) - 3
SUMMARY:Game: 9U/4N2 MUNDELEIN LIONS 2017 BLUE vs LIBERTYVILLE FC 1974-2017
 C-BLACK 1
TRANSP:OPAQUE
END:VEVENT
BEGIN:VEVENT
UID:38333631-3563-4165-a634-326631303764
DTSTAMP:20260424T112101Z
CLASS:PUBLIC
DESCRIPTION:YSSL 9U/4N2 Game
DTSTART;TZID=America/Chicago:20260503T153000
DTEND;TZID=America/Chicago:20260503T153000
LOCATION:MCHENRY TOWNSHIP
SUMMARY:Game: 9U/4N2 IP-NUFC 2017 REAL vs MUNDELEIN LIONS 2017 BLUE
TRANSP:OPAQUE
END:VEVENT
BEGIN:VEVENT
UID:33326537-3430-4562-b963-383065376130
DTSTAMP:20260424T112101Z
CLASS:PUBLIC
DESCRIPTION:YSSL 9U/4N2 Game
DTSTART;TZID=America/Chicago:20260530T140000
DTEND;TZID=America/Chicago:20260530T140000
LOCATION:FREMONT SCHOOL (NO PETS) - 4
SUMMARY:Game: 9U/4N2 MUNDELEIN LIONS 2017 BLUE vs PEGASUS FC/1974 2017 WHIT
 E
TRANSP:OPAQUE
END:VEVENT
BEGIN:VEVENT
UID:37313464-6430-4531-b463-383263316435
DTSTAMP:20260424T112101Z
CLASS:PUBLIC
DESCRIPTION:YSSL 9U/4N2 Game
DTSTART;TZID=America/Chicago:20260606T110000
DTEND;TZID=America/Chicago:20260606T110000
LOCATION:FREMONT SCHOOL (NO PETS) - 4
SUMMARY:Game: 9U/4N2 MUNDELEIN LIONS 2017 BLUE vs IP-NUFC 2017 REAL
TRANSP:OPAQUE
END:VEVENT
END:VCALENDAR
