BEGIN:VCALENDAR
VERSION:2.0
PRODID:-//yssl.org//NONSGML kigkonsult.se iCalcreator 2.41.92//
CALSCALE:GREGORIAN
METHOD:PUBLISH
UID:33303264-3338-4261-b539-336236383433
X-WR-CALNAME:YSSL Calendar
X-WR-CALDESC:YSSL Calendar
X-WR-TIMEZONE:America/Chicago
BEGIN:VEVENT
UID:36333030-6634-4662-a262-653366336138
DTSTAMP:20260425T155708Z
CLASS:PUBLIC
DESCRIPTION:YSSL 8U-7V7/5N Game
DTSTART;TZID=America/Chicago:20260411T093000
DTEND;TZID=America/Chicago:20260411T093000
LOCATION:CELTIC PARK FIELD  - TURF 2A
SUMMARY:Game: 8U-7V7/5N PALATINE CELTIC 2018 BLACK vs MUNDELEIN LIONS 2018 
 BLUE
TRANSP:OPAQUE
END:VEVENT
BEGIN:VEVENT
UID:31383064-3938-4465-b935-343338393062
DTSTAMP:20260425T155708Z
CLASS:PUBLIC
DESCRIPTION:YSSL 8U-7V7/5N Game
DTSTART;TZID=America/Chicago:20260419T110000
DTEND;TZID=America/Chicago:20260419T110000
LOCATION:FREMONT SCHOOL (NO PETS) - 4
SUMMARY:Game: 8U-7V7/5N MUNDELEIN LIONS 2018 BLUE vs HAWTHORN WOODS ELITE 2
 018/19
TRANSP:OPAQUE
END:VEVENT
BEGIN:VEVENT
UID:39343530-3735-4764-b631-303330346434
DTSTAMP:20260425T155708Z
CLASS:PUBLIC
DESCRIPTION:YSSL 8U-7V7/5N Game
DTSTART;TZID=America/Chicago:20260613T160000
DTEND;TZID=America/Chicago:20260613T160000
LOCATION:FREMONT SCHOOL (NO PETS) - 2
SUMMARY:Game: 8U-7V7/5N MUNDELEIN LIONS 2018 BLUE vs SAA UNITED SC 2018 RED
TRANSP:OPAQUE
END:VEVENT
BEGIN:VEVENT
UID:33613135-6332-4037-b639-386666646363
DTSTAMP:20260425T155708Z
CLASS:PUBLIC
DESCRIPTION:YSSL 8U-7V7/5N Game
DTSTART;TZID=America/Chicago:20260502T090000
DTEND;TZID=America/Chicago:20260502T090000
LOCATION:LAKEWOOD GROVE PARK
SUMMARY:Game: 8U-7V7/5N REAL MADRID ROUND LAKE FC 2018 vs MUNDELEIN LIONS 2
 018 BLUE
TRANSP:OPAQUE
END:VEVENT
BEGIN:VEVENT
UID:62623634-6130-4530-a434-656231393533
DTSTAMP:20260425T155708Z
CLASS:PUBLIC
DESCRIPTION:YSSL 8U-7V7/5N Game
DTSTART;TZID=America/Chicago:20260510T090000
DTEND;TZID=America/Chicago:20260510T090000
LOCATION:FREMONT SCHOOL (NO PETS) - 4
SUMMARY:Game: 8U-7V7/5N MUNDELEIN LIONS 2018 BLUE vs LIBERTYVILLE FC 1974-2
 018A-ORANGE 1
TRANSP:OPAQUE
END:VEVENT
BEGIN:VEVENT
UID:31323534-3763-4963-b932-366234336531
DTSTAMP:20260425T155708Z
CLASS:PUBLIC
DESCRIPTION:YSSL 8U-7V7/5N Game
DTSTART;TZID=America/Chicago:20260516T120000
DTEND;TZID=America/Chicago:20260516T120000
LOCATION:ORCHARD FIELD - 7V7
SUMMARY:Game: 8U-7V7/5N ELA ELITE 2018 SELECT vs MUNDELEIN LIONS 2018 BLUE
TRANSP:OPAQUE
END:VEVENT
BEGIN:VEVENT
UID:35353736-3262-4064-b439-353336613230
DTSTAMP:20260425T155708Z
CLASS:PUBLIC
DESCRIPTION:YSSL 8U-7V7/5N Game
DTSTART;TZID=America/Chicago:20260506T180000
DTEND;TZID=America/Chicago:20260506T180000
LOCATION:FREMONT SCHOOL (NO PETS) - 4
SUMMARY:Game: 8U-7V7/5N MUNDELEIN LIONS 2018 BLUE vs LASC 2018 BLACK
TRANSP:OPAQUE
END:VEVENT
BEGIN:VEVENT
UID:64666631-3862-4764-a236-386430313863
DTSTAMP:20260425T155708Z
CLASS:PUBLIC
DESCRIPTION:YSSL 8U-7V7/5N Game
DTSTART;TZID=America/Chicago:20260607T090000
DTEND;TZID=America/Chicago:20260607T090000
LOCATION:FREMONT SCHOOL (NO PETS) - 4
SUMMARY:Game: 8U-7V7/5N MUNDELEIN LIONS 2018 BLUE vs SAA UNITED SC 2018 RED
TRANSP:OPAQUE
END:VEVENT
END:VCALENDAR
