BEGIN:VCALENDAR
VERSION:2.0
PRODID:-//yssl.org//NONSGML kigkonsult.se iCalcreator 2.41.92//
CALSCALE:GREGORIAN
METHOD:PUBLISH
UID:38376232-3964-4532-b434-313839366638
X-WR-CALNAME:YSSL Calendar
X-WR-CALDESC:YSSL Calendar
X-WR-TIMEZONE:America/Chicago
BEGIN:VEVENT
UID:65356134-6134-4762-a637-636132613833
DTSTAMP:20260424T205156Z
CLASS:PUBLIC
DESCRIPTION:YSSL 11U/4N2 Game
DTSTART;TZID=America/Chicago:20260419T140000
DTEND;TZID=America/Chicago:20260419T140000
LOCATION:FREMONT SCHOOL (NO PETS) - 3
SUMMARY:Game: 11U/4N2 MUNDELEIN LIONS 2015 BLUE vs NSFC 2015 BLACK
TRANSP:OPAQUE
END:VEVENT
BEGIN:VEVENT
UID:33313266-3034-4135-b537-613132656337
DTSTAMP:20260424T205156Z
CLASS:PUBLIC
DESCRIPTION:YSSL 11U/4N2 Game
DTSTART;TZID=America/Chicago:20260526T180000
DTEND;TZID=America/Chicago:20260526T180000
LOCATION:FREMONT SCHOOL (NO PETS) - 3
SUMMARY:Game: 11U/4N2 MUNDELEIN LIONS 2015 BLUE vs CHICAGO FC UNITED 2015 S
 ELECT I
TRANSP:OPAQUE
END:VEVENT
BEGIN:VEVENT
UID:34303239-3962-4438-b462-353435393634
DTSTAMP:20260424T205156Z
CLASS:PUBLIC
DESCRIPTION:YSSL 11U/4N2 Game
DTSTART;TZID=America/Chicago:20260524T090000
DTEND;TZID=America/Chicago:20260524T090000
LOCATION:MARIE MURPHY JUNIOR HIGH SCHOOL - 9V9
SUMMARY:Game: 11U/4N2 CHICAGO FC UNITED 2015 SELECT I vs MUNDELEIN LIONS 20
 15 BLUE
TRANSP:OPAQUE
END:VEVENT
BEGIN:VEVENT
UID:61393234-3236-4765-a264-653265356436
DTSTAMP:20260424T205156Z
CLASS:PUBLIC
DESCRIPTION:YSSL 11U/4N2 Game
DTSTART;TZID=America/Chicago:20260502T103000
DTEND;TZID=America/Chicago:20260502T103000
LOCATION:VEHE PK - 9V9
SUMMARY:Game: 11U/4N2 ELA ELITE 2015 SELECT vs MUNDELEIN LIONS 2015 BLUE
TRANSP:OPAQUE
END:VEVENT
BEGIN:VEVENT
UID:34323661-6261-4166-b964-313661356133
DTSTAMP:20260424T205156Z
CLASS:PUBLIC
DESCRIPTION:YSSL 11U/4N2 Game
DTSTART;TZID=America/Chicago:20260509T090000
DTEND;TZID=America/Chicago:20260509T090000
LOCATION:ALLEGHANY PARK - AH 4
SUMMARY:Game: 11U/4N2 FC LAKE COUNTY 2015 BLUE vs MUNDELEIN LIONS 2015 BLUE
TRANSP:OPAQUE
END:VEVENT
BEGIN:VEVENT
UID:63613332-6230-4631-b036-343965396161
DTSTAMP:20260424T205156Z
CLASS:PUBLIC
DESCRIPTION:YSSL 11U/4N2 Game
DTSTART;TZID=America/Chicago:20260517T163000
DTEND;TZID=America/Chicago:20260517T163000
LOCATION:LAKE FOREST HIGH SCHOOL WEST CAMPUS - FIELD 3 (9V9)
SUMMARY:Game: 11U/4N2 NSFC 2015 BLACK vs MUNDELEIN LIONS 2015 BLUE
TRANSP:OPAQUE
END:VEVENT
BEGIN:VEVENT
UID:65643237-6136-4031-a139-366330346632
DTSTAMP:20260424T205156Z
CLASS:PUBLIC
DESCRIPTION:YSSL 11U/4N2 Game
DTSTART;TZID=America/Chicago:20260531T140000
DTEND;TZID=America/Chicago:20260531T140000
LOCATION:FREMONT SCHOOL (NO PETS) - 3
SUMMARY:Game: 11U/4N2 MUNDELEIN LIONS 2015 BLUE vs LEO SOCCER SCHOOL 2015 B
TRANSP:OPAQUE
END:VEVENT
BEGIN:VEVENT
UID:39316339-3835-4161-b830-386639653336
DTSTAMP:20260424T205156Z
CLASS:PUBLIC
DESCRIPTION:YSSL 11U/4N2 Game
DTSTART;TZID=America/Chicago:20260607T143000
DTEND;TZID=America/Chicago:20260607T143000
LOCATION:FREMONT SCHOOL (NO PETS) - 3
SUMMARY:Game: 11U/4N2 MUNDELEIN LIONS 2015 BLUE vs FC LAKE COUNTY 2015 BLUE
TRANSP:OPAQUE
END:VEVENT
END:VCALENDAR
