BEGIN:VCALENDAR
VERSION:2.0
PRODID:-//yssl.org//NONSGML kigkonsult.se iCalcreator 2.41.92//
CALSCALE:GREGORIAN
METHOD:PUBLISH
UID:31666634-3830-4464-b366-313135376162
X-WR-CALNAME:YSSL Calendar
X-WR-CALDESC:YSSL Calendar
X-WR-TIMEZONE:America/Chicago
BEGIN:VEVENT
UID:38393837-3235-4832-b536-383861336134
DTSTAMP:20260425T041102Z
CLASS:PUBLIC
DESCRIPTION:YSSL 14U/5N Game
DTSTART;TZID=America/Chicago:20260516T093000
DTEND;TZID=America/Chicago:20260516T093000
LOCATION:COMMUNITY PARK WEST (GLENVIEW) - 6 - (11 V 11)
SUMMARY:Game: 14U/5N FC-1 ACADEMY 2012 SELECT GREY vs LASC 2012 SELECT
TRANSP:OPAQUE
END:VEVENT
BEGIN:VEVENT
UID:65386230-3430-4964-a564-343866633564
DTSTAMP:20260425T041102Z
CLASS:PUBLIC
DESCRIPTION:YSSL 14U/5N Game
DTSTART;TZID=America/Chicago:20260607T153000
DTEND;TZID=America/Chicago:20260607T153000
LOCATION:LAKE VILLA TOWNSHIP SOCCER COMPLEX
SUMMARY:Game: 14U/5N REAL MADRID ROUND LAKE FC 2012 ELITE vs LASC 2012 SELE
 CT
TRANSP:OPAQUE
END:VEVENT
BEGIN:VEVENT
UID:62303332-6133-4634-b366-376562313563
DTSTAMP:20260425T041102Z
CLASS:PUBLIC
DESCRIPTION:YSSL 14U/5N Game
DTSTART;TZID=America/Chicago:20260426T133000
DTEND;TZID=America/Chicago:20260426T133000
LOCATION:MELAS PARK - #1 11V11
SUMMARY:Game: 14U/5N ELITE S.C. 2012 BLACK vs LASC 2012 SELECT
TRANSP:OPAQUE
END:VEVENT
BEGIN:VEVENT
UID:31613738-3432-4066-b730-376366323162
DTSTAMP:20260425T041102Z
CLASS:PUBLIC
DESCRIPTION:YSSL 14U/5N Game
DTSTART;TZID=America/Chicago:20260509T090000
DTEND;TZID=America/Chicago:20260509T090000
LOCATION:LAKE VILLA TOWNSHIP SOCCER COMPLEX  - FIELD E - 11V11
SUMMARY:Game: 14U/5N LASC 2012 SELECT vs REAL MADRID ROUND LAKE FC 2012 ELI
 TE
TRANSP:OPAQUE
END:VEVENT
BEGIN:VEVENT
UID:34353739-6335-4865-b730-386332306563
DTSTAMP:20260425T041102Z
CLASS:PUBLIC
DESCRIPTION:YSSL 14U/5N Game
DTSTART;TZID=America/Chicago:20260502T150000
DTEND;TZID=America/Chicago:20260502T150000
LOCATION:KNIGGE FIELD - 11V11
SUMMARY:Game: 14U/5N ELA ELITE 2012 PREMIER vs LASC 2012 SELECT
TRANSP:OPAQUE
END:VEVENT
BEGIN:VEVENT
UID:30653239-6661-4632-a662-653864303439
DTSTAMP:20260425T041102Z
CLASS:PUBLIC
DESCRIPTION:YSSL 14U/5N Game
DTSTART;TZID=America/Chicago:20260530T093000
DTEND;TZID=America/Chicago:20260530T093000
LOCATION:LAKE VILLA TOWNSHIP SOCCER COMPLEX  - FIELD E - 11V11
SUMMARY:Game: 14U/5N LASC 2012 SELECT vs PRSC PREMIER 2012 SILVER
TRANSP:OPAQUE
END:VEVENT
BEGIN:VEVENT
UID:63663538-3562-4633-b835-383464376363
DTSTAMP:20260425T041102Z
CLASS:PUBLIC
DESCRIPTION:YSSL 14U/5N Game
DTSTART;TZID=America/Chicago:20260606T083000
DTEND;TZID=America/Chicago:20260606T083000
LOCATION:LAKE VILLA TOWNSHIP SOCCER COMPLEX  - FIELD E - 11V11
SUMMARY:Game: 14U/5N LASC 2012 SELECT vs ELA ELITE 2012 PREMIER
TRANSP:OPAQUE
END:VEVENT
BEGIN:VEVENT
UID:62326139-3130-4439-b064-663630383833
DTSTAMP:20260425T041102Z
CLASS:PUBLIC
DESCRIPTION:YSSL 14U/5N Game
DTSTART;TZID=America/Chicago:20260425T100000
DTEND;TZID=America/Chicago:20260425T100000
LOCATION:LAKE VILLA TOWNSHIP SOCCER COMPLEX  - FIELD E - 11V11
SUMMARY:Game: 14U/5N LASC 2012 SELECT vs PEGASUS FC/1974 2012 BLACK
TRANSP:OPAQUE
END:VEVENT
END:VCALENDAR
