BEGIN:VCALENDAR
VERSION:2.0
PRODID:-//yssl.org//NONSGML kigkonsult.se iCalcreator 2.41.92//
CALSCALE:GREGORIAN
METHOD:PUBLISH
UID:38373366-6166-4463-b064-646432663639
X-WR-CALNAME:YSSL Calendar
X-WR-CALDESC:YSSL Calendar
X-WR-TIMEZONE:America/Chicago
BEGIN:VEVENT
UID:31656466-3033-4463-b333-616530313130
DTSTAMP:20260425T210659Z
CLASS:PUBLIC
DESCRIPTION:YSSL 12U/4NW1 Game
DTSTART;TZID=America/Chicago:20260418T150000
DTEND;TZID=America/Chicago:20260418T150000
LOCATION:LAKE VILLA TOWNSHIP SOCCER COMPLEX  - FIELD C
SUMMARY:Game: 12U/4NW1 LASC 2014 PREMIER vs HAWTHORN WOODS ELITE 2014 GREEN
TRANSP:OPAQUE
END:VEVENT
BEGIN:VEVENT
UID:63663065-6437-4362-b835-633037396461
DTSTAMP:20260425T210659Z
CLASS:PUBLIC
DESCRIPTION:YSSL 12U/4NW1 Game
DTSTART;TZID=America/Chicago:20260517T090000
DTEND;TZID=America/Chicago:20260517T090000
LOCATION:HERITAGE PARK (WHEELING) - #9 9V9
SUMMARY:Game: 12U/4NW1 ELITE S.C. 2014 BLACK vs LASC 2014 PREMIER
TRANSP:OPAQUE
END:VEVENT
BEGIN:VEVENT
UID:66333861-6336-4430-b735-613566623730
DTSTAMP:20260425T210659Z
CLASS:PUBLIC
DESCRIPTION:YSSL 12U/4NW1 Game
DTSTART;TZID=America/Chicago:20260509T103000
DTEND;TZID=America/Chicago:20260509T103000
LOCATION:RON GBUR SPORTS  - FIELD 4
SUMMARY:Game: 12U/4NW1 PALATINE CELTIC 2014 GREEN vs LASC 2014 PREMIER
TRANSP:OPAQUE
END:VEVENT
BEGIN:VEVENT
UID:36346333-6536-4562-b964-613036313464
DTSTAMP:20260425T210659Z
CLASS:PUBLIC
DESCRIPTION:YSSL 12U/4NW1 Game
DTSTART;TZID=America/Chicago:20260516T170000
DTEND;TZID=America/Chicago:20260516T170000
LOCATION:VICTORIA PK
SUMMARY:Game: 12U/4NW1 NWF 2014 THUNDER HU vs LASC 2014 PREMIER
TRANSP:OPAQUE
END:VEVENT
BEGIN:VEVENT
UID:65623361-3233-4766-a163-373939343039
DTSTAMP:20260425T210659Z
CLASS:PUBLIC
DESCRIPTION:YSSL 12U/4NW1 Game
DTSTART;TZID=America/Chicago:20260530T090000
DTEND;TZID=America/Chicago:20260530T090000
LOCATION:LAKE VILLA TOWNSHIP SOCCER COMPLEX  - FIELD C - 9V9
SUMMARY:Game: 12U/4NW1 LASC 2014 PREMIER vs LANCER SC 2014/15
TRANSP:OPAQUE
END:VEVENT
BEGIN:VEVENT
UID:63316362-3132-4261-b362-333266346532
DTSTAMP:20260425T210659Z
CLASS:PUBLIC
DESCRIPTION:YSSL 12U/4NW1 Game
DTSTART;TZID=America/Chicago:20260606T120000
DTEND;TZID=America/Chicago:20260606T120000
LOCATION:LAKE VILLA TOWNSHIP SOCCER COMPLEX  - FIELD C - 9V9
SUMMARY:Game: 12U/4NW1 LASC 2014 PREMIER vs NWF 2014 THUNDER HU
TRANSP:OPAQUE
END:VEVENT
BEGIN:VEVENT
UID:37643862-3433-4165-b632-393230353935
DTSTAMP:20260425T210659Z
CLASS:PUBLIC
DESCRIPTION:YSSL 12U/4NW1 Game
DTSTART;TZID=America/Chicago:20260502T140000
DTEND;TZID=America/Chicago:20260502T140000
LOCATION:LAKE VILLA TOWNSHIP SOCCER COMPLEX  - FIELD C - 9V9
SUMMARY:Game: 12U/4NW1 LASC 2014 PREMIER vs GOLEADORES 2014/2015
TRANSP:OPAQUE
END:VEVENT
BEGIN:VEVENT
UID:30396234-6237-4463-a633-656663386265
DTSTAMP:20260425T210659Z
CLASS:PUBLIC
DESCRIPTION:YSSL 12U/4NW1 Game
DTSTART;TZID=America/Chicago:20260510T140000
DTEND;TZID=America/Chicago:20260510T140000
LOCATION:LAKE VILLA TOWNSHIP SOCCER COMPLEX  - FIELD C - 9V9
SUMMARY:Game: 12U/4NW1 LASC 2014 PREMIER vs SAA UNITED SC 2014 RED
TRANSP:OPAQUE
END:VEVENT
END:VCALENDAR
