BEGIN:VCALENDAR
VERSION:2.0
PRODID:-//yssl.org//NONSGML kigkonsult.se iCalcreator 2.41.92//
CALSCALE:GREGORIAN
METHOD:PUBLISH
UID:32323634-3636-4033-b162-363763333462
X-WR-CALNAME:YSSL Calendar
X-WR-CALDESC:YSSL Calendar
X-WR-TIMEZONE:America/Chicago
BEGIN:VEVENT
UID:37666431-6437-4466-a639-336431643633
DTSTAMP:20260424T193501Z
CLASS:PUBLIC
DESCRIPTION:YSSL 11U/2N Game
DTSTART;TZID=America/Chicago:20260503T090000
DTEND;TZID=America/Chicago:20260503T090000
LOCATION:ALLEGHANY PARK - AH 3
SUMMARY:Game: 11U/2N FC LAKE COUNTY 2015 ELITE vs LASC 2015 ELITE
TRANSP:OPAQUE
END:VEVENT
BEGIN:VEVENT
UID:35643739-3966-4030-b066-646461326464
DTSTAMP:20260424T193501Z
CLASS:PUBLIC
DESCRIPTION:YSSL 11U/2N Game
DTSTART;TZID=America/Chicago:20260419T150000
DTEND;TZID=America/Chicago:20260419T150000
LOCATION:NORTH PARK FIELDS  - 9V9
SUMMARY:Game: 11U/2N RUSH NORTH 2015 PREMIER vs LASC 2015 ELITE
TRANSP:OPAQUE
END:VEVENT
BEGIN:VEVENT
UID:36306265-3232-4166-b636-613538386432
DTSTAMP:20260424T193501Z
CLASS:PUBLIC
DESCRIPTION:YSSL 11U/2N Game
DTSTART;TZID=America/Chicago:20260514T190000
DTEND;TZID=America/Chicago:20260514T190000
LOCATION:WILLOW PARK - 1
SUMMARY:Game: 11U/2N CHICAGO FC UNITED 2015 PRE-ACADEMY I vs LASC 2015 ELIT
 E
TRANSP:OPAQUE
END:VEVENT
BEGIN:VEVENT
UID:61666563-3331-4631-b463-656239646363
DTSTAMP:20260424T193501Z
CLASS:PUBLIC
DESCRIPTION:YSSL 11U/2N Game
DTSTART;TZID=America/Chicago:20260509T170000
DTEND;TZID=America/Chicago:20260509T170000
LOCATION:LAKE VILLA TOWNSHIP SOCCER COMPLEX  - FIELD C - 9V9
SUMMARY:Game: 11U/2N LASC 2015 ELITE vs RUSH NORTH 2015 PREMIER
TRANSP:OPAQUE
END:VEVENT
BEGIN:VEVENT
UID:33366565-6439-4631-a639-643134333262
DTSTAMP:20260424T193501Z
CLASS:PUBLIC
DESCRIPTION:YSSL 11U/2N Game
DTSTART;TZID=America/Chicago:20260516T090000
DTEND;TZID=America/Chicago:20260516T090000
LOCATION:COUNTRYSIDE WEST - 9V9
SUMMARY:Game: 11U/2N ELA ELITE 2015 vs LASC 2015 ELITE
TRANSP:OPAQUE
END:VEVENT
BEGIN:VEVENT
UID:39386632-3565-4266-b664-386462623630
DTSTAMP:20260424T193501Z
CLASS:PUBLIC
DESCRIPTION:YSSL 11U/2N Game
DTSTART;TZID=America/Chicago:20260607T133000
DTEND;TZID=America/Chicago:20260607T133000
LOCATION:LAKE VILLA TOWNSHIP SOCCER COMPLEX  - FIELD C - 9V9
SUMMARY:Game: 11U/2N LASC 2015 ELITE vs REAL MADRID ROUND LAKE FC  2015  PR
 E-ACADEMY
TRANSP:OPAQUE
END:VEVENT
BEGIN:VEVENT
UID:37373733-3934-4164-a264-366530313862
DTSTAMP:20260424T193501Z
CLASS:PUBLIC
DESCRIPTION:YSSL 11U/2N Game
DTSTART;TZID=America/Chicago:20260606T113000
DTEND;TZID=America/Chicago:20260606T113000
LOCATION:LAKE VILLA TOWNSHIP SOCCER COMPLEX  - FIELD C - 9V9
SUMMARY:Game: 11U/2N LASC 2015 ELITE vs ELA ELITE 2015
TRANSP:OPAQUE
END:VEVENT
BEGIN:VEVENT
UID:39336431-3433-4337-b334-353832346637
DTSTAMP:20260424T193501Z
CLASS:PUBLIC
DESCRIPTION:YSSL 11U/2N Game
DTSTART;TZID=America/Chicago:20260426T120000
DTEND;TZID=America/Chicago:20260426T120000
LOCATION:LAKE VILLA TOWNSHIP SOCCER COMPLEX  - FIELD C - 9V9
SUMMARY:Game: 11U/2N LASC 2015 ELITE vs NSFC 2015 ELITE
TRANSP:OPAQUE
END:VEVENT
END:VCALENDAR
