BEGIN:VCALENDAR
VERSION:2.0
PRODID:-//yssl.org//NONSGML kigkonsult.se iCalcreator 2.41.92//
CALSCALE:GREGORIAN
METHOD:PUBLISH
UID:30653233-6638-4334-b739-306237393264
X-WR-CALNAME:YSSL Calendar
X-WR-CALDESC:YSSL Calendar
X-WR-TIMEZONE:America/Chicago
BEGIN:VEVENT
UID:35383162-3763-4066-b166-653863616166
DTSTAMP:20260425T024014Z
CLASS:PUBLIC
DESCRIPTION:YSSL 10U/5N2 Game
DTSTART;TZID=America/Chicago:20260411T173000
DTEND;TZID=America/Chicago:20260411T173000
LOCATION:ALLEGHANY PARK - AH 12
SUMMARY:Game: 10U/5N2 FC LAKE COUNTY 2016 BLUE vs LASC 2016 SELECT YELLOW
TRANSP:OPAQUE
END:VEVENT
BEGIN:VEVENT
UID:36363735-3465-4764-b365-383833623438
DTSTAMP:20260425T024014Z
CLASS:PUBLIC
DESCRIPTION:YSSL 10U/5N2 Game
DTSTART;TZID=America/Chicago:20260426T110000
DTEND;TZID=America/Chicago:20260426T110000
LOCATION:LAKE VILLA TOWNSHIP SOCCER COMPLEX  - FIELD B - 7V7
SUMMARY:Game: 10U/5N2 LASC 2016 SELECT YELLOW vs PEGASUS FC/1974 2016 GRAY
TRANSP:OPAQUE
END:VEVENT
BEGIN:VEVENT
UID:39343534-6131-4661-b039-653639366562
DTSTAMP:20260425T024014Z
CLASS:PUBLIC
DESCRIPTION:YSSL 10U/5N2 Game
DTSTART;TZID=America/Chicago:20260502T163000
DTEND;TZID=America/Chicago:20260502T163000
LOCATION:ORCHARD FIELD - 7V7
SUMMARY:Game: 10U/5N2 ELA ELITE 2016 COMPETITIVE vs LASC 2016 SELECT YELLOW
TRANSP:OPAQUE
END:VEVENT
BEGIN:VEVENT
UID:37353836-3062-4036-a236-346636346230
DTSTAMP:20260425T024014Z
CLASS:PUBLIC
DESCRIPTION:YSSL 10U/5N2 Game
DTSTART;TZID=America/Chicago:20260509T140000
DTEND;TZID=America/Chicago:20260509T140000
LOCATION:LAKE VILLA TOWNSHIP SOCCER COMPLEX  - FIELD B - 7V7
SUMMARY:Game: 10U/5N2 LASC 2016 SELECT YELLOW vs SCOUTS FC 2016
TRANSP:OPAQUE
END:VEVENT
BEGIN:VEVENT
UID:32313361-6138-4565-b935-316233393565
DTSTAMP:20260425T024014Z
CLASS:PUBLIC
DESCRIPTION:YSSL 10U/5N2 Game
DTSTART;TZID=America/Chicago:20260503T140000
DTEND;TZID=America/Chicago:20260503T140000
LOCATION:MCHENRY TOWNSHIP  - #3 (U9-U10)
SUMMARY:Game: 10U/5N2 IP-NUFC 2016 ORANGE vs LASC 2016 SELECT YELLOW
TRANSP:OPAQUE
END:VEVENT
BEGIN:VEVENT
UID:37303234-3663-4333-b764-363331343462
DTSTAMP:20260425T024014Z
CLASS:PUBLIC
DESCRIPTION:YSSL 10U/5N2 Game
DTSTART;TZID=America/Chicago:20260530T140000
DTEND;TZID=America/Chicago:20260530T140000
LOCATION:LAKE VILLA TOWNSHIP SOCCER COMPLEX  - FIELD B - 7V7
SUMMARY:Game: 10U/5N2 LASC 2016 SELECT YELLOW vs FC LAKE COUNTY 2016 BLUE
TRANSP:OPAQUE
END:VEVENT
BEGIN:VEVENT
UID:31643437-3732-4931-b938-666265613265
DTSTAMP:20260425T024014Z
CLASS:PUBLIC
DESCRIPTION:YSSL 10U/5N2 Game
DTSTART;TZID=America/Chicago:20260606T130000
DTEND;TZID=America/Chicago:20260606T130000
LOCATION:LAKEWOOD GROVE PARK
SUMMARY:Game: 10U/5N2 SCOUTS FC 2016 vs LASC 2016 SELECT YELLOW
TRANSP:OPAQUE
END:VEVENT
BEGIN:VEVENT
UID:37356433-6466-4937-b064-333633666536
DTSTAMP:20260425T024014Z
CLASS:PUBLIC
DESCRIPTION:YSSL 10U/5N2 Game
DTSTART;TZID=America/Chicago:20260509T160000
DTEND;TZID=America/Chicago:20260509T160000
LOCATION:LAKE VILLA TOWNSHIP SOCCER COMPLEX  - FIELD B - 7V7
SUMMARY:Game: 10U/5N2 LASC 2016 SELECT YELLOW vs IP-NUFC 2016 ORANGE
TRANSP:OPAQUE
END:VEVENT
END:VCALENDAR
