BEGIN:VCALENDAR
VERSION:2.0
PRODID:-//yssl.org//NONSGML kigkonsult.se iCalcreator 2.41.92//
CALSCALE:GREGORIAN
METHOD:PUBLISH
UID:62366537-6362-4863-a562-383066393064
X-WR-CALNAME:YSSL Calendar
X-WR-CALDESC:YSSL Calendar
X-WR-TIMEZONE:America/Chicago
BEGIN:VEVENT
UID:35393531-3035-4064-b831-643031626638
DTSTAMP:20260425T041231Z
CLASS:PUBLIC
DESCRIPTION:YSSL 11U/3N Game
DTSTART;TZID=America/Chicago:20260411T140000
DTEND;TZID=America/Chicago:20260411T140000
LOCATION:CLAVEY PARK - MED
SUMMARY:Game: 11U/3N PEGASUS FC/1974 2016 RED vs RUSH - WILMETTE WINGS 2016
  PREMIER BOYS
TRANSP:OPAQUE
END:VEVENT
BEGIN:VEVENT
UID:38396264-6132-4237-a137-366463303166
DTSTAMP:20260425T041231Z
CLASS:PUBLIC
DESCRIPTION:YSSL 11U/3N Game
DTSTART;TZID=America/Chicago:20260418T131500
DTEND;TZID=America/Chicago:20260418T131500
LOCATION:DEERPATH COMMUNITY PARK (LAKE FOREST)
SUMMARY:Game: 11U/3N NSFC 2016 ELITE vs PEGASUS FC/1974 2016 RED
TRANSP:OPAQUE
END:VEVENT
BEGIN:VEVENT
UID:65326465-3739-4762-b038-646633653633
DTSTAMP:20260425T041231Z
CLASS:PUBLIC
DESCRIPTION:YSSL 11U/3N Game
DTSTART;TZID=America/Chicago:20260426T113000
DTEND;TZID=America/Chicago:20260426T113000
LOCATION:COUNTRYSIDE WEST - 9V9
SUMMARY:Game: 11U/3N ELA ELITE 2015 PREMIER vs PEGASUS FC/1974 2016 RED
TRANSP:OPAQUE
END:VEVENT
BEGIN:VEVENT
UID:35363763-3333-4565-a133-616265313538
DTSTAMP:20260425T041231Z
CLASS:PUBLIC
DESCRIPTION:YSSL 11U/3N Game
DTSTART;TZID=America/Chicago:20260530T123000
DTEND;TZID=America/Chicago:20260530T123000
LOCATION:CLAVEY PARK - MED
SUMMARY:Game: 11U/3N PEGASUS FC/1974 2016 RED vs PALATINE CELTIC 2015 GREEN
TRANSP:OPAQUE
END:VEVENT
BEGIN:VEVENT
UID:35333437-3935-4132-b466-663162343639
DTSTAMP:20260425T041231Z
CLASS:PUBLIC
DESCRIPTION:YSSL 11U/3N Game
DTSTART;TZID=America/Chicago:20260509T093000
DTEND;TZID=America/Chicago:20260509T093000
LOCATION:WAUKEGAN SPORTS PARK - 9V9
SUMMARY:Game: 11U/3N HOTC ELITE 2015 vs PEGASUS FC/1974 2016 RED
TRANSP:OPAQUE
END:VEVENT
BEGIN:VEVENT
UID:34643535-3332-4633-b736-313631383039
DTSTAMP:20260425T041231Z
CLASS:PUBLIC
DESCRIPTION:YSSL 11U/3N Game
DTSTART;TZID=America/Chicago:20260516T110000
DTEND;TZID=America/Chicago:20260516T110000
LOCATION:CLAVEY PARK - MED
SUMMARY:Game: 11U/3N PEGASUS FC/1974 2016 RED vs PEGASUS FC/1974 2015 BLACK
TRANSP:OPAQUE
END:VEVENT
BEGIN:VEVENT
UID:66313461-3039-4363-a436-663162313132
DTSTAMP:20260425T041231Z
CLASS:PUBLIC
DESCRIPTION:YSSL 11U/3N Game
DTSTART;TZID=America/Chicago:20260531T123000
DTEND;TZID=America/Chicago:20260531T123000
LOCATION:COMMUNITY PARK WEST (GLENVIEW) - 2 - (9 V 9)
SUMMARY:Game: 11U/3N FC-1 ACADEMY 2015 SELECT BLUE 1 vs PEGASUS FC/1974 201
 6 RED
TRANSP:OPAQUE
END:VEVENT
BEGIN:VEVENT
UID:38353765-3063-4938-b238-636636316561
DTSTAMP:20260425T041231Z
CLASS:PUBLIC
DESCRIPTION:YSSL 11U/3N Game
DTSTART;TZID=America/Chicago:20260502T123000
DTEND;TZID=America/Chicago:20260502T123000
LOCATION:CLAVEY PARK - MED
SUMMARY:Game: 11U/3N PEGASUS FC/1974 2016 RED vs FC-1 ACADEMY 2015 SELECT B
 LUE 1
TRANSP:OPAQUE
END:VEVENT
END:VCALENDAR
