BEGIN:VCALENDAR
VERSION:2.0
PRODID:-//yssl.org//NONSGML kigkonsult.se iCalcreator 2.41.92//
CALSCALE:GREGORIAN
METHOD:PUBLISH
UID:38646466-6236-4934-a664-363866623932
X-WR-CALNAME:YSSL Calendar
X-WR-CALDESC:YSSL Calendar
X-WR-TIMEZONE:America/Chicago
BEGIN:VEVENT
UID:30623930-3633-4362-a534-313330366339
DTSTAMP:20260424T124944Z
CLASS:PUBLIC
DESCRIPTION:YSSL 9U/3E Game
DTSTART;TZID=America/Chicago:20260607T091500
DTEND;TZID=America/Chicago:20260607T091500
LOCATION:ROGERS PARK  - SMALL
SUMMARY:Game: 9U/3E IPROSKILLS 2017 NEON vs FCS TEAM EVANSTON 2017 BOYS ORA
 NGE I
TRANSP:OPAQUE
END:VEVENT
BEGIN:VEVENT
UID:66306563-6663-4761-a165-623463393830
DTSTAMP:20260424T124944Z
CLASS:PUBLIC
DESCRIPTION:YSSL 9U/3E Game
DTSTART;TZID=America/Chicago:20260418T101500
DTEND;TZID=America/Chicago:20260418T101500
LOCATION:ROGERS PARK  - SMALL
SUMMARY:Game: 9U/3E IPROSKILLS 2017 NEON vs RUSH - WILMETTE WINGS 2017 PREM
 IER
TRANSP:OPAQUE
END:VEVENT
BEGIN:VEVENT
UID:35343137-6633-4764-a132-666464366562
DTSTAMP:20260424T124944Z
CLASS:PUBLIC
DESCRIPTION:YSSL 9U/3E Game
DTSTART;TZID=America/Chicago:20260425T140000
DTEND;TZID=America/Chicago:20260425T140000
LOCATION:ROGERS PARK  - 1
SUMMARY:Game: 9U/3E IPROSKILLS 2017 NEON vs BVB IA CHICAGO 2017/2018 YELLOW
TRANSP:OPAQUE
END:VEVENT
BEGIN:VEVENT
UID:33653733-3965-4136-b266-313437353662
DTSTAMP:20260424T124944Z
CLASS:PUBLIC
DESCRIPTION:YSSL 9U/3E Game
DTSTART;TZID=America/Chicago:20260426T080000
DTEND;TZID=America/Chicago:20260426T080000
LOCATION:ROGERS PARK  - SMALL
SUMMARY:Game: 9U/3E IPROSKILLS 2017 NEON vs CFYSC 2017B SELECT
TRANSP:OPAQUE
END:VEVENT
BEGIN:VEVENT
UID:33613464-3833-4666-a234-626635613834
DTSTAMP:20260424T124944Z
CLASS:PUBLIC
DESCRIPTION:YSSL 9U/3E Game
DTSTART;TZID=America/Chicago:20260510T120000
DTEND;TZID=America/Chicago:20260510T120000
LOCATION:DEER PARK TOWN CENTER - 7V7
SUMMARY:Game: 9U/3E ELA ELITE 2017 vs IPROSKILLS 2017 NEON
TRANSP:OPAQUE
END:VEVENT
BEGIN:VEVENT
UID:64373237-6663-4438-a363-383633303364
DTSTAMP:20260424T124944Z
CLASS:PUBLIC
DESCRIPTION:YSSL 9U/3E Game
DTSTART;TZID=America/Chicago:20260503T080000
DTEND;TZID=America/Chicago:20260503T080000
LOCATION:HITCH ELEMENTARY SCHOOL
SUMMARY:Game: 9U/3E CHICAGO CELTIC SC 2017 GREEN vs IPROSKILLS 2017 NEON
TRANSP:OPAQUE
END:VEVENT
BEGIN:VEVENT
UID:63626634-6663-4064-b637-303064383165
DTSTAMP:20260424T124944Z
CLASS:PUBLIC
DESCRIPTION:YSSL 9U/3E Game
DTSTART;TZID=America/Chicago:20260531T133000
DTEND;TZID=America/Chicago:20260531T133000
LOCATION:BERNARD ZELL ANSHE EMET DAY SCHOOL
SUMMARY:Game: 9U/3E CHICAGO CITY 2017 ACADEMY  I vs IPROSKILLS 2017 NEON
TRANSP:OPAQUE
END:VEVENT
BEGIN:VEVENT
UID:32343134-3934-4261-b666-353266653938
DTSTAMP:20260424T124944Z
CLASS:PUBLIC
DESCRIPTION:YSSL 9U/3E Game
DTSTART;TZID=America/Chicago:20260419T100000
DTEND;TZID=America/Chicago:20260419T100000
LOCATION:ROGERS PARK  - SMALL
SUMMARY:Game: 9U/3E IPROSKILLS 2017 NEON vs BVB IA CHICAGO 2017/2018 YELLOW
TRANSP:OPAQUE
END:VEVENT
END:VCALENDAR
