BEGIN:VCALENDAR
VERSION:2.0
PRODID:-//yssl.org//NONSGML kigkonsult.se iCalcreator 2.41.92//
CALSCALE:GREGORIAN
METHOD:PUBLISH
UID:63326333-3935-4265-b735-666134643131
X-WR-CALNAME:YSSL Calendar
X-WR-CALDESC:YSSL Calendar
X-WR-TIMEZONE:America/Chicago
BEGIN:VEVENT
UID:61353131-6637-4466-b339-383062626163
DTSTAMP:20260424T235350Z
CLASS:PUBLIC
DESCRIPTION:YSSL 12U/5NW1 Game
DTSTART;TZID=America/Chicago:20260411T110000
DTEND;TZID=America/Chicago:20260411T110000
LOCATION:LTSC FLD - FIELD 1A
SUMMARY:Game: 12U/5NW1 LIBERTYVILLE FC 1974-2014C-SELECT 2 vs IP-NUFC 2014 
 ORANGE
TRANSP:OPAQUE
END:VEVENT
BEGIN:VEVENT
UID:35666533-3466-4661-b339-393965373038
DTSTAMP:20260424T235350Z
CLASS:PUBLIC
DESCRIPTION:YSSL 12U/5NW1 Game
DTSTART;TZID=America/Chicago:20260419T153000
DTEND;TZID=America/Chicago:20260419T153000
LOCATION:SHAMROCK FARM
SUMMARY:Game: 12U/5NW1 IP-NUFC 2014 ORANGE vs CHICAGO INFERNO 2014 PREMIER 
 1
TRANSP:OPAQUE
END:VEVENT
BEGIN:VEVENT
UID:66666533-6636-4632-b138-623535343832
DTSTAMP:20260424T235350Z
CLASS:PUBLIC
DESCRIPTION:YSSL 12U/5NW1 Game
DTSTART;TZID=America/Chicago:20260426T110000
DTEND;TZID=America/Chicago:20260426T110000
LOCATION:PRAIRIE WALK PARK
SUMMARY:Game: 12U/5NW1 REAL MADRID ROUND LAKE FC 2014  ELITE vs IP-NUFC 201
 4 ORANGE
TRANSP:OPAQUE
END:VEVENT
BEGIN:VEVENT
UID:32373832-3034-4766-b961-366266343165
DTSTAMP:20260424T235350Z
CLASS:PUBLIC
DESCRIPTION:YSSL 12U/5NW1 Game
DTSTART;TZID=America/Chicago:20260503T103000
DTEND;TZID=America/Chicago:20260503T103000
LOCATION:PRAIRIE WALK PARK
SUMMARY:Game: 12U/5NW1 NA - ROUND LAKE JUNIORS 2014 SILVER vs IP-NUFC 2014 
 ORANGE
TRANSP:OPAQUE
END:VEVENT
BEGIN:VEVENT
UID:65336131-3833-4536-b461-396563646330
DTSTAMP:20260424T235350Z
CLASS:PUBLIC
DESCRIPTION:YSSL 12U/5NW1 Game
DTSTART;TZID=America/Chicago:20260606T112000
DTEND;TZID=America/Chicago:20260606T112000
LOCATION:MCHENRY TOWNSHIP  - #2 (U11-U12)
SUMMARY:Game: 12U/5NW1 IP-NUFC 2014 ORANGE vs ELA ELITE 2014 COMPETITIVE
TRANSP:OPAQUE
END:VEVENT
BEGIN:VEVENT
UID:31636561-3337-4037-a265-633861373764
DTSTAMP:20260424T235350Z
CLASS:PUBLIC
DESCRIPTION:YSSL 12U/5NW1 Game
DTSTART;TZID=America/Chicago:20260404T103000
DTEND;TZID=America/Chicago:20260404T103000
LOCATION:SOUTH BARRINGTON COMMUNITY PARK - 1
SUMMARY:Game: 12U/5NW1 FCB 2014 RED vs IP-NUFC 2014 ORANGE
TRANSP:OPAQUE
END:VEVENT
BEGIN:VEVENT
UID:33303166-6432-4161-a438-343564366264
DTSTAMP:20260424T235350Z
CLASS:PUBLIC
DESCRIPTION:YSSL 12U/5NW1 Game
DTSTART;TZID=America/Chicago:20260530T163000
DTEND;TZID=America/Chicago:20260530T163000
LOCATION:MCHENRY TOWNSHIP  - #2 (U11-U12)
SUMMARY:Game: 12U/5NW1 IP-NUFC 2014 ORANGE vs FORCE 2014B CL PREMIER
TRANSP:OPAQUE
END:VEVENT
BEGIN:VEVENT
UID:63663233-6364-4266-a234-663531336465
DTSTAMP:20260424T235350Z
CLASS:PUBLIC
DESCRIPTION:YSSL 12U/5NW1 Game
DTSTART;TZID=America/Chicago:20260412T120000
DTEND;TZID=America/Chicago:20260412T120000
LOCATION:MCHENRY TOWNSHIP  - #2 (U11-U12)
SUMMARY:Game: 12U/5NW1 IP-NUFC 2014 ORANGE vs REAL MADRID ROUND LAKE FC 201
 4  ELITE
TRANSP:OPAQUE
END:VEVENT
END:VCALENDAR
