BEGIN:VCALENDAR
VERSION:2.0
PRODID:-//yssl.org//NONSGML kigkonsult.se iCalcreator 2.41.92//
CALSCALE:GREGORIAN
METHOD:PUBLISH
UID:30376239-6365-4639-a435-383366663139
X-WR-CALNAME:YSSL Calendar
X-WR-CALDESC:YSSL Calendar
X-WR-TIMEZONE:America/Chicago
BEGIN:VEVENT
UID:37323466-3135-4331-b133-376262333464
DTSTAMP:20260426T000509Z
CLASS:PUBLIC
DESCRIPTION:YSSL 11U/4C2 Game
DTSTART;TZID=America/Chicago:20260411T151500
DTEND;TZID=America/Chicago:20260411T151500
LOCATION:CAREFREE PARK
SUMMARY:Game: 11U/4C2 IP-ARLINGTON ACES 2015 BLUE vs EVOLUTION 2015 MERCURI
 AL EAST
TRANSP:OPAQUE
END:VEVENT
BEGIN:VEVENT
UID:66303834-3639-4939-b631-636334623361
DTSTAMP:20260426T000509Z
CLASS:PUBLIC
DESCRIPTION:YSSL 11U/4C2 Game
DTSTART;TZID=America/Chicago:20260418T150000
DTEND;TZID=America/Chicago:20260418T150000
LOCATION:COMMUNITY PARK (ADDISON) - 9V9
SUMMARY:Game: 11U/4C2 TIGRES DC 2015 vs IP-ARLINGTON ACES 2015 BLUE
TRANSP:OPAQUE
END:VEVENT
BEGIN:VEVENT
UID:39386631-6266-4635-a366-633366616564
DTSTAMP:20260426T000509Z
CLASS:PUBLIC
DESCRIPTION:YSSL 11U/4C2 Game
DTSTART;TZID=America/Chicago:20260419T120000
DTEND;TZID=America/Chicago:20260419T120000
LOCATION:WILDWOOD PARK
SUMMARY:Game: 11U/4C2 IP-ARLINGTON ACES 2015 BLUE vs GLEN ELLYN LAKERS 2016
  ELITE GREEN
TRANSP:OPAQUE
END:VEVENT
BEGIN:VEVENT
UID:34316237-3936-4139-b231-343766656363
DTSTAMP:20260426T000509Z
CLASS:PUBLIC
DESCRIPTION:YSSL 11U/4C2 Game
DTSTART;TZID=America/Chicago:20260502T153000
DTEND;TZID=America/Chicago:20260502T153000
LOCATION:SUNSET KNOLL  - #3
SUMMARY:Game: 11U/4C2 FSC 2015 RED vs IP-ARLINGTON ACES 2015 BLUE
TRANSP:OPAQUE
END:VEVENT
BEGIN:VEVENT
UID:32653538-6365-4233-b862-323465653965
DTSTAMP:20260426T000509Z
CLASS:PUBLIC
DESCRIPTION:YSSL 11U/4C2 Game
DTSTART;TZID=America/Chicago:20260509T151500
DTEND;TZID=America/Chicago:20260509T151500
LOCATION:WILDWOOD PARK
SUMMARY:Game: 11U/4C2 IP-ARLINGTON ACES 2015 BLUE vs CHICAGO INTER SYNERGY 
 2015 NAVY
TRANSP:OPAQUE
END:VEVENT
BEGIN:VEVENT
UID:34623433-6261-4135-b261-393335336139
DTSTAMP:20260426T000509Z
CLASS:PUBLIC
DESCRIPTION:YSSL 11U/4C2 Game
DTSTART;TZID=America/Chicago:20260419T090000
DTEND;TZID=America/Chicago:20260419T090000
LOCATION:WILDWOOD PARK
SUMMARY:Game: 11U/4C2 IP-ARLINGTON ACES 2015 BLUE vs AJAX FC NAPERVILLE 201
 5 WHITE 2
TRANSP:OPAQUE
END:VEVENT
BEGIN:VEVENT
UID:36373662-6637-4539-b134-353938663137
DTSTAMP:20260426T000509Z
CLASS:PUBLIC
DESCRIPTION:YSSL 11U/4C2 Game
DTSTART;TZID=America/Chicago:20260522T190000
DTEND;TZID=America/Chicago:20260522T190000
LOCATION:CENTRAL ATHLETIC COMPLEX - #2 9V9
SUMMARY:Game: 11U/4C2 WHEATON UNITED 2015 PREMIER vs IP-ARLINGTON ACES 2015
  BLUE
TRANSP:OPAQUE
END:VEVENT
BEGIN:VEVENT
UID:63383730-3634-4465-b562-623234613832
DTSTAMP:20260426T000509Z
CLASS:PUBLIC
DESCRIPTION:YSSL 11U/4C2 Game
DTSTART;TZID=America/Chicago:20260426T114000
DTEND;TZID=America/Chicago:20260426T114000
LOCATION:INDIAN BOUNDARY YMCA - 9V9
SUMMARY:Game: 11U/4C2 AJAX FC NAPERVILLE 2015 WHITE 2 vs IP-ARLINGTON ACES 
 2015 BLUE
TRANSP:OPAQUE
END:VEVENT
END:VCALENDAR
