BEGIN:VCALENDAR
VERSION:2.0
PRODID:-//yssl.org//NONSGML kigkonsult.se iCalcreator 2.41.92//
CALSCALE:GREGORIAN
METHOD:PUBLISH
UID:66646538-3261-4339-b038-633961346436
X-WR-CALNAME:YSSL Calendar
X-WR-CALDESC:YSSL Calendar
X-WR-TIMEZONE:America/Chicago
BEGIN:VEVENT
UID:36343734-3433-4330-b966-623931316466
DTSTAMP:20260425T155638Z
CLASS:PUBLIC
DESCRIPTION:YSSL 10U/3N Game
DTSTART;TZID=America/Chicago:20260411T090000
DTEND;TZID=America/Chicago:20260411T090000
LOCATION:MCHENRY MIDDLE SCHOOL
SUMMARY:Game: 10U/3N IP-NUFC 2016 BLACK vs FCB 2016 BLACK
TRANSP:OPAQUE
END:VEVENT
BEGIN:VEVENT
UID:63643534-6665-4738-a565-353761383166
DTSTAMP:20260425T155638Z
CLASS:PUBLIC
DESCRIPTION:YSSL 10U/3N Game
DTSTART;TZID=America/Chicago:20260510T140000
DTEND;TZID=America/Chicago:20260510T140000
LOCATION:ALLEGHANY PARK - AH 2
SUMMARY:Game: 10U/3N FC LAKE COUNTY 2016 SELECT 1 vs IP-NUFC 2016 BLACK
TRANSP:OPAQUE
END:VEVENT
BEGIN:VEVENT
UID:62303936-6130-4430-a232-326366326265
DTSTAMP:20260425T155638Z
CLASS:PUBLIC
DESCRIPTION:YSSL 10U/3N Game
DTSTART;TZID=America/Chicago:20260412T130000
DTEND;TZID=America/Chicago:20260412T130000
LOCATION:MCHENRY TOWNSHIP  - #3 (U9-U10)
SUMMARY:Game: 10U/3N IP-NUFC 2016 BLACK vs FORCE 2016B ELITE POOL II
TRANSP:OPAQUE
END:VEVENT
BEGIN:VEVENT
UID:62666132-3531-4135-a331-363063373632
DTSTAMP:20260425T155638Z
CLASS:PUBLIC
DESCRIPTION:YSSL 10U/3N Game
DTSTART;TZID=America/Chicago:20260502T090000
DTEND;TZID=America/Chicago:20260502T090000
LOCATION:MCHENRY TOWNSHIP  - #3 (U9-U10)
SUMMARY:Game: 10U/3N IP-NUFC 2016 BLACK vs 60 UNITED - LFSA 2016 BLUE
TRANSP:OPAQUE
END:VEVENT
BEGIN:VEVENT
UID:65303838-3739-4661-b133-326138306364
DTSTAMP:20260425T155638Z
CLASS:PUBLIC
DESCRIPTION:YSSL 10U/3N Game
DTSTART;TZID=America/Chicago:20260517T090000
DTEND;TZID=America/Chicago:20260517T090000
LOCATION:MCHENRY TOWNSHIP  - #3 (U9-U10)
SUMMARY:Game: 10U/3N IP-NUFC 2016 BLACK vs NA - TREBOL FC 2016
TRANSP:OPAQUE
END:VEVENT
BEGIN:VEVENT
UID:65363434-6161-4833-a633-613735313036
DTSTAMP:20260425T155638Z
CLASS:PUBLIC
DESCRIPTION:YSSL 10U/3N Game
DTSTART;TZID=America/Chicago:20260530T150000
DTEND;TZID=America/Chicago:20260530T150000
LOCATION:DEER PARK TOWN CENTER - 7V7
SUMMARY:Game: 10U/3N ELA ELITE 2016 vs IP-NUFC 2016 BLACK
TRANSP:OPAQUE
END:VEVENT
BEGIN:VEVENT
UID:31323165-3663-4261-b833-613230376231
DTSTAMP:20260425T155638Z
CLASS:PUBLIC
DESCRIPTION:YSSL 10U/3N Game
DTSTART;TZID=America/Chicago:20260606T160000
DTEND;TZID=America/Chicago:20260606T160000
LOCATION:LIPPOLD PARK SOCCER COMPLEX - FIELD 6
SUMMARY:Game: 10U/3N FORCE 2016B ELITE POOL II vs IP-NUFC 2016 BLACK
TRANSP:OPAQUE
END:VEVENT
BEGIN:VEVENT
UID:38613863-6532-4835-a433-333536336335
DTSTAMP:20260425T155638Z
CLASS:PUBLIC
DESCRIPTION:YSSL 10U/3N Game
DTSTART;TZID=America/Chicago:20260509T140000
DTEND;TZID=America/Chicago:20260509T140000
LOCATION:WAUKEGAN SPORTS PARK
SUMMARY:Game: 10U/3N NA - TREBOL FC 2016 vs IP-NUFC 2016 BLACK
TRANSP:OPAQUE
END:VEVENT
END:VCALENDAR
