BEGIN:VCALENDAR
VERSION:2.0
PRODID:-//yssl.org//NONSGML kigkonsult.se iCalcreator 2.41.92//
CALSCALE:GREGORIAN
METHOD:PUBLISH
UID:33306236-3662-4438-a532-633339326237
X-WR-CALNAME:YSSL Calendar
X-WR-CALDESC:YSSL Calendar
X-WR-TIMEZONE:America/Chicago
BEGIN:VEVENT
UID:66336130-3236-4332-b032-303330643134
DTSTAMP:20260425T120351Z
CLASS:PUBLIC
DESCRIPTION:YSSL 9U/4NW2 Game
DTSTART;TZID=America/Chicago:20260529T180000
DTEND;TZID=America/Chicago:20260529T180000
LOCATION:LIPPOLD PARK SOCCER COMPLEX - FIELD 6
SUMMARY:Game: 9U/4NW2 FORCE 2017B PREMIER BLUE vs HAWTHORN WOODS ELITE 2017
  GREEN
TRANSP:OPAQUE
END:VEVENT
BEGIN:VEVENT
UID:62366637-3964-4038-b233-356261353065
DTSTAMP:20260425T120351Z
CLASS:PUBLIC
DESCRIPTION:YSSL 9U/4NW2 Game
DTSTART;TZID=America/Chicago:20260418T152500
DTEND;TZID=America/Chicago:20260418T152500
LOCATION:HUFFMAN PARK - 7V7 FIELD
SUMMARY:Game: 9U/4NW2 FVB 2017 SELECT vs HAWTHORN WOODS ELITE 2017 GREEN
TRANSP:OPAQUE
END:VEVENT
BEGIN:VEVENT
UID:61313865-6339-4264-b165-653531653237
DTSTAMP:20260425T120351Z
CLASS:PUBLIC
DESCRIPTION:YSSL 9U/4NW2 Game
DTSTART;TZID=America/Chicago:20260607T140000
DTEND;TZID=America/Chicago:20260607T140000
LOCATION:MCHENRY ATHLETIC COMPLEX  - GRASS FIELD #8 (7V7)
SUMMARY:Game: 9U/4NW2 CHICAGO INFERNO 2017 PREMIER vs HAWTHORN WOODS ELITE 
 2017 GREEN
TRANSP:OPAQUE
END:VEVENT
BEGIN:VEVENT
UID:36633237-3430-4264-b061-623631316532
DTSTAMP:20260425T120351Z
CLASS:PUBLIC
DESCRIPTION:YSSL 9U/4NW2 Game
DTSTART;TZID=America/Chicago:20260502T103000
DTEND;TZID=America/Chicago:20260502T103000
LOCATION:HERITAGE OAKS
SUMMARY:Game: 9U/4NW2 HAWTHORN WOODS ELITE 2017 GREEN vs SCOUTS FC 2017
TRANSP:OPAQUE
END:VEVENT
BEGIN:VEVENT
UID:33643337-6262-4936-a338-633535306130
DTSTAMP:20260425T120351Z
CLASS:PUBLIC
DESCRIPTION:YSSL 9U/4NW2 Game
DTSTART;TZID=America/Chicago:20260509T121000
DTEND;TZID=America/Chicago:20260509T121000
LOCATION:HERITAGE OAKS
SUMMARY:Game: 9U/4NW2 HAWTHORN WOODS ELITE 2017 GREEN vs FORCE 2017B PREMIE
 R BLUE
TRANSP:OPAQUE
END:VEVENT
BEGIN:VEVENT
UID:65376438-3539-4461-a631-366665646339
DTSTAMP:20260425T120351Z
CLASS:PUBLIC
DESCRIPTION:YSSL 9U/4NW2 Game
DTSTART;TZID=America/Chicago:20260531T090000
DTEND;TZID=America/Chicago:20260531T090000
LOCATION:DEER PARK TOWN CENTER - 7V7
SUMMARY:Game: 9U/4NW2 ELA ELITE 2017 COMPETITIVE vs HAWTHORN WOODS ELITE 20
 17 GREEN
TRANSP:OPAQUE
END:VEVENT
BEGIN:VEVENT
UID:32656366-3264-4238-b230-313035663061
DTSTAMP:20260425T120351Z
CLASS:PUBLIC
DESCRIPTION:YSSL 9U/4NW2 Game
DTSTART;TZID=America/Chicago:20260530T103000
DTEND;TZID=America/Chicago:20260530T103000
LOCATION:HERITAGE OAKS
SUMMARY:Game: 9U/4NW2 HAWTHORN WOODS ELITE 2017 GREEN vs FVB 2017 SELECT
TRANSP:OPAQUE
END:VEVENT
BEGIN:VEVENT
UID:65663332-3262-4337-b034-326132306234
DTSTAMP:20260425T120351Z
CLASS:PUBLIC
DESCRIPTION:YSSL 9U/4NW2 Game
DTSTART;TZID=America/Chicago:20260503T111000
DTEND;TZID=America/Chicago:20260503T111000
LOCATION:HERITAGE OAKS
SUMMARY:Game: 9U/4NW2 HAWTHORN WOODS ELITE 2017 GREEN vs ELA ELITE 2017 COM
 PETITIVE
TRANSP:OPAQUE
END:VEVENT
END:VCALENDAR
