BEGIN:VCALENDAR
VERSION:2.0
PRODID:-//yssl.org//NONSGML kigkonsult.se iCalcreator 2.41.92//
CALSCALE:GREGORIAN
METHOD:PUBLISH
UID:66313736-6361-4164-a537-333163323736
X-WR-CALNAME:YSSL Calendar
X-WR-CALDESC:YSSL Calendar
X-WR-TIMEZONE:America/Chicago
BEGIN:VEVENT
UID:36363030-3763-4439-b534-373762323232
DTSTAMP:20260425T111121Z
CLASS:PUBLIC
DESCRIPTION:YSSL 13U/5N Game
DTSTART;TZID=America/Chicago:20260411T170000
DTEND;TZID=America/Chicago:20260411T170000
LOCATION:SUNSET MEADOWS
SUMMARY:Game: 13U/5N IP-ARLINGTON ACES 2013 GREEN vs HAWTHORN WOODS ELITE 2
 013 GREEN
TRANSP:OPAQUE
END:VEVENT
BEGIN:VEVENT
UID:32356639-3661-4462-b365-333433663161
DTSTAMP:20260425T111121Z
CLASS:PUBLIC
DESCRIPTION:YSSL 13U/5N Game
DTSTART;TZID=America/Chicago:20260502T150000
DTEND;TZID=America/Chicago:20260502T150000
LOCATION:HERITAGE OAKS - BIG FIELD
SUMMARY:Game: 13U/5N HAWTHORN WOODS ELITE 2013 GREEN vs FC LAKE COUNTY 2013
  SELECT 2
TRANSP:OPAQUE
END:VEVENT
BEGIN:VEVENT
UID:65386635-3031-4232-a562-313532616633
DTSTAMP:20260425T111121Z
CLASS:PUBLIC
DESCRIPTION:YSSL 13U/5N Game
DTSTART;TZID=America/Chicago:20260425T143000
DTEND;TZID=America/Chicago:20260425T143000
LOCATION:HERITAGE OAKS - BIG FIELD
SUMMARY:Game: 13U/5N HAWTHORN WOODS ELITE 2013 GREEN vs LASC 2013 SELECT
TRANSP:OPAQUE
END:VEVENT
BEGIN:VEVENT
UID:38313935-3239-4263-b261-666532383138
DTSTAMP:20260425T111121Z
CLASS:PUBLIC
DESCRIPTION:YSSL 13U/5N Game
DTSTART;TZID=America/Chicago:20260503T143000
DTEND;TZID=America/Chicago:20260503T143000
LOCATION:HERITAGE OAKS - BIG FIELD
SUMMARY:Game: 13U/5N HAWTHORN WOODS ELITE 2013 GREEN vs REAL MADRID ROUND L
 AKE FC 2013 ELITE
TRANSP:OPAQUE
END:VEVENT
BEGIN:VEVENT
UID:63323437-3661-4537-b765-613038306165
DTSTAMP:20260425T111121Z
CLASS:PUBLIC
DESCRIPTION:YSSL 13U/5N Game
DTSTART;TZID=America/Chicago:20260509T173000
DTEND;TZID=America/Chicago:20260509T173000
LOCATION:CELTIC PARK FIELD  - TURF 1
SUMMARY:Game: 13U/5N PALATINE CELTIC 2013 WHITE vs HAWTHORN WOODS ELITE 201
 3 GREEN
TRANSP:OPAQUE
END:VEVENT
BEGIN:VEVENT
UID:30663464-3238-4363-a136-343661316439
DTSTAMP:20260425T111121Z
CLASS:PUBLIC
DESCRIPTION:YSSL 13U/5N Game
DTSTART;TZID=America/Chicago:20260531T173000
DTEND;TZID=America/Chicago:20260531T173000
LOCATION:HERITAGE OAKS - BIG FIELD
SUMMARY:Game: 13U/5N HAWTHORN WOODS ELITE 2013 GREEN vs LIBERTYVILLE FC 197
 4-2013B-PREMIER
TRANSP:OPAQUE
END:VEVENT
BEGIN:VEVENT
UID:63326264-6439-4161-b866-643939373363
DTSTAMP:20260425T111121Z
CLASS:PUBLIC
DESCRIPTION:YSSL 13U/5N Game
DTSTART;TZID=America/Chicago:20260530T150000
DTEND;TZID=America/Chicago:20260530T150000
LOCATION:NORTH PARK FIELDS  - #7 (11V11)
SUMMARY:Game: 13U/5N RUSH NORTH 2013 BLUE 2 vs HAWTHORN WOODS ELITE 2013 GR
 EEN
TRANSP:OPAQUE
END:VEVENT
BEGIN:VEVENT
UID:32653637-3465-4534-a438-346530363730
DTSTAMP:20260425T111121Z
CLASS:PUBLIC
DESCRIPTION:YSSL 13U/5N Game
DTSTART;TZID=America/Chicago:20260607T140000
DTEND;TZID=America/Chicago:20260607T140000
LOCATION:ROUND LAKE AREA PARK DISTRICT (SPORTS CENTER)
SUMMARY:Game: 13U/5N NA - ROUND LAKE JUNIORS 2013 vs HAWTHORN WOODS ELITE 2
 013 GREEN
TRANSP:OPAQUE
END:VEVENT
END:VCALENDAR
