BEGIN:VCALENDAR
VERSION:2.0
PRODID:-//yssl.org//NONSGML kigkonsult.se iCalcreator 2.41.92//
CALSCALE:GREGORIAN
METHOD:PUBLISH
UID:38626632-3839-4863-b963-386239343634
X-WR-CALNAME:YSSL Calendar
X-WR-CALDESC:YSSL Calendar
X-WR-TIMEZONE:America/Chicago
BEGIN:VEVENT
UID:33613533-6365-4238-b033-353266373530
DTSTAMP:20260425T142048Z
CLASS:PUBLIC
DESCRIPTION:YSSL 10U/3NW Game
DTSTART;TZID=America/Chicago:20260425T110000
DTEND;TZID=America/Chicago:20260425T110000
LOCATION:METRO MAJEWSKI PARK - FIELD #1
SUMMARY:Game: 10U/3NW GREEN WHITE 2016 GRUN vs HAWTHORN WOODS ELITE 2016 BL
 ACK
TRANSP:OPAQUE
END:VEVENT
BEGIN:VEVENT
UID:61383832-3239-4137-b763-386462396339
DTSTAMP:20260425T142048Z
CLASS:PUBLIC
DESCRIPTION:YSSL 10U/3NW Game
DTSTART;TZID=America/Chicago:20260426T120000
DTEND;TZID=America/Chicago:20260426T120000
LOCATION:COMMUNITY ATHLETIC FIELDS
SUMMARY:Game: 10U/3NW EGSC 2016 PREMIER vs HAWTHORN WOODS ELITE 2016 BLACK
TRANSP:OPAQUE
END:VEVENT
BEGIN:VEVENT
UID:36303238-3439-4239-b432-326234343362
DTSTAMP:20260425T142048Z
CLASS:PUBLIC
DESCRIPTION:YSSL 10U/3NW Game
DTSTART;TZID=America/Chicago:20260502T120000
DTEND;TZID=America/Chicago:20260502T120000
LOCATION:HERITAGE OAKS
SUMMARY:Game: 10U/3NW HAWTHORN WOODS ELITE 2016 BLACK vs BARCA ACADEMY CHIC
 AGO 2016 GRANA
TRANSP:OPAQUE
END:VEVENT
BEGIN:VEVENT
UID:38633938-3730-4634-a632-393837383932
DTSTAMP:20260425T142048Z
CLASS:PUBLIC
DESCRIPTION:YSSL 10U/3NW Game
DTSTART;TZID=America/Chicago:20260509T140000
DTEND;TZID=America/Chicago:20260509T140000
LOCATION:UDALL PARK - 7V7
SUMMARY:Game: 10U/3NW AAC EAGLES CHICAGO 2016 RED vs HAWTHORN WOODS ELITE 2
 016 BLACK
TRANSP:OPAQUE
END:VEVENT
BEGIN:VEVENT
UID:33623236-6638-4536-a636-346430643261
DTSTAMP:20260425T142048Z
CLASS:PUBLIC
DESCRIPTION:YSSL 10U/3NW Game
DTSTART;TZID=America/Chicago:20260530T150000
DTEND;TZID=America/Chicago:20260530T150000
LOCATION:HERITAGE OAKS
SUMMARY:Game: 10U/3NW HAWTHORN WOODS ELITE 2016 BLACK vs GREEN WHITE 2016 G
 RUN
TRANSP:OPAQUE
END:VEVENT
BEGIN:VEVENT
UID:39613665-3537-4065-a436-303534656331
DTSTAMP:20260425T142048Z
CLASS:PUBLIC
DESCRIPTION:YSSL 10U/3NW Game
DTSTART;TZID=America/Chicago:20260531T140000
DTEND;TZID=America/Chicago:20260531T140000
LOCATION:UDALL PARK - 7V7
SUMMARY:Game: 10U/3NW ELITE S.C. 2016 BLACK vs HAWTHORN WOODS ELITE 2016 BL
 ACK
TRANSP:OPAQUE
END:VEVENT
BEGIN:VEVENT
UID:37303634-3061-4462-a465-616561663731
DTSTAMP:20260425T142048Z
CLASS:PUBLIC
DESCRIPTION:YSSL 10U/3NW Game
DTSTART;TZID=America/Chicago:20260520T180000
DTEND;TZID=America/Chicago:20260520T180000
LOCATION:HERITAGE OAKS
SUMMARY:Game: 10U/3NW HAWTHORN WOODS ELITE 2016 BLACK vs EGSC 2016 PREMIER
TRANSP:OPAQUE
END:VEVENT
BEGIN:VEVENT
UID:61356165-3135-4137-b331-633635663261
DTSTAMP:20260425T142048Z
CLASS:PUBLIC
DESCRIPTION:YSSL 10U/3NW Game
DTSTART;TZID=America/Chicago:20260503T163000
DTEND;TZID=America/Chicago:20260503T163000
LOCATION:HERITAGE OAKS
SUMMARY:Game: 10U/3NW HAWTHORN WOODS ELITE 2016 BLACK vs SAA UNITED SC 2016
  BLACK
TRANSP:OPAQUE
END:VEVENT
END:VCALENDAR
