BEGIN:VCALENDAR
VERSION:2.0
PRODID:-//yssl.org//NONSGML kigkonsult.se iCalcreator 2.41.92//
CALSCALE:GREGORIAN
METHOD:PUBLISH
UID:31323734-6232-4631-a162-373437396362
X-WR-CALNAME:YSSL Calendar
X-WR-CALDESC:YSSL Calendar
X-WR-TIMEZONE:America/Chicago
BEGIN:VEVENT
UID:36353536-3261-4465-b963-356566663436
DTSTAMP:20260424T221548Z
CLASS:PUBLIC
DESCRIPTION:YSSL 14U/5N Game
DTSTART;TZID=America/Chicago:20260516T093000
DTEND;TZID=America/Chicago:20260516T093000
LOCATION:COMMUNITY PARK WEST (GLENVIEW) - 6 - (11 V 11)
SUMMARY:Game: 14U/5N FC-1 ACADEMY 2012 SELECT GREY vs LASC 2012 SELECT
TRANSP:OPAQUE
END:VEVENT
BEGIN:VEVENT
UID:65366535-3231-4336-b962-653764646633
DTSTAMP:20260424T221548Z
CLASS:PUBLIC
DESCRIPTION:YSSL 14U/5N Game
DTSTART;TZID=America/Chicago:20260418T120000
DTEND;TZID=America/Chicago:20260418T120000
LOCATION:PRAIRIE LAKES PK FLDS - #1  11V11
SUMMARY:Game: 14U/5N ELITE S.C. 2012 BLACK vs FC-1 ACADEMY 2012 SELECT GREY
TRANSP:OPAQUE
END:VEVENT
BEGIN:VEVENT
UID:30623561-3132-4639-b338-333739653562
DTSTAMP:20260424T221548Z
CLASS:PUBLIC
DESCRIPTION:YSSL 14U/5N Game
DTSTART;TZID=America/Chicago:20260426T150000
DTEND;TZID=America/Chicago:20260426T150000
LOCATION:COMMUNITY PARK WEST (GLENVIEW) - 9 - (11 V 11)
SUMMARY:Game: 14U/5N FC-1 ACADEMY 2012 SELECT GREY vs PRSC PREMIER 2012 SIL
 VER
TRANSP:OPAQUE
END:VEVENT
BEGIN:VEVENT
UID:35316262-6439-4632-b034-623035373365
DTSTAMP:20260424T221548Z
CLASS:PUBLIC
DESCRIPTION:YSSL 14U/5N Game
DTSTART;TZID=America/Chicago:20260503T120000
DTEND;TZID=America/Chicago:20260503T120000
LOCATION:COMMUNITY PARK WEST (GLENVIEW) - 6 - (11 V 11)
SUMMARY:Game: 14U/5N FC-1 ACADEMY 2012 SELECT GREY vs ELA ELITE 2012 PREMIE
 R
TRANSP:OPAQUE
END:VEVENT
BEGIN:VEVENT
UID:65346238-6538-4332-a665-633435643539
DTSTAMP:20260424T221548Z
CLASS:PUBLIC
DESCRIPTION:YSSL 14U/5N Game
DTSTART;TZID=America/Chicago:20260517T083000
DTEND;TZID=America/Chicago:20260517T083000
LOCATION:COMMUNITY PARK WEST (GLENVIEW) - 6 - (11 V 11)
SUMMARY:Game: 14U/5N FC-1 ACADEMY 2012 SELECT GREY vs REAL MADRID ROUND LAK
 E FC 2012 ELITE
TRANSP:OPAQUE
END:VEVENT
BEGIN:VEVENT
UID:33343365-6135-4063-a166-376630333136
DTSTAMP:20260424T221548Z
CLASS:PUBLIC
DESCRIPTION:YSSL 14U/5N Game
DTSTART;TZID=America/Chicago:20260530T141500
DTEND;TZID=America/Chicago:20260530T141500
LOCATION:CLAVEY PARK - LARGE
SUMMARY:Game: 14U/5N PEGASUS FC/1974 2012 BLACK vs FC-1 ACADEMY 2012 SELECT
  GREY
TRANSP:OPAQUE
END:VEVENT
BEGIN:VEVENT
UID:63383262-3335-4236-b237-666564353832
DTSTAMP:20260424T221548Z
CLASS:PUBLIC
DESCRIPTION:YSSL 14U/5N Game
DTSTART;TZID=America/Chicago:20260606T140000
DTEND;TZID=America/Chicago:20260606T140000
LOCATION:WOODLAND PARK - NW
SUMMARY:Game: 14U/5N PRSC PREMIER 2012 SILVER vs FC-1 ACADEMY 2012 SELECT G
 REY
TRANSP:OPAQUE
END:VEVENT
BEGIN:VEVENT
UID:35393162-3836-4333-b236-373931646165
DTSTAMP:20260424T221548Z
CLASS:PUBLIC
DESCRIPTION:YSSL 14U/5N Game
DTSTART;TZID=America/Chicago:20260419T083000
DTEND;TZID=America/Chicago:20260419T083000
LOCATION:COMMUNITY PARK WEST (GLENVIEW) - 6
SUMMARY:Game: 14U/5N FC-1 ACADEMY 2012 SELECT GREY vs REAL MADRID ROUND LAK
 E FC 2012 ELITE
TRANSP:OPAQUE
END:VEVENT
END:VCALENDAR
