BEGIN:VCALENDAR
VERSION:2.0
PRODID:-//yssl.org//NONSGML kigkonsult.se iCalcreator 2.41.92//
CALSCALE:GREGORIAN
METHOD:PUBLISH
UID:66353463-6432-4463-b336-613939386433
X-WR-CALNAME:YSSL Calendar
X-WR-CALDESC:YSSL Calendar
X-WR-TIMEZONE:America/Chicago
BEGIN:VEVENT
UID:30386463-6361-4936-b766-343339346636
DTSTAMP:20260425T182805Z
CLASS:PUBLIC
DESCRIPTION:YSSL 11U/3N Game
DTSTART;TZID=America/Chicago:20260411T174500
DTEND;TZID=America/Chicago:20260411T174500
LOCATION:VEHE PK
SUMMARY:Game: 11U/3N ELA ELITE 2015 PREMIER vs FC-1 ACADEMY 2015 SELECT BLU
 E 1
TRANSP:OPAQUE
END:VEVENT
BEGIN:VEVENT
UID:66663662-3235-4432-b464-643737376663
DTSTAMP:20260425T182805Z
CLASS:PUBLIC
DESCRIPTION:YSSL 11U/3N Game
DTSTART;TZID=America/Chicago:20260415T183000
DTEND;TZID=America/Chicago:20260415T183000
LOCATION:COMMUNITY PARK WEST (GLENVIEW) - 2 - (9 V 9)
SUMMARY:Game: 11U/3N FC-1 ACADEMY 2015 SELECT BLUE 1 vs HOTC ELITE 2015
TRANSP:OPAQUE
END:VEVENT
BEGIN:VEVENT
UID:34636432-3538-4665-b665-376637613932
DTSTAMP:20260425T182805Z
CLASS:PUBLIC
DESCRIPTION:YSSL 11U/3N Game
DTSTART;TZID=America/Chicago:20260516T090000
DTEND;TZID=America/Chicago:20260516T090000
LOCATION:COMMUNITY PARK WEST (GLENVIEW) - 2 - (9 V 9)
SUMMARY:Game: 11U/3N FC-1 ACADEMY 2015 SELECT BLUE 1 vs NSFC 2016 ELITE
TRANSP:OPAQUE
END:VEVENT
BEGIN:VEVENT
UID:38343961-3639-4639-a261-643666393165
DTSTAMP:20260425T182805Z
CLASS:PUBLIC
DESCRIPTION:YSSL 11U/3N Game
DTSTART;TZID=America/Chicago:20260426T123000
DTEND;TZID=America/Chicago:20260426T123000
LOCATION:TRINITY UNIVERSITY - 9V9
SUMMARY:Game: 11U/3N PEGASUS FC/1974 2015 BLACK vs FC-1 ACADEMY 2015 SELECT
  BLUE 1
TRANSP:OPAQUE
END:VEVENT
BEGIN:VEVENT
UID:36366665-3339-4133-b163-623634663537
DTSTAMP:20260425T182805Z
CLASS:PUBLIC
DESCRIPTION:YSSL 11U/3N Game
DTSTART;TZID=America/Chicago:20260530T120000
DTEND;TZID=America/Chicago:20260530T120000
LOCATION:WEST PARK
SUMMARY:Game: 11U/3N RUSH - WILMETTE WINGS 2016 PREMIER BOYS vs FC-1 ACADEM
 Y 2015 SELECT BLUE 1
TRANSP:OPAQUE
END:VEVENT
BEGIN:VEVENT
UID:30646663-6665-4365-b561-396436333737
DTSTAMP:20260425T182805Z
CLASS:PUBLIC
DESCRIPTION:YSSL 11U/3N Game
DTSTART;TZID=America/Chicago:20260517T130000
DTEND;TZID=America/Chicago:20260517T130000
LOCATION:COMMUNITY PARK WEST (GLENVIEW) - 2 - (9 V 9)
SUMMARY:Game: 11U/3N FC-1 ACADEMY 2015 SELECT BLUE 1 vs PALATINE CELTIC 201
 5 GREEN
TRANSP:OPAQUE
END:VEVENT
BEGIN:VEVENT
UID:66633034-6138-4935-b462-336135646661
DTSTAMP:20260425T182805Z
CLASS:PUBLIC
DESCRIPTION:YSSL 11U/3N Game
DTSTART;TZID=America/Chicago:20260531T123000
DTEND;TZID=America/Chicago:20260531T123000
LOCATION:COMMUNITY PARK WEST (GLENVIEW) - 2 - (9 V 9)
SUMMARY:Game: 11U/3N FC-1 ACADEMY 2015 SELECT BLUE 1 vs PEGASUS FC/1974 201
 6 RED
TRANSP:OPAQUE
END:VEVENT
BEGIN:VEVENT
UID:65663664-3964-4165-b032-303863353132
DTSTAMP:20260425T182805Z
CLASS:PUBLIC
DESCRIPTION:YSSL 11U/3N Game
DTSTART;TZID=America/Chicago:20260502T123000
DTEND;TZID=America/Chicago:20260502T123000
LOCATION:CLAVEY PARK - MED
SUMMARY:Game: 11U/3N PEGASUS FC/1974 2016 RED vs FC-1 ACADEMY 2015 SELECT B
 LUE 1
TRANSP:OPAQUE
END:VEVENT
END:VCALENDAR
