BEGIN:VCALENDAR
VERSION:2.0
PRODID:-//yssl.org//NONSGML kigkonsult.se iCalcreator 2.41.92//
CALSCALE:GREGORIAN
METHOD:PUBLISH
UID:34343161-3433-4138-a438-633430393964
X-WR-CALNAME:YSSL Calendar
X-WR-CALDESC:YSSL Calendar
X-WR-TIMEZONE:America/Chicago
BEGIN:VEVENT
UID:31373264-3665-4731-b362-313330363135
DTSTAMP:20260424T202012Z
CLASS:PUBLIC
DESCRIPTION:YSSL 11U/4N2 Game
DTSTART;TZID=America/Chicago:20260515T183000
DTEND;TZID=America/Chicago:20260515T183000
LOCATION:WILLOW PARK - 9V9
SUMMARY:Game: 11U/4N2 CHICAGO FC UNITED 2015 SELECT I vs FC LAKE COUNTY 201
 5 BLUE
TRANSP:OPAQUE
END:VEVENT
BEGIN:VEVENT
UID:61316632-3239-4038-a365-363834356535
DTSTAMP:20260424T202012Z
CLASS:PUBLIC
DESCRIPTION:YSSL 11U/4N2 Game
DTSTART;TZID=America/Chicago:20260510T174500
DTEND;TZID=America/Chicago:20260510T174500
LOCATION:ALLEGHANY PARK - AH 4
SUMMARY:Game: 11U/4N2 FC LAKE COUNTY 2015 BLUE vs LEO SOCCER SCHOOL 2015 B
TRANSP:OPAQUE
END:VEVENT
BEGIN:VEVENT
UID:37326566-3330-4435-b866-396463393363
DTSTAMP:20260424T202012Z
CLASS:PUBLIC
DESCRIPTION:YSSL 11U/4N2 Game
DTSTART;TZID=America/Chicago:20260425T090000
DTEND;TZID=America/Chicago:20260425T090000
LOCATION:ALLEGHANY PARK - AH 4
SUMMARY:Game: 11U/4N2 FC LAKE COUNTY 2015 BLUE vs ELA ELITE 2015 SELECT
TRANSP:OPAQUE
END:VEVENT
BEGIN:VEVENT
UID:33643165-3432-4165-b665-373061373538
DTSTAMP:20260424T202012Z
CLASS:PUBLIC
DESCRIPTION:YSSL 11U/4N2 Game
DTSTART;TZID=America/Chicago:20260503T163000
DTEND;TZID=America/Chicago:20260503T163000
LOCATION:LAKE FOREST HIGH SCHOOL WEST CAMPUS - FIELD 3 (9V9)
SUMMARY:Game: 11U/4N2 NSFC 2015 BLACK vs FC LAKE COUNTY 2015 BLUE
TRANSP:OPAQUE
END:VEVENT
BEGIN:VEVENT
UID:33363866-3734-4433-a161-633537633466
DTSTAMP:20260424T202012Z
CLASS:PUBLIC
DESCRIPTION:YSSL 11U/4N2 Game
DTSTART;TZID=America/Chicago:20260509T090000
DTEND;TZID=America/Chicago:20260509T090000
LOCATION:ALLEGHANY PARK - AH 4
SUMMARY:Game: 11U/4N2 FC LAKE COUNTY 2015 BLUE vs MUNDELEIN LIONS 2015 BLUE
TRANSP:OPAQUE
END:VEVENT
BEGIN:VEVENT
UID:36373235-3062-4261-a139-313534373035
DTSTAMP:20260424T202012Z
CLASS:PUBLIC
DESCRIPTION:YSSL 11U/4N2 Game
DTSTART;TZID=America/Chicago:20260516T150000
DTEND;TZID=America/Chicago:20260516T150000
LOCATION:HERITAGE PARK (WHEELING) - #8
SUMMARY:Game: 11U/4N2 LEO SOCCER SCHOOL 2015 B vs FC LAKE COUNTY 2015 BLUE
TRANSP:OPAQUE
END:VEVENT
BEGIN:VEVENT
UID:30303063-3534-4631-b133-393266306130
DTSTAMP:20260424T202012Z
CLASS:PUBLIC
DESCRIPTION:YSSL 11U/4N2 Game
DTSTART;TZID=America/Chicago:20260530T113000
DTEND;TZID=America/Chicago:20260530T113000
LOCATION:ALLEGHANY PARK - AH 4
SUMMARY:Game: 11U/4N2 FC LAKE COUNTY 2015 BLUE vs CHICAGO FC UNITED 2015 SE
 LECT I
TRANSP:OPAQUE
END:VEVENT
BEGIN:VEVENT
UID:35386637-3764-4161-b465-663034636531
DTSTAMP:20260424T202012Z
CLASS:PUBLIC
DESCRIPTION:YSSL 11U/4N2 Game
DTSTART;TZID=America/Chicago:20260607T143000
DTEND;TZID=America/Chicago:20260607T143000
LOCATION:FREMONT SCHOOL (NO PETS) - 3
SUMMARY:Game: 11U/4N2 MUNDELEIN LIONS 2015 BLUE vs FC LAKE COUNTY 2015 BLUE
TRANSP:OPAQUE
END:VEVENT
END:VCALENDAR
