BEGIN:VCALENDAR
VERSION:2.0
PRODID:-//yssl.org//NONSGML kigkonsult.se iCalcreator 2.41.92//
CALSCALE:GREGORIAN
METHOD:PUBLISH
UID:63613535-6238-4965-b764-663666326463
X-WR-CALNAME:YSSL Calendar
X-WR-CALDESC:YSSL Calendar
X-WR-TIMEZONE:America/Chicago
BEGIN:VEVENT
UID:30613836-6438-4236-b166-363663383032
DTSTAMP:20260425T124356Z
CLASS:PUBLIC
DESCRIPTION:YSSL 11U/2N Game
DTSTART;TZID=America/Chicago:20260503T090000
DTEND;TZID=America/Chicago:20260503T090000
LOCATION:ALLEGHANY PARK - AH 3
SUMMARY:Game: 11U/2N FC LAKE COUNTY 2015 ELITE vs LASC 2015 ELITE
TRANSP:OPAQUE
END:VEVENT
BEGIN:VEVENT
UID:35323037-3365-4962-b266-366162643830
DTSTAMP:20260425T124356Z
CLASS:PUBLIC
DESCRIPTION:YSSL 11U/2N Game
DTSTART;TZID=America/Chicago:20260510T103000
DTEND;TZID=America/Chicago:20260510T103000
LOCATION:VERNON HILLS ATHLETIC COMPLEX - 7
SUMMARY:Game: 11U/2N CHICAGO FC UNITED 2015 PRE-ACADEMY I vs FC LAKE COUNTY
  2015 ELITE
TRANSP:OPAQUE
END:VEVENT
BEGIN:VEVENT
UID:61633232-3438-4530-a363-626433383264
DTSTAMP:20260425T124356Z
CLASS:PUBLIC
DESCRIPTION:YSSL 11U/2N Game
DTSTART;TZID=America/Chicago:20260411T100000
DTEND;TZID=America/Chicago:20260411T100000
LOCATION:ALLEGHANY PARK - AH 4
SUMMARY:Game: 11U/2N FC LAKE COUNTY 2015 ELITE vs REAL MADRID ROUND LAKE FC
   2015  PRE-ACADEMY
TRANSP:OPAQUE
END:VEVENT
BEGIN:VEVENT
UID:64343739-3466-4164-a532-346331393561
DTSTAMP:20260425T124356Z
CLASS:PUBLIC
DESCRIPTION:YSSL 11U/2N Game
DTSTART;TZID=America/Chicago:20260502T163000
DTEND;TZID=America/Chicago:20260502T163000
LOCATION:ALLEGHANY PARK - AH 3
SUMMARY:Game: 11U/2N FC LAKE COUNTY 2015 ELITE vs ELA ELITE 2015
TRANSP:OPAQUE
END:VEVENT
BEGIN:VEVENT
UID:31633333-6534-4335-b730-636531323538
DTSTAMP:20260425T124356Z
CLASS:PUBLIC
DESCRIPTION:YSSL 11U/2N Game
DTSTART;TZID=America/Chicago:20260412T090000
DTEND;TZID=America/Chicago:20260412T090000
LOCATION:ALLEGHANY PARK - AH 3
SUMMARY:Game: 11U/2N FC LAKE COUNTY 2015 ELITE vs RUSH NORTH 2015 PREMIER
TRANSP:OPAQUE
END:VEVENT
BEGIN:VEVENT
UID:64383464-6464-4031-a362-353931653833
DTSTAMP:20260425T124356Z
CLASS:PUBLIC
DESCRIPTION:YSSL 11U/2N Game
DTSTART;TZID=America/Chicago:20260531T150000
DTEND;TZID=America/Chicago:20260531T150000
LOCATION:NORTHCROFT PARK FIELD
SUMMARY:Game: 11U/2N NSFC 2015 ELITE vs FC LAKE COUNTY 2015 ELITE
TRANSP:OPAQUE
END:VEVENT
BEGIN:VEVENT
UID:36393239-3738-4834-b437-333231643561
DTSTAMP:20260425T124356Z
CLASS:PUBLIC
DESCRIPTION:YSSL 11U/2N Game
DTSTART;TZID=America/Chicago:20260605T180000
DTEND;TZID=America/Chicago:20260605T180000
LOCATION:ALLEGHANY PARK - 4
SUMMARY:Game: 11U/2N REAL MADRID ROUND LAKE FC  2015  PRE-ACADEMY vs FC LAK
 E COUNTY 2015 ELITE
TRANSP:OPAQUE
END:VEVENT
BEGIN:VEVENT
UID:63336565-3132-4561-b863-353562626233
DTSTAMP:20260425T124356Z
CLASS:PUBLIC
DESCRIPTION:YSSL 11U/2N Game
DTSTART;TZID=America/Chicago:20260607T090000
DTEND;TZID=America/Chicago:20260607T090000
LOCATION:NORTH PARK FIELDS  - 9V9
SUMMARY:Game: 11U/2N RUSH NORTH 2015 PREMIER vs FC LAKE COUNTY 2015 ELITE
TRANSP:OPAQUE
END:VEVENT
END:VCALENDAR
