BEGIN:VCALENDAR
VERSION:2.0
PRODID:-//yssl.org//NONSGML kigkonsult.se iCalcreator 2.41.92//
CALSCALE:GREGORIAN
METHOD:PUBLISH
UID:65356435-3162-4461-b934-626636643430
X-WR-CALNAME:YSSL Calendar
X-WR-CALDESC:YSSL Calendar
X-WR-TIMEZONE:America/Chicago
BEGIN:VEVENT
UID:62663034-3531-4661-a134-653834336237
DTSTAMP:20260425T031239Z
CLASS:PUBLIC
DESCRIPTION:YSSL 10U/3N Game
DTSTART;TZID=America/Chicago:20260411T133000
DTEND;TZID=America/Chicago:20260411T133000
LOCATION:DEERPATH COMMUNITY PARK (LAKE FOREST) - 7V7
SUMMARY:Game: 10U/3N 60 UNITED - LFSA 2016 BLUE vs FC LAKE COUNTY 2016 SELE
 CT 1
TRANSP:OPAQUE
END:VEVENT
BEGIN:VEVENT
UID:37643739-3265-4537-a633-633632303035
DTSTAMP:20260425T031239Z
CLASS:PUBLIC
DESCRIPTION:YSSL 10U/3N Game
DTSTART;TZID=America/Chicago:20260510T140000
DTEND;TZID=America/Chicago:20260510T140000
LOCATION:ALLEGHANY PARK - AH 2
SUMMARY:Game: 10U/3N FC LAKE COUNTY 2016 SELECT 1 vs IP-NUFC 2016 BLACK
TRANSP:OPAQUE
END:VEVENT
BEGIN:VEVENT
UID:66373562-3935-4663-b437-306566666564
DTSTAMP:20260425T031239Z
CLASS:PUBLIC
DESCRIPTION:YSSL 10U/3N Game
DTSTART;TZID=America/Chicago:20260531T130000
DTEND;TZID=America/Chicago:20260531T130000
LOCATION:ALLEGHANY PARK - AH 2
SUMMARY:Game: 10U/3N FC LAKE COUNTY 2016 SELECT 1 vs FCB 2016 BLACK
TRANSP:OPAQUE
END:VEVENT
BEGIN:VEVENT
UID:62363563-3531-4830-a539-646137646338
DTSTAMP:20260425T031239Z
CLASS:PUBLIC
DESCRIPTION:YSSL 10U/3N Game
DTSTART;TZID=America/Chicago:20260502T160000
DTEND;TZID=America/Chicago:20260502T160000
LOCATION:LIPPOLD PARK SOCCER COMPLEX - FIELD 6
SUMMARY:Game: 10U/3N FORCE 2016B ELITE POOL II vs FC LAKE COUNTY 2016 SELEC
 T 1
TRANSP:OPAQUE
END:VEVENT
BEGIN:VEVENT
UID:33636162-3639-4631-b561-663064326562
DTSTAMP:20260425T031239Z
CLASS:PUBLIC
DESCRIPTION:YSSL 10U/3N Game
DTSTART;TZID=America/Chicago:20260517T103000
DTEND;TZID=America/Chicago:20260517T103000
LOCATION:ALLEGHANY PARK - AH 2
SUMMARY:Game: 10U/3N FC LAKE COUNTY 2016 SELECT 1 vs ELA ELITE 2016
TRANSP:OPAQUE
END:VEVENT
BEGIN:VEVENT
UID:30303739-6339-4364-b565-666136376635
DTSTAMP:20260425T031239Z
CLASS:PUBLIC
DESCRIPTION:YSSL 10U/3N Game
DTSTART;TZID=America/Chicago:20260530T080000
DTEND;TZID=America/Chicago:20260530T080000
LOCATION:WAUKEGAN SPORTS PARK
SUMMARY:Game: 10U/3N NA - TREBOL FC 2016 vs FC LAKE COUNTY 2016 SELECT 1
TRANSP:OPAQUE
END:VEVENT
BEGIN:VEVENT
UID:30613666-3838-4530-a430-383535353065
DTSTAMP:20260425T031239Z
CLASS:PUBLIC
DESCRIPTION:YSSL 10U/3N Game
DTSTART;TZID=America/Chicago:20260606T150000
DTEND;TZID=America/Chicago:20260606T150000
LOCATION:DEER PARK TOWN CENTER - 7V7
SUMMARY:Game: 10U/3N ELA ELITE 2016 vs FC LAKE COUNTY 2016 SELECT 1
TRANSP:OPAQUE
END:VEVENT
BEGIN:VEVENT
UID:31353063-6335-4235-b039-613239656461
DTSTAMP:20260425T031239Z
CLASS:PUBLIC
DESCRIPTION:YSSL 10U/3N Game
DTSTART;TZID=America/Chicago:20260607T170000
DTEND;TZID=America/Chicago:20260607T170000
LOCATION:ALLEGHANY PARK - AH 2
SUMMARY:Game: 10U/3N FC LAKE COUNTY 2016 SELECT 1 vs 60 UNITED - LFSA 2016 
 BLUE
TRANSP:OPAQUE
END:VEVENT
END:VCALENDAR
