BEGIN:VCALENDAR
VERSION:2.0
PRODID:-//yssl.org//NONSGML kigkonsult.se iCalcreator 2.41.92//
CALSCALE:GREGORIAN
METHOD:PUBLISH
UID:65643437-3164-4463-a537-303661363065
X-WR-CALNAME:YSSL Calendar
X-WR-CALDESC:YSSL Calendar
X-WR-TIMEZONE:America/Chicago
BEGIN:VEVENT
UID:61303136-6237-4261-b938-353261343366
DTSTAMP:20260424T145018Z
CLASS:PUBLIC
DESCRIPTION:YSSL 12U/5NW1 Game
DTSTART;TZID=America/Chicago:20260517T180000
DTEND;TZID=America/Chicago:20260517T180000
LOCATION:MCHENRY ATHLETIC COMPLEX  - GRASS FIELD #2 (9V9)
SUMMARY:Game: 12U/5NW1 CHICAGO INFERNO 2014 PREMIER 1 vs FCB 2014 RED
TRANSP:OPAQUE
END:VEVENT
BEGIN:VEVENT
UID:35343065-6537-4335-b438-363230643464
DTSTAMP:20260424T145018Z
CLASS:PUBLIC
DESCRIPTION:YSSL 12U/5NW1 Game
DTSTART;TZID=America/Chicago:20260425T151500
DTEND;TZID=America/Chicago:20260425T151500
LOCATION:RON BEESE PARK - RB 5
SUMMARY:Game: 12U/5NW1 FCB 2014 RED vs ELA ELITE 2014 COMPETITIVE
TRANSP:OPAQUE
END:VEVENT
BEGIN:VEVENT
UID:34313130-3130-4661-b338-636136633266
DTSTAMP:20260424T145018Z
CLASS:PUBLIC
DESCRIPTION:YSSL 12U/5NW1 Game
DTSTART;TZID=America/Chicago:20260501T183000
DTEND;TZID=America/Chicago:20260501T183000
LOCATION:LTSC FLD - FIELD 17A
SUMMARY:Game: 12U/5NW1 LIBERTYVILLE FC 1974-2014C-SELECT 2 vs FCB 2014 RED
TRANSP:OPAQUE
END:VEVENT
BEGIN:VEVENT
UID:35633464-3464-4938-b066-666435363633
DTSTAMP:20260424T145018Z
CLASS:PUBLIC
DESCRIPTION:YSSL 12U/5NW1 Game
DTSTART;TZID=America/Chicago:20260607T110000
DTEND;TZID=America/Chicago:20260607T110000
LOCATION:PRAIRIE WALK PARK
SUMMARY:Game: 12U/5NW1 REAL MADRID ROUND LAKE FC 2014  ELITE vs FCB 2014 RE
 D
TRANSP:OPAQUE
END:VEVENT
BEGIN:VEVENT
UID:35613637-6434-4161-b834-366162626364
DTSTAMP:20260424T145018Z
CLASS:PUBLIC
DESCRIPTION:YSSL 12U/5NW1 Game
DTSTART;TZID=America/Chicago:20260404T103000
DTEND;TZID=America/Chicago:20260404T103000
LOCATION:SOUTH BARRINGTON COMMUNITY PARK - 1
SUMMARY:Game: 12U/5NW1 FCB 2014 RED vs IP-NUFC 2014 ORANGE
TRANSP:OPAQUE
END:VEVENT
BEGIN:VEVENT
UID:64306539-6662-4131-a335-613863373534
DTSTAMP:20260424T145018Z
CLASS:PUBLIC
DESCRIPTION:YSSL 12U/5NW1 Game
DTSTART;TZID=America/Chicago:20260516T151500
DTEND;TZID=America/Chicago:20260516T151500
LOCATION:RON BEESE PARK - RB 5
SUMMARY:Game: 12U/5NW1 FCB 2014 RED vs NA - ROUND LAKE JUNIORS 2014 SILVER
TRANSP:OPAQUE
END:VEVENT
BEGIN:VEVENT
UID:38313933-3638-4237-a437-343763396162
DTSTAMP:20260424T145018Z
CLASS:PUBLIC
DESCRIPTION:YSSL 12U/5NW1 Game
DTSTART;TZID=America/Chicago:20260530T163000
DTEND;TZID=America/Chicago:20260530T163000
LOCATION:PRAIRIE WALK PARK
SUMMARY:Game: 12U/5NW1 NA - ROUND LAKE JUNIORS 2014 SILVER vs FCB 2014 RED
TRANSP:OPAQUE
END:VEVENT
BEGIN:VEVENT
UID:33633864-3937-4563-b733-663939653533
DTSTAMP:20260424T145018Z
CLASS:PUBLIC
DESCRIPTION:YSSL 12U/5NW1 Game
DTSTART;TZID=America/Chicago:20260412T090000
DTEND;TZID=America/Chicago:20260412T090000
LOCATION:RON BEESE PARK - RB 5
SUMMARY:Game: 12U/5NW1 FCB 2014 RED vs FORCE 2014B CL PREMIER
TRANSP:OPAQUE
END:VEVENT
END:VCALENDAR
