BEGIN:VCALENDAR
VERSION:2.0
PRODID:-//yssl.org//NONSGML kigkonsult.se iCalcreator 2.41.92//
CALSCALE:GREGORIAN
METHOD:PUBLISH
UID:33653866-3566-4131-b333-643836646137
X-WR-CALNAME:YSSL Calendar
X-WR-CALDESC:YSSL Calendar
X-WR-TIMEZONE:America/Chicago
BEGIN:VEVENT
UID:33656261-3036-4633-a335-306135666630
DTSTAMP:20260426T043522Z
CLASS:PUBLIC
DESCRIPTION:YSSL 10U/3N Game
DTSTART;TZID=America/Chicago:20260411T090000
DTEND;TZID=America/Chicago:20260411T090000
LOCATION:MCHENRY MIDDLE SCHOOL
SUMMARY:Game: 10U/3N IP-NUFC 2016 BLACK vs FCB 2016 BLACK
TRANSP:OPAQUE
END:VEVENT
BEGIN:VEVENT
UID:33616433-3338-4831-b838-393331633839
DTSTAMP:20260426T043522Z
CLASS:PUBLIC
DESCRIPTION:YSSL 10U/3N Game
DTSTART;TZID=America/Chicago:20260607T110000
DTEND;TZID=America/Chicago:20260607T110000
LOCATION:WAUKEGAN SPORTS PARK
SUMMARY:Game: 10U/3N NA - TREBOL FC 2016 vs FCB 2016 BLACK
TRANSP:OPAQUE
END:VEVENT
BEGIN:VEVENT
UID:35316230-6563-4433-b136-656566303332
DTSTAMP:20260426T043522Z
CLASS:PUBLIC
DESCRIPTION:YSSL 10U/3N Game
DTSTART;TZID=America/Chicago:20260531T130000
DTEND;TZID=America/Chicago:20260531T130000
LOCATION:ALLEGHANY PARK - AH 2
SUMMARY:Game: 10U/3N FC LAKE COUNTY 2016 SELECT 1 vs FCB 2016 BLACK
TRANSP:OPAQUE
END:VEVENT
BEGIN:VEVENT
UID:31333133-3338-4064-a336-316266316434
DTSTAMP:20260426T043522Z
CLASS:PUBLIC
DESCRIPTION:YSSL 10U/3N Game
DTSTART;TZID=America/Chicago:20260509T103000
DTEND;TZID=America/Chicago:20260509T103000
LOCATION:SOUTH BARRINGTON COMMUNITY PARK - SB 1 NORTH
SUMMARY:Game: 10U/3N FCB 2016 BLACK vs NA - TREBOL FC 2016
TRANSP:OPAQUE
END:VEVENT
BEGIN:VEVENT
UID:37356363-3035-4162-b732-306438613761
DTSTAMP:20260426T043522Z
CLASS:PUBLIC
DESCRIPTION:YSSL 10U/3N Game
DTSTART;TZID=America/Chicago:20260606T113000
DTEND;TZID=America/Chicago:20260606T113000
LOCATION:DEERPATH COMMUNITY PARK (LAKE FOREST) - 7V7
SUMMARY:Game: 10U/3N 60 UNITED - LFSA 2016 BLUE vs FCB 2016 BLACK
TRANSP:OPAQUE
END:VEVENT
BEGIN:VEVENT
UID:33653661-3963-4033-b265-303661663034
DTSTAMP:20260426T043522Z
CLASS:PUBLIC
DESCRIPTION:YSSL 10U/3N Game
DTSTART;TZID=America/Chicago:20260530T103000
DTEND;TZID=America/Chicago:20260530T103000
LOCATION:SOUTH BARRINGTON COMMUNITY PARK - SB 1 NORTH
SUMMARY:Game: 10U/3N FCB 2016 BLACK vs FORCE 2016B ELITE POOL II
TRANSP:OPAQUE
END:VEVENT
BEGIN:VEVENT
UID:35643066-3236-4232-b063-376235653066
DTSTAMP:20260426T043522Z
CLASS:PUBLIC
DESCRIPTION:YSSL 10U/3N Game
DTSTART;TZID=America/Chicago:20260404T134500
DTEND;TZID=America/Chicago:20260404T134500
LOCATION:SOUTH BARRINGTON COMMUNITY PARK - SB 1 NORTH
SUMMARY:Game: 10U/3N FCB 2016 BLACK vs 60 UNITED - LFSA 2016 BLUE
TRANSP:OPAQUE
END:VEVENT
BEGIN:VEVENT
UID:63333733-3330-4361-b961-636530306139
DTSTAMP:20260426T043522Z
CLASS:PUBLIC
DESCRIPTION:YSSL 10U/3N Game
DTSTART;TZID=America/Chicago:20260503T090000
DTEND;TZID=America/Chicago:20260503T090000
LOCATION:RON BEESE PARK - RB 3
SUMMARY:Game: 10U/3N FCB 2016 BLACK vs ELA ELITE 2016
TRANSP:OPAQUE
END:VEVENT
END:VCALENDAR
