BEGIN:VCALENDAR
VERSION:2.0
PRODID:-//yssl.org//NONSGML kigkonsult.se iCalcreator 2.41.92//
CALSCALE:GREGORIAN
METHOD:PUBLISH
UID:32323433-6530-4463-a334-373136636434
X-WR-CALNAME:YSSL Calendar
X-WR-CALDESC:YSSL Calendar
X-WR-TIMEZONE:America/Chicago
BEGIN:VEVENT
UID:32646335-3933-4765-a162-663732663831
DTSTAMP:20260425T210729Z
CLASS:PUBLIC
DESCRIPTION:YSSL 7U-4V4/W Game
DTSTART;TZID=America/Chicago:20260404T150000
DTEND;TZID=America/Chicago:20260404T150000
LOCATION:COMMUNITY ATHLETIC FIELDS
SUMMARY:Game: 7U-4V4/W EGSC 2019 PREMIER vs SUFC 2020 NEMEZIZ
TRANSP:OPAQUE
END:VEVENT
BEGIN:VEVENT
UID:62353232-6238-4437-b631-623030366634
DTSTAMP:20260425T210729Z
CLASS:PUBLIC
DESCRIPTION:YSSL 7U-4V4/W Game
DTSTART;TZID=America/Chicago:20260419T090000
DTEND;TZID=America/Chicago:20260419T090000
LOCATION:CORNERSTONE LAKES PARK - A
SUMMARY:Game: 7U-4V4/W WEST CHICAGO FC 2019 vs EGSC 2019 PREMIER
TRANSP:OPAQUE
END:VEVENT
BEGIN:VEVENT
UID:66613762-3931-4062-b036-363539326330
DTSTAMP:20260425T210729Z
CLASS:PUBLIC
DESCRIPTION:YSSL 7U-4V4/W Game
DTSTART;TZID=America/Chicago:20260501T180000
DTEND;TZID=America/Chicago:20260501T180000
LOCATION:CORNERSTONE LAKES PARK
SUMMARY:Game: 7U-4V4/W WC LIONS ACADEMY BOYS 2019/20 vs EGSC 2019 PREMIER
TRANSP:OPAQUE
END:VEVENT
BEGIN:VEVENT
UID:37396565-6432-4566-a161-623064643235
DTSTAMP:20260425T210729Z
CLASS:PUBLIC
DESCRIPTION:YSSL 7U-4V4/W Game
DTSTART;TZID=America/Chicago:20260509T153000
DTEND;TZID=America/Chicago:20260509T153000
LOCATION:COMMUNITY ATHLETIC FIELDS
SUMMARY:Game: 7U-4V4/W EGSC 2019 PREMIER vs CHICAGO INTER SYNERGY 2019/2020
  GREEN
TRANSP:OPAQUE
END:VEVENT
BEGIN:VEVENT
UID:32623662-3930-4432-b761-393365623764
DTSTAMP:20260425T210729Z
CLASS:PUBLIC
DESCRIPTION:YSSL 7U-4V4/W Game
DTSTART;TZID=America/Chicago:20260531T090000
DTEND;TZID=America/Chicago:20260531T090000
LOCATION:COMMUNITY ATHLETIC FIELDS
SUMMARY:Game: 7U-4V4/W EGSC 2019 PREMIER vs CHICAGO EMPIRE FC 2019/2020 GOL
 D
TRANSP:OPAQUE
END:VEVENT
BEGIN:VEVENT
UID:34363332-3564-4462-b566-383462396565
DTSTAMP:20260425T210729Z
CLASS:PUBLIC
DESCRIPTION:YSSL 7U-4V4/W Game
DTSTART;TZID=America/Chicago:20260607T090000
DTEND;TZID=America/Chicago:20260607T090000
LOCATION:COMMUNITY ATHLETIC FIELDS
SUMMARY:Game: 7U-4V4/W EGSC 2019 PREMIER vs WEST CHICAGO FC 2019
TRANSP:OPAQUE
END:VEVENT
BEGIN:VEVENT
UID:39643530-3837-4533-b432-343538383834
DTSTAMP:20260425T210729Z
CLASS:PUBLIC
DESCRIPTION:YSSL 7U-4V4/W Game
DTSTART;TZID=America/Chicago:20260418T110000
DTEND;TZID=America/Chicago:20260418T110000
LOCATION:COMMUNITY ATHLETIC FIELDS
SUMMARY:Game: 7U-4V4/W EGSC 2019 PREMIER vs CHICAGO CITY PUMAS 2019
TRANSP:OPAQUE
END:VEVENT
BEGIN:VEVENT
UID:30396364-3233-4830-b136-316633613038
DTSTAMP:20260425T210729Z
CLASS:PUBLIC
DESCRIPTION:YSSL 7U-4V4/W Game
DTSTART;TZID=America/Chicago:20260605T173000
DTEND;TZID=America/Chicago:20260605T173000
LOCATION:OAK BROOK POLO FIELDS - I 5V5
SUMMARY:Game: 7U-4V4/W CHICAGO EMPIRE FC 2019 WHITE vs EGSC 2019 PREMIER
TRANSP:OPAQUE
END:VEVENT
END:VCALENDAR
